BEGIN:VCALENDAR
VERSION:2.0
PRODID:-//Visit Oxford MS - ECPv6.7.0//NONSGML v1.0//EN
CALSCALE:GREGORIAN
METHOD:PUBLISH
X-ORIGINAL-URL:http://www.visitoxfordms.com.cft1.a2hosted.com
X-WR-CALDESC:Events for Visit Oxford MS
REFRESH-INTERVAL;VALUE=DURATION:PT1H
X-Robots-Tag:noindex
X-PUBLISHED-TTL:PT1H
BEGIN:VTIMEZONE
TZID:America/Chicago
BEGIN:DAYLIGHT
TZOFFSETFROM:-0600
TZOFFSETTO:-0500
TZNAME:CDT
DTSTART:20240310T080000
END:DAYLIGHT
BEGIN:STANDARD
TZOFFSETFROM:-0500
TZOFFSETTO:-0600
TZNAME:CST
DTSTART:20241103T070000
END:STANDARD
END:VTIMEZONE
BEGIN:VEVENT
DTSTART;TZID=America/Chicago:20240217T120000
DTEND;TZID=America/Chicago:20240217T160000
DTSTAMP:20260423T033033
CREATED:20231216T013234Z
LAST-MODIFIED:20240201T172112Z
UID:10000312-1708171200-1708185600@www.visitoxfordms.com.cft1.a2hosted.com
SUMMARY:MLK Day of Service
DESCRIPTION:The UM Center for Community Engagement is hosting this year’s MLK Day of Service. On this day\, students\, faculty\, and staff will join forces alongside community members as voluntary participants in service projects throughout the Oxford/Lafayette area. Through active participation in the community and intentional relationship building\, the MLK Day of Service seeks to continue Rev. Dr. King’s legacy of love\, service\, and community.
URL:http://www.visitoxfordms.com.cft1.a2hosted.com/event/mlk-day-of-service/
LOCATION:Jackson Avenue Center\, 1111 West Jackson Avenue\, Oxford\, MS\, 38655\, United States
GEO:34.3713119;-89.5469623
X-APPLE-STRUCTURED-LOCATION;VALUE=URI;X-ADDRESS=Jackson Avenue Center 1111 West Jackson Avenue Oxford MS 38655 United States;X-APPLE-RADIUS=500;X-TITLE=1111 West Jackson Avenue:geo:-89.5469623,34.3713119
END:VEVENT
END:VCALENDAR