BEGIN:VCALENDAR
VERSION:2.0
PRODID:-//Visit Oxford MS - ECPv6.7.0//NONSGML v1.0//EN
CALSCALE:GREGORIAN
METHOD:PUBLISH
X-WR-CALNAME:Visit Oxford MS
X-ORIGINAL-URL:http://www.visitoxfordms.com.cft1.a2hosted.com
X-WR-CALDESC:Events for Visit Oxford MS
REFRESH-INTERVAL;VALUE=DURATION:PT1H
X-Robots-Tag:noindex
X-PUBLISHED-TTL:PT1H
BEGIN:VTIMEZONE
TZID:America/Chicago
BEGIN:DAYLIGHT
TZOFFSETFROM:-0600
TZOFFSETTO:-0500
TZNAME:CDT
DTSTART:20240310T080000
END:DAYLIGHT
BEGIN:STANDARD
TZOFFSETFROM:-0500
TZOFFSETTO:-0600
TZNAME:CST
DTSTART:20241103T070000
END:STANDARD
END:VTIMEZONE
BEGIN:VEVENT
DTSTART;TZID=America/Chicago:20240419T180000
DTEND;TZID=America/Chicago:20240419T180000
DTSTAMP:20260419T123018
CREATED:20240325T203348Z
LAST-MODIFIED:20240325T203348Z
UID:10000138-1713549600-1713549600@www.visitoxfordms.com.cft1.a2hosted.com
SUMMARY:Magnolia State Cannabis Cup
DESCRIPTION:
URL:http://www.visitoxfordms.com.cft1.a2hosted.com/event/magnolia-state-cannabis-cup/
LOCATION:Courtyard by Marriott\, 305 Jackson Avenue East\, Oxford\, MS\, 38655\, United States
CATEGORIES:Music
GEO:34.3683719;-89.5281288
X-APPLE-STRUCTURED-LOCATION;VALUE=URI;X-ADDRESS=Courtyard by Marriott 305 Jackson Avenue East Oxford MS 38655 United States;X-APPLE-RADIUS=500;X-TITLE=305 Jackson Avenue East:geo:-89.5281288,34.3683719
END:VEVENT
END:VCALENDAR