BEGIN:VCALENDAR
VERSION:2.0
PRODID:-//Visit Oxford MS - ECPv6.7.0//NONSGML v1.0//EN
CALSCALE:GREGORIAN
METHOD:PUBLISH
X-WR-CALNAME:Visit Oxford MS
X-ORIGINAL-URL:http://www.visitoxfordms.com.cft1.a2hosted.com
X-WR-CALDESC:Events for Visit Oxford MS
REFRESH-INTERVAL;VALUE=DURATION:PT1H
X-Robots-Tag:noindex
X-PUBLISHED-TTL:PT1H
BEGIN:VTIMEZONE
TZID:America/Chicago
BEGIN:DAYLIGHT
TZOFFSETFROM:-0600
TZOFFSETTO:-0500
TZNAME:CDT
DTSTART:20240310T080000
END:DAYLIGHT
BEGIN:STANDARD
TZOFFSETFROM:-0500
TZOFFSETTO:-0600
TZNAME:CST
DTSTART:20241103T070000
END:STANDARD
END:VTIMEZONE
BEGIN:VEVENT
DTSTART;TZID=America/Chicago:20241017T170000
DTEND;TZID=America/Chicago:20241017T190000
DTSTAMP:20260425T202224
CREATED:20240826T172657Z
LAST-MODIFIED:20240826T172657Z
UID:10000450-1729184400-1729191600@www.visitoxfordms.com.cft1.a2hosted.com
SUMMARY:City of Oxford Trunk or Treat
DESCRIPTION:
URL:http://www.visitoxfordms.com.cft1.a2hosted.com/event/city-of-oxford-trunk-or-treat/
LOCATION:Oxford Conference Center\, 102 Ed Perry Blvd\, Oxford\, MS\, 38655\, United States
CATEGORIES:Family Friendly,Holiday,Outdoor
ATTACH;FMTTYPE=image/png:http://visit-oxford.s3.amazonaws.com/wp-content/uploads/2024/08/26122509/Trunk-or-Treat-2024.png
GEO:34.3715376;-89.499527
X-APPLE-STRUCTURED-LOCATION;VALUE=URI;X-ADDRESS=Oxford Conference Center 102 Ed Perry Blvd Oxford MS 38655 United States;X-APPLE-RADIUS=500;X-TITLE=102 Ed Perry Blvd:geo:-89.499527,34.3715376
END:VEVENT
BEGIN:VEVENT
DTSTART;TZID=America/Chicago:20241017T170000
DTEND;TZID=America/Chicago:20241017T183000
DTSTAMP:20260425T202224
CREATED:20240926T152355Z
LAST-MODIFIED:20241002T202824Z
UID:10000521-1729184400-1729189800@www.visitoxfordms.com.cft1.a2hosted.com
SUMMARY:Tabletop Garden Workshop
DESCRIPTION:An exclusive workshop with professional container gardener and landscape designer\, Kristina May! A chance to enjoy an unforgettable evening of creativity\, wine\, and snacks while learning to brighten up your winter with the magic of bulb forcing.
URL:http://www.visitoxfordms.com.cft1.a2hosted.com/event/tabletop-garden-workshop/
LOCATION:Chicory Market\, 707 North Lamar\, Oxford\, MS\, 38655
ATTACH;FMTTYPE=image/png:http://visit-oxford.s3.amazonaws.com/wp-content/uploads/2024/09/26102344/Screenshot-2024-09-26-at-10.23.35-AM.png
GEO:34.3900055;-89.5076192
X-APPLE-STRUCTURED-LOCATION;VALUE=URI;X-ADDRESS=Chicory Market 707 North Lamar Oxford MS 38655;X-APPLE-RADIUS=500;X-TITLE=707 North Lamar:geo:-89.5076192,34.3900055
END:VEVENT
BEGIN:VEVENT
DTSTART;TZID=America/Chicago:20241015T193000
DTEND;TZID=America/Chicago:20241015T193000
DTSTAMP:20260425T202224
CREATED:20240910T150026Z
LAST-MODIFIED:20240910T164721Z
UID:10000470-1729020600-1729020600@www.visitoxfordms.com.cft1.a2hosted.com
SUMMARY:UM Faculty Chamber Recital | Dr. Yoojung Kim
DESCRIPTION:
URL:http://www.visitoxfordms.com.cft1.a2hosted.com/event/university-of-mississippi-faculty-recital-2/
LOCATION:David H. Nutt Auditorium\, Oxford\, MS\, 38655
CATEGORIES:Music,Performing Arts
ATTACH;FMTTYPE=image/jpeg:http://visit-oxford.s3.amazonaws.com/wp-content/uploads/2024/09/10092704/2cc93ad0036ed08a0b2878dde986f73867a35926.jpg
GEO:34.3664951;-89.5192484
END:VEVENT
BEGIN:VEVENT
DTSTART;TZID=America/Chicago:20241015T173000
DTEND;TZID=America/Chicago:20241015T193000
DTSTAMP:20260425T202224
CREATED:20241007T161859Z
LAST-MODIFIED:20241015T141839Z
UID:10000547-1729013400-1729020600@www.visitoxfordms.com.cft1.a2hosted.com
SUMMARY:C.H. Hooks in conversation with John T. Edge for Can't Shake the Dust
DESCRIPTION:Buckle up for a high-octane ride through the South’s shadowed heart. Author C.H. Hooks in conversation with John T. Edge for Can’t Shake the Dust\, a Southern coming-of-age novel set in the strip malls and racing circuits of south Georgia.
URL:http://www.visitoxfordms.com.cft1.a2hosted.com/event/c-h-hooks-in-conversation-with-john-t-edge-for-cant-shake-the-dust/
LOCATION:Off Square Books\, 129 Courthouse Square\, Oxford\, MS\, 38655\, United States
CATEGORIES:Free,Literature
ATTACH;FMTTYPE=image/png:http://visit-oxford.s3.amazonaws.com/wp-content/uploads/2024/10/15091828/Screenshot-2024-10-15-at-9.18.19-AM.png
GEO:34.3656558;-89.5183482
X-APPLE-STRUCTURED-LOCATION;VALUE=URI;X-ADDRESS=Off Square Books 129 Courthouse Square Oxford MS 38655 United States;X-APPLE-RADIUS=500;X-TITLE=129 Courthouse Square:geo:-89.5183482,34.3656558
END:VEVENT
BEGIN:VEVENT
DTSTART;TZID=America/Chicago:20241014T193000
DTEND;TZID=America/Chicago:20241014T193000
DTSTAMP:20260425T202224
CREATED:20240910T145851Z
LAST-MODIFIED:20240910T164748Z
UID:10000469-1728934200-1728934200@www.visitoxfordms.com.cft1.a2hosted.com
SUMMARY:UM Saxophone Studio Recital
DESCRIPTION:
URL:http://www.visitoxfordms.com.cft1.a2hosted.com/event/university-of-mississippi-saxophone-studio-recital/
LOCATION:David H. Nutt Auditorium\, Oxford\, MS\, 38655
CATEGORIES:Music,Performing Arts
ATTACH;FMTTYPE=image/jpeg:http://visit-oxford.s3.amazonaws.com/wp-content/uploads/2024/09/10094358/pexels-rucasouza-1049690-scaled.jpg
GEO:34.3664951;-89.5192484
END:VEVENT
BEGIN:VEVENT
DTSTART;TZID=America/Chicago:20241014T090000
DTEND;TZID=America/Chicago:20241014T090000
DTSTAMP:20260425T202224
CREATED:20240820T164430Z
LAST-MODIFIED:20240820T164430Z
UID:10000216-1728896400-1728896400@www.visitoxfordms.com.cft1.a2hosted.com
SUMMARY:Chamber of Commerce Golf Classic
DESCRIPTION:
URL:http://www.visitoxfordms.com.cft1.a2hosted.com/event/chamber-of-commerce-golf-classic/
LOCATION:Country Club of Oxford\, 300 Pinehurst Cove\, Oxford\, MS\, 38655\, United States
CATEGORIES:Outdoor,Sports
ATTACH;FMTTYPE=image/png:http://visit-oxford.s3.amazonaws.com/wp-content/uploads/2024/08/20114158/eec25826-c9c2-4a22-98f1-3aa1e49a343d.png
GEO:34.3345477;-89.502874
X-APPLE-STRUCTURED-LOCATION;VALUE=URI;X-ADDRESS=Country Club of Oxford 300 Pinehurst Cove Oxford MS 38655 United States;X-APPLE-RADIUS=500;X-TITLE=300 Pinehurst Cove:geo:-89.502874,34.3345477
END:VEVENT
BEGIN:VEVENT
DTSTART;TZID=America/Chicago:20241013T180000
DTEND;TZID=America/Chicago:20241013T180000
DTSTAMP:20260425T202224
CREATED:20240926T162905Z
LAST-MODIFIED:20240926T162905Z
UID:10000525-1728842400-1728842400@www.visitoxfordms.com.cft1.a2hosted.com
SUMMARY:American Aquarium
DESCRIPTION:Folk – Doors open at 5:00 p.m.
URL:http://www.visitoxfordms.com.cft1.a2hosted.com/event/american-aquarium/
LOCATION:Proud Larry’s\, Oxford\, MS\, MS\, United States
CATEGORIES:Music
ATTACH;FMTTYPE=image/png:http://visit-oxford.s3.amazonaws.com/wp-content/uploads/2024/09/26112856/Screenshot-2024-09-26-at-11.28.49-AM.png
GEO:34.3664951;-89.5192484
END:VEVENT
BEGIN:VEVENT
DTSTART;TZID=America/Chicago:20241013T153000
DTEND;TZID=America/Chicago:20241013T170000
DTSTAMP:20260425T202224
CREATED:20240820T163501Z
LAST-MODIFIED:20240820T163501Z
UID:10000192-1728833400-1728838800@www.visitoxfordms.com.cft1.a2hosted.com
SUMMARY:Oxford on Skates
DESCRIPTION:
URL:http://www.visitoxfordms.com.cft1.a2hosted.com/event/oxford-on-skates-9/
LOCATION:Old Armory Pavilion\, 1801 University Avenue\, Oxford\, MS\, 38655\, United States
CATEGORIES:Family Friendly,Free,Outdoor
ATTACH;FMTTYPE=image/png:http://visit-oxford.s3.amazonaws.com/wp-content/uploads/2024/08/20113454/fb324ade7dd0ea98bb71bc695f4db1c4-1.png
GEO:34.3628616;-89.5108765
X-APPLE-STRUCTURED-LOCATION;VALUE=URI;X-ADDRESS=Old Armory Pavilion 1801 University Avenue Oxford MS 38655 United States;X-APPLE-RADIUS=500;X-TITLE=1801 University Avenue:geo:-89.5108765,34.3628616
END:VEVENT
BEGIN:VEVENT
DTSTART;TZID=America/Chicago:20241013T140000
DTEND;TZID=America/Chicago:20241013T140000
DTSTAMP:20260425T202224
CREATED:20241001T144731Z
LAST-MODIFIED:20241001T144731Z
UID:10000532-1728828000-1728828000@www.visitoxfordms.com.cft1.a2hosted.com
SUMMARY:Ole Miss Soccer vs. South Carolina
DESCRIPTION:
URL:http://www.visitoxfordms.com.cft1.a2hosted.com/event/ole-miss-soccer-vs-south-carolina/
LOCATION:Ole Miss Soccer Stadium\, 960 Hathorn Road\, Oxford\, MS\, 38655\, United States
CATEGORIES:Sports
ATTACH;FMTTYPE=image/png:http://visit-oxford.s3.amazonaws.com/wp-content/uploads/2024/10/01094718/Screenshot-2024-10-01-at-9.46.57-AM.png
GEO:34.3590376;-89.5444877
X-APPLE-STRUCTURED-LOCATION;VALUE=URI;X-ADDRESS=Ole Miss Soccer Stadium 960 Hathorn Road Oxford MS 38655 United States;X-APPLE-RADIUS=500;X-TITLE=960 Hathorn Road:geo:-89.5444877,34.3590376
END:VEVENT
BEGIN:VEVENT
DTSTART;TZID=America/Chicago:20241012T213000
DTEND;TZID=America/Chicago:20241012T213000
DTSTAMP:20260425T202224
CREATED:20240926T162719Z
LAST-MODIFIED:20240926T162719Z
UID:10000524-1728768600-1728768600@www.visitoxfordms.com.cft1.a2hosted.com
SUMMARY:Hartle Road
DESCRIPTION:Alternative
URL:http://www.visitoxfordms.com.cft1.a2hosted.com/event/hartle-road/
LOCATION:Proud Larry’s\, Oxford\, MS\, MS\, United States
CATEGORIES:Music
ATTACH;FMTTYPE=image/png:http://visit-oxford.s3.amazonaws.com/wp-content/uploads/2024/09/26112709/Screenshot-2024-09-26-at-11.27.00-AM.png
GEO:34.3664951;-89.5192484
END:VEVENT
BEGIN:VEVENT
DTSTART;TZID=America/Chicago:20241011T130000
DTEND;TZID=America/Chicago:20241011T130000
DTSTAMP:20260425T202224
CREATED:20240910T145623Z
LAST-MODIFIED:20240910T164810Z
UID:10000468-1728651600-1728651600@www.visitoxfordms.com.cft1.a2hosted.com
SUMMARY:LMR Live! With Guest Julie Williams
DESCRIPTION:
URL:http://www.visitoxfordms.com.cft1.a2hosted.com/event/living-music-resource-live/
LOCATION:David H. Nutt Auditorium\, Oxford\, MS\, 38655
CATEGORIES:Music,Performing Arts
ATTACH;FMTTYPE=image/jpeg:http://visit-oxford.s3.amazonaws.com/wp-content/uploads/2024/09/10102756/LMR-Live-640x419-1-e1725982104863.jpg
GEO:34.3664951;-89.5192484
END:VEVENT
BEGIN:VEVENT
DTSTART;TZID=America/Chicago:20241010T193000
DTEND;TZID=America/Chicago:20241010T193000
DTSTAMP:20260425T202224
CREATED:20240910T145049Z
LAST-MODIFIED:20240910T163145Z
UID:10000467-1728588600-1728588600@www.visitoxfordms.com.cft1.a2hosted.com
SUMMARY:UM Wind Ensemble Concert
DESCRIPTION:
URL:http://www.visitoxfordms.com.cft1.a2hosted.com/event/university-of-mississippi-wind-ensemble-concert/
LOCATION:Gertrude Castellow Ford Center for the Performing Arts\, 351 University Ave.\, Oxford\, MS\, 38655\, United States
ATTACH;FMTTYPE=image/jpeg:http://visit-oxford.s3.amazonaws.com/wp-content/uploads/2024/09/10092704/2cc93ad0036ed08a0b2878dde986f73867a35926.jpg
GEO:34.3654343;-89.5288993
X-APPLE-STRUCTURED-LOCATION;VALUE=URI;X-ADDRESS=Gertrude Castellow Ford Center for the Performing Arts 351 University Ave. Oxford MS 38655 United States;X-APPLE-RADIUS=500;X-TITLE=351 University Ave.:geo:-89.5288993,34.3654343
END:VEVENT
BEGIN:VEVENT
DTSTART;TZID=America/Chicago:20241010T190000
DTEND;TZID=America/Chicago:20241010T190000
DTSTAMP:20260425T202224
CREATED:20240731T161741Z
LAST-MODIFIED:20240731T161741Z
UID:10000423-1728586800-1728586800@www.visitoxfordms.com.cft1.a2hosted.com
SUMMARY:49 Winchester
DESCRIPTION:
URL:http://www.visitoxfordms.com.cft1.a2hosted.com/event/49-winchester/
LOCATION:The Lyric\, 1006 Van Buren \, Oxford\, MS\, 38655\, United States
CATEGORIES:Music
ATTACH;FMTTYPE=image/webp:http://visit-oxford.s3.amazonaws.com/wp-content/uploads/2024/07/31111730/eyJidWNrZXQiOiJwcm9kLXNpaC5zZWV0aWNrZXRzdXNhLnVzIiwia2V5IjoiZDBmNjY2ZTAtYmZmMC00MmVjLTgzNDAtMzUzYWNjNWE4NDM2IiwiZWRpdHMiOnt9fQ.webp
GEO:34.3662931;-89.5209192
X-APPLE-STRUCTURED-LOCATION;VALUE=URI;X-ADDRESS=The Lyric 1006 Van Buren  Oxford MS 38655 United States;X-APPLE-RADIUS=500;X-TITLE=1006 Van Buren:geo:-89.5209192,34.3662931
END:VEVENT
BEGIN:VEVENT
DTSTART;TZID=America/Chicago:20241010T180000
DTEND;TZID=America/Chicago:20241010T200000
DTSTAMP:20260425T202224
CREATED:20241007T161502Z
LAST-MODIFIED:20241008T142522Z
UID:10000546-1728583200-1728590400@www.visitoxfordms.com.cft1.a2hosted.com
SUMMARY:Thacker Mountain Radio Hour - M.L. Rio for Graveyard Shift
DESCRIPTION:Dark academia queen M.L. Rio\, for Graveyard Shift\, a gothic novella perfect for spooky season.
URL:http://www.visitoxfordms.com.cft1.a2hosted.com/event/thacker-mountain-radio-hour-m-l-rio-for-graveyard-shift/
LOCATION:Off Square Books\, 129 Courthouse Square\, Oxford\, MS\, 38655\, United States
CATEGORIES:Free,Literature
ATTACH;FMTTYPE=image/png:http://visit-oxford.s3.amazonaws.com/wp-content/uploads/2024/10/08092512/Screenshot-2024-10-08-at-9.25.02-AM.png
GEO:34.3656558;-89.5183482
X-APPLE-STRUCTURED-LOCATION;VALUE=URI;X-ADDRESS=Off Square Books 129 Courthouse Square Oxford MS 38655 United States;X-APPLE-RADIUS=500;X-TITLE=129 Courthouse Square:geo:-89.5183482,34.3656558
END:VEVENT
BEGIN:VEVENT
DTSTART;TZID=America/Chicago:20241010T170000
DTEND;TZID=America/Chicago:20241010T200000
DTSTAMP:20260425T202224
CREATED:20241008T142033Z
LAST-MODIFIED:20241008T142033Z
UID:10000556-1728579600-1728590400@www.visitoxfordms.com.cft1.a2hosted.com
SUMMARY:Opening Reception of Mudlarkings by Blair Hobbs
DESCRIPTION:
URL:http://www.visitoxfordms.com.cft1.a2hosted.com/event/opening-reception-of-mudlarkings-by-blair-hobbs/
LOCATION:Southside Gallery\, 150 Courthouse Square\, Oxford\, MS\, 38655\, United States
CATEGORIES:Art
ATTACH;FMTTYPE=image/png:http://visit-oxford.s3.amazonaws.com/wp-content/uploads/2024/10/08092020/Screenshot-2024-10-08-at-9.20.12-AM.png
GEO:34.3664649;-89.5192246
X-APPLE-STRUCTURED-LOCATION;VALUE=URI;X-ADDRESS=Southside Gallery 150 Courthouse Square Oxford MS 38655 United States;X-APPLE-RADIUS=500;X-TITLE=150 Courthouse Square:geo:-89.5192246,34.3664649
END:VEVENT
BEGIN:VEVENT
DTSTART;TZID=America/Chicago:20241009T210000
DTEND;TZID=America/Chicago:20241009T210000
DTSTAMP:20260425T202224
CREATED:20240926T162525Z
LAST-MODIFIED:20240926T162525Z
UID:10000523-1728507600-1728507600@www.visitoxfordms.com.cft1.a2hosted.com
SUMMARY:Hotel Fiction with Golden Teacher Society
DESCRIPTION:Alternative
URL:http://www.visitoxfordms.com.cft1.a2hosted.com/event/hotel-fiction-with-golden-teacher-society/
LOCATION:Proud Larry’s\, Oxford\, MS\, MS\, United States
CATEGORIES:Music
ATTACH;FMTTYPE=image/png:http://visit-oxford.s3.amazonaws.com/wp-content/uploads/2024/09/26112500/Screenshot-2024-09-26-at-11.24.53-AM.png
GEO:34.3664951;-89.5192484
END:VEVENT
BEGIN:VEVENT
DTSTART;TZID=America/Chicago:20241009T193000
DTEND;TZID=America/Chicago:20241009T193000
DTSTAMP:20260425T202224
CREATED:20240910T144805Z
LAST-MODIFIED:20240910T164836Z
UID:10000466-1728502200-1728502200@www.visitoxfordms.com.cft1.a2hosted.com
SUMMARY:UM Songwriter Master Class | Julie Williams
DESCRIPTION:
URL:http://www.visitoxfordms.com.cft1.a2hosted.com/event/university-of-mississippi-songwriter-master-class/
LOCATION:David H. Nutt Auditorium\, Oxford\, MS\, 38655
CATEGORIES:Music,Performing Arts
ATTACH;FMTTYPE=image/jpeg:http://visit-oxford.s3.amazonaws.com/wp-content/uploads/2024/09/10094743/pexels-tima-miroshnichenko-6670750-scaled.jpg
GEO:34.3664951;-89.5192484
END:VEVENT
BEGIN:VEVENT
DTSTART;TZID=America/Chicago:20241009T183000
DTEND;TZID=America/Chicago:20241009T193000
DTSTAMP:20260425T202224
CREATED:20240920T174414Z
LAST-MODIFIED:20240920T174414Z
UID:10000508-1728498600-1728502200@www.visitoxfordms.com.cft1.a2hosted.com
SUMMARY:OLE MISS VOLLEYBALL VS. TEXAS A&M
DESCRIPTION:
URL:http://www.visitoxfordms.com.cft1.a2hosted.com/event/ole-miss-volleyball-vs-texas-am/
LOCATION:Gillom Athletics Performance Center\, 908 All-American Drive\, University\, MS\, 38677\, United States
ATTACH;FMTTYPE=image/png:http://visit-oxford.s3.amazonaws.com/wp-content/uploads/2024/09/20124350/Screenshot-2024-09-20-at-12.43.39-PM.png
GEO:34.3636908;-89.5353158
X-APPLE-STRUCTURED-LOCATION;VALUE=URI;X-ADDRESS=Gillom Athletics Performance Center 908 All-American Drive University MS 38677 United States;X-APPLE-RADIUS=500;X-TITLE=908 All-American Drive:geo:-89.5353158,34.3636908
END:VEVENT
BEGIN:VEVENT
DTSTART;TZID=America/Chicago:20241009T160000
DTEND;TZID=America/Chicago:20241009T173000
DTSTAMP:20260425T202224
CREATED:20240926T152035Z
LAST-MODIFIED:20240926T152035Z
UID:10000520-1728489600-1728495000@www.visitoxfordms.com.cft1.a2hosted.com
SUMMARY:Tasting Club: Potato Chips!
DESCRIPTION:Taste test several varieties of a Chicory product\, this month being potato chip flavors. Customers will be able to write product reviews which will be hung in store.
URL:http://www.visitoxfordms.com.cft1.a2hosted.com/event/tasting-club-potato-chips/
LOCATION:Chicory Market\, 707 North Lamar\, Oxford\, MS\, 38655
CATEGORIES:Culinary
ATTACH;FMTTYPE=image/png:http://visit-oxford.s3.amazonaws.com/wp-content/uploads/2024/09/26102022/Screenshot-2024-09-26-at-10.20.15-AM.png
GEO:34.3900055;-89.5076192
X-APPLE-STRUCTURED-LOCATION;VALUE=URI;X-ADDRESS=Chicory Market 707 North Lamar Oxford MS 38655;X-APPLE-RADIUS=500;X-TITLE=707 North Lamar:geo:-89.5076192,34.3900055
END:VEVENT
BEGIN:VEVENT
DTSTART;TZID=America/Chicago:20241006T143000
DTEND;TZID=America/Chicago:20241006T143000
DTSTAMP:20260425T202224
CREATED:20240920T174220Z
LAST-MODIFIED:20240926T160556Z
UID:10000507-1728225000-1728225000@www.visitoxfordms.com.cft1.a2hosted.com
SUMMARY:OLE MISS VOLLEYBALL VS. LSU
DESCRIPTION:
URL:http://www.visitoxfordms.com.cft1.a2hosted.com/event/ole-miss-volleyball-vs-lsu/
LOCATION:Gillom Athletics Performance Center\, 908 All-American Drive\, University\, MS\, 38677\, United States
CATEGORIES:Sports
ATTACH;FMTTYPE=image/png:http://visit-oxford.s3.amazonaws.com/wp-content/uploads/2024/09/20124131/Screenshot-2024-09-20-at-12.41.20-PM.png
GEO:34.3636908;-89.5353158
X-APPLE-STRUCTURED-LOCATION;VALUE=URI;X-ADDRESS=Gillom Athletics Performance Center 908 All-American Drive University MS 38677 United States;X-APPLE-RADIUS=500;X-TITLE=908 All-American Drive:geo:-89.5353158,34.3636908
END:VEVENT
BEGIN:VEVENT
DTSTART;TZID=America/Chicago:20241005T170000
DTEND;TZID=America/Chicago:20241005T210000
DTSTAMP:20260425T202224
CREATED:20241002T150956Z
LAST-MODIFIED:20241002T155608Z
UID:10000541-1728147600-1728162000@www.visitoxfordms.com.cft1.a2hosted.com
SUMMARY:The One Night Stand at The Ole Miss Motel
DESCRIPTION:
URL:http://www.visitoxfordms.com.cft1.a2hosted.com/event/the-one-stand-at-the-ole-miss-motel/
LOCATION:Ole Miss Motel\, 1517 University Ave. \, Oxford\, MS\, 38655\, United States
CATEGORIES:Art
ATTACH;FMTTYPE=image/png:http://visit-oxford.s3.amazonaws.com/wp-content/uploads/2024/10/02100607/CB9B0696-72F3-46EE-8A3F-8E66AD0EE8C62.png
GEO:34.3635404;-89.5155131
X-APPLE-STRUCTURED-LOCATION;VALUE=URI;X-ADDRESS=Ole Miss Motel 1517 University Ave.  Oxford MS 38655 United States;X-APPLE-RADIUS=500;X-TITLE=1517 University Ave.:geo:-89.5155131,34.3635404
END:VEVENT
BEGIN:VEVENT
DTSTART;TZID=America/Chicago:20241005T170000
DTEND;TZID=America/Chicago:20241005T183000
DTSTAMP:20260425T202224
CREATED:20240926T151426Z
LAST-MODIFIED:20240926T152959Z
UID:10000519-1728147600-1728153000@www.visitoxfordms.com.cft1.a2hosted.com
SUMMARY:Biscuit Making Class
DESCRIPTION:The chance to make and bake a box of homemade biscuits with a professional baker!
URL:http://www.visitoxfordms.com.cft1.a2hosted.com/event/biscuit-class/
LOCATION:Chicory Market\, 707 North Lamar\, Oxford\, MS\, 38655
ATTACH;FMTTYPE=image/png:http://visit-oxford.s3.amazonaws.com/wp-content/uploads/2024/09/26101300/Screenshot-2024-09-26-at-10.12.53-AM.png
GEO:34.3900055;-89.5076192
X-APPLE-STRUCTURED-LOCATION;VALUE=URI;X-ADDRESS=Chicory Market 707 North Lamar Oxford MS 38655;X-APPLE-RADIUS=500;X-TITLE=707 North Lamar:geo:-89.5076192,34.3900055
END:VEVENT
BEGIN:VEVENT
DTSTART;TZID=America/Chicago:20241004T210000
DTEND;TZID=America/Chicago:20241004T210000
DTSTAMP:20260425T202224
CREATED:20240821T183717Z
LAST-MODIFIED:20240821T183729Z
UID:10000448-1728075600-1728075600@www.visitoxfordms.com.cft1.a2hosted.com
SUMMARY:Slaughter Beach\, Dog
DESCRIPTION:
URL:http://www.visitoxfordms.com.cft1.a2hosted.com/event/slaughter-beach-dog/
LOCATION:Proud Larry’s\, Oxford\, MS\, MS\, United States
CATEGORIES:Music
ATTACH;FMTTYPE=image/jpeg:http://visit-oxford.s3.amazonaws.com/wp-content/uploads/2024/08/21133659/IMG_4729.jpeg
GEO:34.3664951;-89.5192484
END:VEVENT
BEGIN:VEVENT
DTSTART;TZID=America/Chicago:20241004T190000
DTEND;TZID=America/Chicago:20241004T190000
DTSTAMP:20260425T202224
CREATED:20241001T144506Z
LAST-MODIFIED:20241001T144506Z
UID:10000531-1728068400-1728068400@www.visitoxfordms.com.cft1.a2hosted.com
SUMMARY:Ole Miss Soccer vs. Texas A&M
DESCRIPTION:
URL:http://www.visitoxfordms.com.cft1.a2hosted.com/event/ole-miss-soccer-vs-texas-am/
LOCATION:Ole Miss Soccer Stadium\, 960 Hathorn Road\, Oxford\, MS\, 38655\, United States
CATEGORIES:Sports
ATTACH;FMTTYPE=image/png:http://visit-oxford.s3.amazonaws.com/wp-content/uploads/2024/10/01094450/Screenshot-2024-10-01-at-9.44.42-AM.png
GEO:34.3590376;-89.5444877
X-APPLE-STRUCTURED-LOCATION;VALUE=URI;X-ADDRESS=Ole Miss Soccer Stadium 960 Hathorn Road Oxford MS 38655 United States;X-APPLE-RADIUS=500;X-TITLE=960 Hathorn Road:geo:-89.5444877,34.3590376
END:VEVENT
BEGIN:VEVENT
DTSTART;TZID=America/Chicago:20241004T183000
DTEND;TZID=America/Chicago:20241004T193000
DTSTAMP:20260425T202224
CREATED:20240920T173936Z
LAST-MODIFIED:20240920T173936Z
UID:10000506-1728066600-1728070200@www.visitoxfordms.com.cft1.a2hosted.com
SUMMARY:OLE MISS VOLLEYBALL VS. TENNESSEE
DESCRIPTION:
URL:http://www.visitoxfordms.com.cft1.a2hosted.com/event/ole-miss-volleyball-vs-tennessee/
LOCATION:Gillom Athletics Performance Center\, 908 All-American Drive\, University\, MS\, 38677\, United States
CATEGORIES:Sports
ATTACH;FMTTYPE=image/png:http://visit-oxford.s3.amazonaws.com/wp-content/uploads/2024/09/20123922/Screenshot-2024-09-20-at-12.39.15-PM.png
GEO:34.3636908;-89.5353158
X-APPLE-STRUCTURED-LOCATION;VALUE=URI;X-ADDRESS=Gillom Athletics Performance Center 908 All-American Drive University MS 38677 United States;X-APPLE-RADIUS=500;X-TITLE=908 All-American Drive:geo:-89.5353158,34.3636908
END:VEVENT
BEGIN:VEVENT
DTSTART;TZID=America/Chicago:20241004T130000
DTEND;TZID=America/Chicago:20241004T130000
DTSTAMP:20260425T202224
CREATED:20240910T144413Z
LAST-MODIFIED:20240910T164859Z
UID:10000465-1728046800-1728046800@www.visitoxfordms.com.cft1.a2hosted.com
SUMMARY:UM Saxophone Master Class | Dr. Allison Adams
DESCRIPTION:
URL:http://www.visitoxfordms.com.cft1.a2hosted.com/event/university-of-mississippi-saxophone-master-class/
LOCATION:David H. Nutt Auditorium\, Oxford\, MS\, 38655
CATEGORIES:Music,Performing Arts
ATTACH;FMTTYPE=image/jpeg:http://visit-oxford.s3.amazonaws.com/wp-content/uploads/2024/09/10094358/pexels-rucasouza-1049690-scaled.jpg
GEO:34.3664951;-89.5192484
END:VEVENT
BEGIN:VEVENT
DTSTART;TZID=America/Chicago:20241003T200000
DTEND;TZID=America/Chicago:20241003T200000
DTSTAMP:20260425T202224
CREATED:20240820T194738Z
LAST-MODIFIED:20240820T194738Z
UID:10000217-1727985600-1727985600@www.visitoxfordms.com.cft1.a2hosted.com
SUMMARY:Sam Barber
DESCRIPTION:Doors open @ 7:00pm!!
URL:http://www.visitoxfordms.com.cft1.a2hosted.com/event/sam-barber/
LOCATION:The Lyric\, 1006 Van Buren \, Oxford\, MS\, 38655\, United States
CATEGORIES:Music
ATTACH;FMTTYPE=image/jpeg:http://visit-oxford.s3.amazonaws.com/wp-content/uploads/2024/08/20144710/image.jpeg
GEO:34.3662931;-89.5209192
X-APPLE-STRUCTURED-LOCATION;VALUE=URI;X-ADDRESS=The Lyric 1006 Van Buren  Oxford MS 38655 United States;X-APPLE-RADIUS=500;X-TITLE=1006 Van Buren:geo:-89.5209192,34.3662931
END:VEVENT
BEGIN:VEVENT
DTSTART;TZID=America/Chicago:20241003T193000
DTEND;TZID=America/Chicago:20241003T193000
DTSTAMP:20260425T202224
CREATED:20240910T144002Z
LAST-MODIFIED:20240910T164932Z
UID:10000464-1727983800-1727983800@www.visitoxfordms.com.cft1.a2hosted.com
SUMMARY:UM Guest Artist Recital | Dr. Allison Adams
DESCRIPTION:
URL:http://www.visitoxfordms.com.cft1.a2hosted.com/event/university-of-mississippi-guest-artist-recital/
LOCATION:David H. Nutt Auditorium\, Oxford\, MS\, 38655
CATEGORIES:Music,Performing Arts
ATTACH;FMTTYPE=image/jpeg:http://visit-oxford.s3.amazonaws.com/wp-content/uploads/2024/09/10092704/2cc93ad0036ed08a0b2878dde986f73867a35926.jpg
GEO:34.3664951;-89.5192484
END:VEVENT
BEGIN:VEVENT
DTSTART;TZID=America/Chicago:20241003T180000
DTEND;TZID=America/Chicago:20241003T180000
DTSTAMP:20260425T202224
CREATED:20240913T215524Z
LAST-MODIFIED:20240913T215524Z
UID:10000256-1727978400-1727978400@www.visitoxfordms.com.cft1.a2hosted.com
SUMMARY:Thacker Mountain Radio Hour - Sean Kelly for White Noise & Lightning
DESCRIPTION:
URL:http://www.visitoxfordms.com.cft1.a2hosted.com/event/thacker-mountain-radio-hour-sean-kelly-for-white-noise-lightning/
LOCATION:The Powerhouse\, Oxford\, MS\, 38655
CATEGORIES:Literature,Music
ATTACH;FMTTYPE=image/png:http://visit-oxford.s3.amazonaws.com/wp-content/uploads/2024/09/13165458/Screenshot-2024-09-13-at-4.54.36%E2%80%AFPM.png
GEO:34.3664951;-89.5192484
END:VEVENT
BEGIN:VEVENT
DTSTART;TZID=America/Chicago:20241002T210000
DTEND;TZID=America/Chicago:20241002T210000
DTSTAMP:20260425T202224
CREATED:20240821T183553Z
LAST-MODIFIED:20240821T183553Z
UID:10000447-1727902800-1727902800@www.visitoxfordms.com.cft1.a2hosted.com
SUMMARY:Theo Lawrence
DESCRIPTION:Blues
URL:http://www.visitoxfordms.com.cft1.a2hosted.com/event/theo-lawrence/
LOCATION:Proud Larry’s\, Oxford\, MS\, MS\, United States
CATEGORIES:Music
ATTACH;FMTTYPE=image/jpeg:http://visit-oxford.s3.amazonaws.com/wp-content/uploads/2024/08/21133530/IMG_4728-1-scaled.jpeg
GEO:34.3664951;-89.5192484
END:VEVENT
END:VCALENDAR