BEGIN:VCALENDAR
VERSION:2.0
PRODID:-//Visit Oxford MS - ECPv6.7.0//NONSGML v1.0//EN
CALSCALE:GREGORIAN
METHOD:PUBLISH
X-WR-CALNAME:Visit Oxford MS
X-ORIGINAL-URL:http://www.visitoxfordms.com.cft1.a2hosted.com
X-WR-CALDESC:Events for Visit Oxford MS
REFRESH-INTERVAL;VALUE=DURATION:PT1H
X-Robots-Tag:noindex
X-PUBLISHED-TTL:PT1H
BEGIN:VTIMEZONE
TZID:America/Chicago
BEGIN:DAYLIGHT
TZOFFSETFROM:-0600
TZOFFSETTO:-0500
TZNAME:CDT
DTSTART:20240310T080000
END:DAYLIGHT
BEGIN:STANDARD
TZOFFSETFROM:-0500
TZOFFSETTO:-0600
TZNAME:CST
DTSTART:20241103T070000
END:STANDARD
END:VTIMEZONE
BEGIN:VEVENT
DTSTART;TZID=America/Chicago:20241104T193000
DTEND;TZID=America/Chicago:20241104T193000
DTSTAMP:20260425T111713
CREATED:20240910T153330Z
LAST-MODIFIED:20240910T164426Z
UID:10000478-1730748600-1730748600@www.visitoxfordms.com.cft1.a2hosted.com
SUMMARY:UM Sonic Explorations Performance | Adrienne Park
DESCRIPTION:
URL:http://www.visitoxfordms.com.cft1.a2hosted.com/event/adrienne-park-um-sonic-explorations-performance/
LOCATION:David H. Nutt Auditorium\, Oxford\, MS\, 38655
CATEGORIES:Music,Performing Arts
ATTACH;FMTTYPE=image/png:http://visit-oxford.s3.amazonaws.com/wp-content/uploads/2024/09/10093555/Screenshot-2024-09-10-at-9.35.26-AM.png
GEO:34.3664951;-89.5192484
END:VEVENT
BEGIN:VEVENT
DTSTART;TZID=America/Chicago:20241104T130000
DTEND;TZID=America/Chicago:20241104T130000
DTSTAMP:20260425T111713
CREATED:20240910T152938Z
LAST-MODIFIED:20240910T164450Z
UID:10000477-1730725200-1730725200@www.visitoxfordms.com.cft1.a2hosted.com
SUMMARY:LMR Live! With Guest Dr. Caroline Young
DESCRIPTION:
URL:http://www.visitoxfordms.com.cft1.a2hosted.com/event/lmr-live-with-guest-dr-caroline-young/
LOCATION:David H. Nutt Auditorium\, Oxford\, MS\, 38655
CATEGORIES:Music,Performing Arts
ATTACH;FMTTYPE=image/jpeg:http://visit-oxford.s3.amazonaws.com/wp-content/uploads/2024/09/10102756/LMR-Live-640x419-1-e1725982104863.jpg
GEO:34.3664951;-89.5192484
END:VEVENT
BEGIN:VEVENT
DTSTART;TZID=America/Chicago:20241103T153000
DTEND;TZID=America/Chicago:20241103T170000
DTSTAMP:20260425T111713
CREATED:20240820T163607Z
LAST-MODIFIED:20240820T163607Z
UID:10000200-1730647800-1730653200@www.visitoxfordms.com.cft1.a2hosted.com
SUMMARY:Oxford on Skates
DESCRIPTION:
URL:http://www.visitoxfordms.com.cft1.a2hosted.com/event/oxford-on-skates-10/
LOCATION:Old Armory Pavilion\, 1801 University Avenue\, Oxford\, MS\, 38655\, United States
CATEGORIES:Family Friendly,Free,Outdoor
ATTACH;FMTTYPE=image/png:http://visit-oxford.s3.amazonaws.com/wp-content/uploads/2024/08/20113454/fb324ade7dd0ea98bb71bc695f4db1c4-1.png
GEO:34.3628616;-89.5108765
X-APPLE-STRUCTURED-LOCATION;VALUE=URI;X-ADDRESS=Old Armory Pavilion 1801 University Avenue Oxford MS 38655 United States;X-APPLE-RADIUS=500;X-TITLE=1801 University Avenue:geo:-89.5108765,34.3628616
END:VEVENT
BEGIN:VEVENT
DTSTART;TZID=America/Chicago:20241102T210000
DTEND;TZID=America/Chicago:20241102T210000
DTSTAMP:20260425T111713
CREATED:20240926T163820Z
LAST-MODIFIED:20240926T163820Z
UID:10000530-1730581200-1730581200@www.visitoxfordms.com.cft1.a2hosted.com
SUMMARY:Clay Street Unit
DESCRIPTION:Americana
URL:http://www.visitoxfordms.com.cft1.a2hosted.com/event/clay-street-unit/
LOCATION:Proud Larry’s\, Oxford\, MS\, MS\, United States
CATEGORIES:Music
ATTACH;FMTTYPE=image/png:http://visit-oxford.s3.amazonaws.com/wp-content/uploads/2024/09/26113808/Screenshot-2024-09-26-at-11.37.58-AM.png
GEO:34.3664951;-89.5192484
END:VEVENT
BEGIN:VEVENT
DTSTART;TZID=America/Chicago:20241101T193000
DTEND;TZID=America/Chicago:20241101T193000
DTSTAMP:20260425T111713
CREATED:20240731T162229Z
LAST-MODIFIED:20240731T162229Z
UID:10000426-1730489400-1730489400@www.visitoxfordms.com.cft1.a2hosted.com
SUMMARY:JJ Grey & Mofro
DESCRIPTION:
URL:http://www.visitoxfordms.com.cft1.a2hosted.com/event/jj-grey-mofro/
LOCATION:The Lyric\, 1006 Van Buren \, Oxford\, MS\, 38655\, United States
CATEGORIES:Music
ATTACH;FMTTYPE=image/webp:http://visit-oxford.s3.amazonaws.com/wp-content/uploads/2024/07/31112121/eyJidWNrZXQiOiJwcm9kLXNpaC5zZWV0aWNrZXRzdXNhLnVzIiwia2V5IjoiMmY3OTMzMzktMzU4Yi00YThmLWE4MzgtNjJmOWNlNjQ4MzQxIiwiZWRpdHMiOnt9fQ.webp
GEO:34.3662931;-89.5209192
X-APPLE-STRUCTURED-LOCATION;VALUE=URI;X-ADDRESS=The Lyric 1006 Van Buren  Oxford MS 38655 United States;X-APPLE-RADIUS=500;X-TITLE=1006 Van Buren:geo:-89.5209192,34.3662931
END:VEVENT
BEGIN:VEVENT
DTSTART;TZID=America/Chicago:20241101T170000
DTEND;TZID=America/Chicago:20241102T220000
DTSTAMP:20260425T111713
CREATED:20241022T152223Z
LAST-MODIFIED:20241022T152223Z
UID:10000568-1730480400-1730584800@www.visitoxfordms.com.cft1.a2hosted.com
SUMMARY:Halloween Bar Crawl
DESCRIPTION:Ticket link:\n\nhttps://posh.vip/f/15b26?t=visitoxfordms-insta
URL:http://www.visitoxfordms.com.cft1.a2hosted.com/event/halloween-bar-crawl/
LOCATION:Various Locations\, MS
CATEGORIES:Holiday,Recreation
ATTACH;FMTTYPE=image/png:http://visit-oxford.s3.amazonaws.com/wp-content/uploads/2024/10/22101920/Screenshot-2024-10-22-at-10.18.24%E2%80%AFAM.png
END:VEVENT
BEGIN:VEVENT
DTSTART;VALUE=DATE:20241101
DTEND;VALUE=DATE:20241103
DTSTAMP:20260425T111713
CREATED:20240910T152336Z
LAST-MODIFIED:20240910T164521Z
UID:10000476-1730462400-1730548799@www.visitoxfordms.com.cft1.a2hosted.com
SUMMARY:UM Music Major Advantage Day
DESCRIPTION:Music Building & Nutt Auditorium
URL:http://www.visitoxfordms.com.cft1.a2hosted.com/event/um-music-major-advantage-day/
LOCATION:David H. Nutt Auditorium\, Oxford\, MS\, 38655
CATEGORIES:Music,Performing Arts
ATTACH;FMTTYPE=image/png:http://visit-oxford.s3.amazonaws.com/wp-content/uploads/2024/09/10102308/Screenshot-2024-09-10-at-10.22.45-AM.png
GEO:34.3664951;-89.5192484
END:VEVENT
BEGIN:VEVENT
DTSTART;TZID=America/Chicago:20241031T180000
DTEND;TZID=America/Chicago:20241031T200000
DTSTAMP:20260425T111713
CREATED:20241007T162956Z
LAST-MODIFIED:20241029T162641Z
UID:10000550-1730397600-1730404800@www.visitoxfordms.com.cft1.a2hosted.com
SUMMARY:Thacker Mountain Radio Hour - Abbott Kahler for Eden Undone
DESCRIPTION:Abbott Kahler for Eden Undone – an incredible true story of murder\, romance\, and a fateful search for utopia in the Galapagos.
URL:http://www.visitoxfordms.com.cft1.a2hosted.com/event/thacker-mountain-radio-hour-abbott-kahler-for-eden-undone/
LOCATION:The Powerhouse\, Oxford\, MS\, 38655
CATEGORIES:Free,Literature
ATTACH;FMTTYPE=image/jpeg:http://visit-oxford.s3.amazonaws.com/wp-content/uploads/2024/10/29112529/IMG_8184.jpg
GEO:34.3664951;-89.5192484
END:VEVENT
BEGIN:VEVENT
DTSTART;TZID=America/Chicago:20241031T170000
DTEND;TZID=America/Chicago:20241031T170000
DTSTAMP:20260425T111713
CREATED:20241029T151555Z
LAST-MODIFIED:20241029T172626Z
UID:10000581-1730394000-1730394000@www.visitoxfordms.com.cft1.a2hosted.com
SUMMARY:Creepy Tiki
DESCRIPTION:
URL:http://www.visitoxfordms.com.cft1.a2hosted.com/event/creepy-tiki-2/
LOCATION:SoLa\, 401 S. Lamar\, Oxford\, MS\, 38655\, United States
CATEGORIES:Culinary,Holiday
ATTACH;FMTTYPE=image/png:http://visit-oxford.s3.amazonaws.com/wp-content/uploads/2024/10/24101504/Screenshot-2024-10-24-at-10.14.44%E2%80%AFAM.png
GEO:34.3649397;-89.5187398
X-APPLE-STRUCTURED-LOCATION;VALUE=URI;X-ADDRESS=SoLa 401 S. Lamar Oxford MS 38655 United States;X-APPLE-RADIUS=500;X-TITLE=401 S. Lamar:geo:-89.5187398,34.3649397
END:VEVENT
BEGIN:VEVENT
DTSTART;TZID=America/Chicago:20241031T163000
DTEND;TZID=America/Chicago:20241031T163000
DTSTAMP:20260425T111713
CREATED:20241003T215808Z
LAST-MODIFIED:20241029T220514Z
UID:10000583-1730392200-1730392200@www.visitoxfordms.com.cft1.a2hosted.com
SUMMARY:Halloween Storytime at Square Books Jr.
DESCRIPTION:
URL:http://www.visitoxfordms.com.cft1.a2hosted.com/event/halloween-storytime-at-square-books-jr/
LOCATION:Square Books\, Jr.\, 111 Courthouse Square\, Oxford\, MS\, 38655\, United States
CATEGORIES:Family Friendly,Free,Holiday
ATTACH;FMTTYPE=image/png:http://visit-oxford.s3.amazonaws.com/wp-content/uploads/2024/10/03165656/Halloween-Storytime-JR.png
GEO:34.3667712;-89.5191286
X-APPLE-STRUCTURED-LOCATION;VALUE=URI;X-ADDRESS=Square Books Jr. 111 Courthouse Square Oxford MS 38655 United States;X-APPLE-RADIUS=500;X-TITLE=111 Courthouse Square:geo:-89.5191286,34.3667712
END:VEVENT
BEGIN:VEVENT
DTSTART;TZID=America/Chicago:20241030T173000
DTEND;TZID=America/Chicago:20241030T173000
DTSTAMP:20260425T111713
CREATED:20240926T142408Z
LAST-MODIFIED:20240926T142408Z
UID:10000515-1730309400-1730309400@www.visitoxfordms.com.cft1.a2hosted.com
SUMMARY:The Tasting Room: Spooky Sipps
DESCRIPTION:
URL:http://www.visitoxfordms.com.cft1.a2hosted.com/event/the-tasting-room-spooky-sipps/
LOCATION:The Sipp on South Lamar\, Oxford\, MS\, 38655
CATEGORIES:Culinary
ATTACH;FMTTYPE=image/png:http://visit-oxford.s3.amazonaws.com/wp-content/uploads/2024/09/26092318/Screenshot-2024-09-26-at-9.23.11-AM.png
GEO:34.3668299;-89.518635
END:VEVENT
BEGIN:VEVENT
DTSTART;TZID=America/Chicago:20241029T190000
DTEND;TZID=America/Chicago:20241029T190000
DTSTAMP:20260425T111713
CREATED:20240910T151853Z
LAST-MODIFIED:20240910T151853Z
UID:10000475-1730228400-1730228400@www.visitoxfordms.com.cft1.a2hosted.com
SUMMARY:Ole Miss Jazz Combos
DESCRIPTION:
URL:http://www.visitoxfordms.com.cft1.a2hosted.com/event/ole-miss-jazz-combos/
LOCATION:Proud Larry’s\, Oxford\, MS\, MS\, United States
ATTACH;FMTTYPE=image/png:http://visit-oxford.s3.amazonaws.com/wp-content/uploads/2024/09/10101723/Screenshot-2024-09-10-at-10.17.12-AM.png
GEO:34.3664951;-89.5192484
END:VEVENT
BEGIN:VEVENT
DTSTART;TZID=America/Chicago:20241029T163000
DTEND;TZID=America/Chicago:20241029T183000
DTSTAMP:20260425T111713
CREATED:20241010T161757Z
LAST-MODIFIED:20241010T161929Z
UID:10000560-1730219400-1730226600@www.visitoxfordms.com.cft1.a2hosted.com
SUMMARY:7th Annual Trunk or Treat
DESCRIPTION:
URL:http://www.visitoxfordms.com.cft1.a2hosted.com/event/7th-trunk-or-treat/
LOCATION:Coleman Funeral Home\, 601 Commerce Parkway\, Oxford\, MS\, 38655
CATEGORIES:Family Friendly,Free,Holiday
ATTACH;FMTTYPE=image/png:http://visit-oxford.s3.amazonaws.com/wp-content/uploads/2024/10/10111553/Screenshot-2024-10-10-at-11.14.40%E2%80%AFAM.png
GEO:34.2987054;-89.5176288
X-APPLE-STRUCTURED-LOCATION;VALUE=URI;X-ADDRESS=Coleman Funeral Home 601 Commerce Parkway Oxford MS 38655;X-APPLE-RADIUS=500;X-TITLE=601 Commerce Parkway:geo:-89.5176288,34.2987054
END:VEVENT
BEGIN:VEVENT
DTSTART;TZID=America/Chicago:20241027T183000
DTEND;TZID=America/Chicago:20241027T183000
DTSTAMP:20260425T111713
CREATED:20241001T145924Z
LAST-MODIFIED:20241001T145924Z
UID:10000534-1730053800-1730053800@www.visitoxfordms.com.cft1.a2hosted.com
SUMMARY:Ole Miss Soccer vs. Arkansas
DESCRIPTION:
URL:http://www.visitoxfordms.com.cft1.a2hosted.com/event/ole-miss-soccer-vs-arkansas/
LOCATION:Ole Miss Soccer Stadium\, 960 Hathorn Road\, Oxford\, MS\, 38655\, United States
CATEGORIES:Sports
ATTACH;FMTTYPE=image/png:http://visit-oxford.s3.amazonaws.com/wp-content/uploads/2024/10/01095911/Screenshot-2024-10-01-at-9.59.03-AM.png
GEO:34.3590376;-89.5444877
X-APPLE-STRUCTURED-LOCATION;VALUE=URI;X-ADDRESS=Ole Miss Soccer Stadium 960 Hathorn Road Oxford MS 38655 United States;X-APPLE-RADIUS=500;X-TITLE=960 Hathorn Road:geo:-89.5444877,34.3590376
END:VEVENT
BEGIN:VEVENT
DTSTART;TZID=America/Chicago:20241027T140000
DTEND;TZID=America/Chicago:20241027T170000
DTSTAMP:20260425T111713
CREATED:20241001T180657Z
LAST-MODIFIED:20241001T180813Z
UID:10000539-1730037600-1730048400@www.visitoxfordms.com.cft1.a2hosted.com
SUMMARY:Boy Scouts of America- Trunk or Treat
DESCRIPTION:Bring a can of food for Scouting for Food!
URL:http://www.visitoxfordms.com.cft1.a2hosted.com/event/boy-scouts-of-america-trunk-or-treat/
LOCATION:100 Ed Perry Blvd\, Oxford MS 38655\, Ed Perry Boulevard\, Oxford\, Mississippi\, 38655\, United States
ATTACH;FMTTYPE=image/png:http://visit-oxford.s3.amazonaws.com/wp-content/uploads/2024/10/01130620/Trunk-or-treat-4.png
GEO:34.3838272;-89.4938339
X-APPLE-STRUCTURED-LOCATION;VALUE=URI;X-ADDRESS=100 Ed Perry Blvd Oxford MS 38655 Ed Perry Boulevard Oxford Mississippi 38655 United States;X-APPLE-RADIUS=500;X-TITLE=Ed Perry Boulevard:geo:-89.4938339,34.3838272
END:VEVENT
BEGIN:VEVENT
DTSTART;TZID=America/Chicago:20241027T140000
DTEND;TZID=America/Chicago:20241027T150000
DTSTAMP:20260425T111713
CREATED:20240920T174641Z
LAST-MODIFIED:20241002T211501Z
UID:10000509-1730037600-1730041200@www.visitoxfordms.com.cft1.a2hosted.com
SUMMARY:OLE MISS VOLLEYBALL VS. KENTUCKY
DESCRIPTION:
URL:http://www.visitoxfordms.com.cft1.a2hosted.com/event/ole-miss-volleyball-vs-kentucy/
LOCATION:Gillom Athletics Performance Center\, 908 All-American Drive\, University\, MS\, 38677\, United States
CATEGORIES:Sports
ATTACH;FMTTYPE=image/png:http://visit-oxford.s3.amazonaws.com/wp-content/uploads/2024/09/20124622/Screenshot-2024-09-20-at-12.46.13-PM.png
GEO:34.3636908;-89.5353158
X-APPLE-STRUCTURED-LOCATION;VALUE=URI;X-ADDRESS=Gillom Athletics Performance Center 908 All-American Drive University MS 38677 United States;X-APPLE-RADIUS=500;X-TITLE=908 All-American Drive:geo:-89.5353158,34.3636908
END:VEVENT
BEGIN:VEVENT
DTSTART;TZID=America/Chicago:20241027T133000
DTEND;TZID=America/Chicago:20241027T153000
DTSTAMP:20260425T111713
CREATED:20241004T161958Z
LAST-MODIFIED:20241004T161958Z
UID:10000543-1730035800-1730043000@www.visitoxfordms.com.cft1.a2hosted.com
SUMMARY:Cedar Oaks Trail Trick or Treating
DESCRIPTION:Join us for Trick- or- Treating on the Cedar Oaks Trail! \nDon’t forget your costumes! \nRain or shine!
URL:http://www.visitoxfordms.com.cft1.a2hosted.com/event/cedar-oaks-trail-trick-or-treating/
LOCATION:Cedar Oaks\, 601 Murray Dr.\, Oxford\, MS\, 38655\, United States
CATEGORIES:Family Friendly,Holiday
ATTACH;FMTTYPE=image/jpeg:http://visit-oxford.s3.amazonaws.com/wp-content/uploads/2024/10/04111833/2024-Halloween-Invite-1.jpg
GEO:34.3777211;-89.5009969
X-APPLE-STRUCTURED-LOCATION;VALUE=URI;X-ADDRESS=Cedar Oaks 601 Murray Dr. Oxford MS 38655 United States;X-APPLE-RADIUS=500;X-TITLE=601 Murray Dr.:geo:-89.5009969,34.3777211
END:VEVENT
BEGIN:VEVENT
DTSTART;TZID=America/Chicago:20241027T110000
DTEND;TZID=America/Chicago:20241027T110000
DTSTAMP:20260425T111713
CREATED:20241022T142951Z
LAST-MODIFIED:20241022T142951Z
UID:10000567-1730026800-1730026800@www.visitoxfordms.com.cft1.a2hosted.com
SUMMARY:Ole Miss Basketball Charity Exhibition vs. Illinois
DESCRIPTION:Benefiting Casa of North Mississippi
URL:http://www.visitoxfordms.com.cft1.a2hosted.com/event/ole-miss-basketball-charity-exhibition-vs-illinois/
LOCATION:The Pavilion at Ole Miss\, Ole Miss Campus\, Oxford\, MS\, 38655\, United States
ATTACH;FMTTYPE=image/jpeg:http://visit-oxford.s3.amazonaws.com/wp-content/uploads/2024/10/22092938/IMG_7695.jpg
GEO:34.3668075;-89.5344228
X-APPLE-STRUCTURED-LOCATION;VALUE=URI;X-ADDRESS=The Pavilion at Ole Miss Ole Miss Campus Oxford MS 38655 United States;X-APPLE-RADIUS=500;X-TITLE=Ole Miss Campus:geo:-89.5344228,34.3668075
END:VEVENT
BEGIN:VEVENT
DTSTART;TZID=America/Chicago:20241026T213000
DTEND;TZID=America/Chicago:20241026T213000
DTSTAMP:20260425T111713
CREATED:20240926T163648Z
LAST-MODIFIED:20240926T163648Z
UID:10000528-1729978200-1729978200@www.visitoxfordms.com.cft1.a2hosted.com
SUMMARY:Blue Mountain
DESCRIPTION:Rock
URL:http://www.visitoxfordms.com.cft1.a2hosted.com/event/blue-mountain/
LOCATION:Proud Larry’s\, Oxford\, MS\, MS\, United States
CATEGORIES:Music
ATTACH;FMTTYPE=image/png:http://visit-oxford.s3.amazonaws.com/wp-content/uploads/2024/09/26113623/Screenshot-2024-09-26-at-11.36.16-AM.png
GEO:34.3664951;-89.5192484
END:VEVENT
BEGIN:VEVENT
DTSTART;TZID=America/Chicago:20241026T000000
DTEND;TZID=America/Chicago:20241026T000000
DTSTAMP:20260425T111713
CREATED:20240626T165916Z
LAST-MODIFIED:20240626T165916Z
UID:10000209-1729900800-1729900800@www.visitoxfordms.com.cft1.a2hosted.com
SUMMARY:OLE MISS FOOTBALL VS. OKLAHOMA
DESCRIPTION:
URL:http://www.visitoxfordms.com.cft1.a2hosted.com/event/ole-miss-football-vs-oklahoma/
LOCATION:Vaught-Hemmingway Stadium\, University of Mississippi\, MS\, 38677\, United States
ATTACH;FMTTYPE=image/jpeg:http://visit-oxford.s3.amazonaws.com/wp-content/uploads/2024/06/26114644/football.jpeg
GEO:34.3681689;-89.5370043
END:VEVENT
BEGIN:VEVENT
DTSTART;TZID=America/Chicago:20241025T210000
DTEND;TZID=America/Chicago:20241025T210000
DTSTAMP:20260425T111713
CREATED:20240926T163522Z
LAST-MODIFIED:20240926T163522Z
UID:10000527-1729890000-1729890000@www.visitoxfordms.com.cft1.a2hosted.com
SUMMARY:George Porter Jr. & The Runnin' Pardners
DESCRIPTION:Funk
URL:http://www.visitoxfordms.com.cft1.a2hosted.com/event/george-porter-jr-the-runnin-pardners/
LOCATION:Proud Larry’s\, Oxford\, MS\, MS\, United States
CATEGORIES:Music
ATTACH;FMTTYPE=image/png:http://visit-oxford.s3.amazonaws.com/wp-content/uploads/2024/09/26113512/Screenshot-2024-09-26-at-11.35.04-AM.png
GEO:34.3664951;-89.5192484
END:VEVENT
BEGIN:VEVENT
DTSTART;TZID=America/Chicago:20241025T210000
DTEND;TZID=America/Chicago:20241025T210000
DTSTAMP:20260425T111713
CREATED:20240826T191335Z
LAST-MODIFIED:20240826T191335Z
UID:10000452-1729890000-1729890000@www.visitoxfordms.com.cft1.a2hosted.com
SUMMARY:Hotty Toddy Boomer Sooner
DESCRIPTION:
URL:http://www.visitoxfordms.com.cft1.a2hosted.com/event/hotty-toddy-boomer-sooner/
LOCATION:The Lyric\, 1006 Van Buren \, Oxford\, MS\, 38655\, United States
CATEGORIES:Music
ATTACH;FMTTYPE=image/webp:http://visit-oxford.s3.amazonaws.com/wp-content/uploads/2024/08/26140029/eyJidWNrZXQiOiJwcm9kLXNpaC5zZWV0aWNrZXRzdXNhLnVzIiwia2V5IjoiYmFmNzZiNmMtNjVkNS00Y2Y4LWI2NmEtOTQ0NDJjNDNiZmI2IiwiZWRpdHMiOnt9fQ-scaled.webp
GEO:34.3662931;-89.5209192
X-APPLE-STRUCTURED-LOCATION;VALUE=URI;X-ADDRESS=The Lyric 1006 Van Buren  Oxford MS 38655 United States;X-APPLE-RADIUS=500;X-TITLE=1006 Van Buren:geo:-89.5209192,34.3662931
END:VEVENT
BEGIN:VEVENT
DTSTART;TZID=America/Chicago:20241025T193000
DTEND;TZID=America/Chicago:20241025T193000
DTSTAMP:20260425T111713
CREATED:20240910T151203Z
LAST-MODIFIED:20240910T164553Z
UID:10000474-1729884600-1729884600@www.visitoxfordms.com.cft1.a2hosted.com
SUMMARY:UM Guest Recital | Dr. Carlos Feller
DESCRIPTION:
URL:http://www.visitoxfordms.com.cft1.a2hosted.com/event/university-of-mississippi-guest-recital/
LOCATION:David H. Nutt Auditorium\, Oxford\, MS\, 38655
CATEGORIES:Music,Performing Arts
ATTACH;FMTTYPE=image/jpeg:http://visit-oxford.s3.amazonaws.com/wp-content/uploads/2024/09/10092704/2cc93ad0036ed08a0b2878dde986f73867a35926.jpg
GEO:34.3664951;-89.5192484
END:VEVENT
BEGIN:VEVENT
DTSTART;TZID=America/Chicago:20241025T170000
DTEND;TZID=America/Chicago:20241025T210000
DTSTAMP:20260425T111713
CREATED:20240822T175554Z
LAST-MODIFIED:20240916T190319Z
UID:10000449-1729875600-1729890000@www.visitoxfordms.com.cft1.a2hosted.com
SUMMARY:Square Jam Session
DESCRIPTION:
URL:http://www.visitoxfordms.com.cft1.a2hosted.com/event/square-jam-session/
LOCATION:Downtown Square\, Courthouse Square\, Oxford\, MS\, 38655\, United States
CATEGORIES:Free,Music,Outdoor
ATTACH;FMTTYPE=image/png:http://visit-oxford.s3.amazonaws.com/wp-content/uploads/2024/08/16140255/Screenshot-2024-09-12-at-11.03.05%E2%80%AFAM1.png
GEO:34.3660762;-89.5192036
X-APPLE-STRUCTURED-LOCATION;VALUE=URI;X-ADDRESS=Downtown Square Courthouse Square Oxford MS 38655 United States;X-APPLE-RADIUS=500;X-TITLE=Courthouse Square:geo:-89.5192036,34.3660762
END:VEVENT
BEGIN:VEVENT
DTSTART;TZID=America/Chicago:20241024T193000
DTEND;TZID=America/Chicago:20241024T193000
DTSTAMP:20260425T111713
CREATED:20240820T192313Z
LAST-MODIFIED:20240820T201351Z
UID:10000251-1729798200-1729798200@www.visitoxfordms.com.cft1.a2hosted.com
SUMMARY:Dear Evan Hansen
DESCRIPTION:THE TONY AND GRAMMY-WINNING BEST MUSICAL SENSATION \nDeclared “one of the most remarkable shows in musical theater history” by the Washington Post\, DEAR EVAN HANSEN is the first musical to take a groundbreaking look — from the point of view of both the parents and young people — at our complex\, interconnected\, and social media-filled lives. \nEvan Hansen is a high school student who always feels like he’s on the outside looking in. Evan finally gets what so many of us are searching for—the chance to finally fit in. What follows is a poignant\, funny\, and powerful musical about how even though it can be hard\, we can find each other—and ourselves—along the way. \nIncluding some of the most iconic musical theatre songs from the last decade\, including “You Will Be Found\,” “Waving Through A Window\,” and “For Forever\,” DEAR EVAN HANSEN features an uplifting score by the Tony ®\, Grammy®\, and Oscar® winning team behind The Greatest Showman\, La La Land\, and “Only Murders in the Building” Benj Pasek and Justin Paul\, and a book by Tony Award-winner Steven Levenson. \nDEAR EVAN HANSEN is recommended for ages 12 and up and contains adult themes\, including discussions of suicide.
URL:http://www.visitoxfordms.com.cft1.a2hosted.com/event/dear-evan-hansen/
LOCATION:Gertrude Castellow Ford Center for the Performing Arts\, 351 University Ave.\, Oxford\, MS\, 38655\, United States
CATEGORIES:Performing Arts
ATTACH;FMTTYPE=image/jpeg:http://visit-oxford.s3.amazonaws.com/wp-content/uploads/2024/08/20150344/image-8.jpeg
GEO:34.3654343;-89.5288993
X-APPLE-STRUCTURED-LOCATION;VALUE=URI;X-ADDRESS=Gertrude Castellow Ford Center for the Performing Arts 351 University Ave. Oxford MS 38655 United States;X-APPLE-RADIUS=500;X-TITLE=351 University Ave.:geo:-89.5288993,34.3654343
END:VEVENT
BEGIN:VEVENT
DTSTART;TZID=America/Chicago:20241024T190000
DTEND;TZID=America/Chicago:20241024T190000
DTSTAMP:20260425T111713
CREATED:20240731T161938Z
LAST-MODIFIED:20240731T161938Z
UID:10000424-1729796400-1729796400@www.visitoxfordms.com.cft1.a2hosted.com
SUMMARY:Wyatt Flores
DESCRIPTION:
URL:http://www.visitoxfordms.com.cft1.a2hosted.com/event/wyatt-flores/
LOCATION:The Lyric\, 1006 Van Buren \, Oxford\, MS\, 38655\, United States
CATEGORIES:Music
ATTACH;FMTTYPE=image/webp:http://visit-oxford.s3.amazonaws.com/wp-content/uploads/2024/07/31111925/eyJidWNrZXQiOiJwcm9kLXNpaC5zZWV0aWNrZXRzdXNhLnVzIiwia2V5IjoiYzM3MmY1OWYtZDFjOC00MjMwLTkwZDYtZDA1YzZjNzUzY2E4IiwiZWRpdHMiOnt9fQ.webp
GEO:34.3662931;-89.5209192
X-APPLE-STRUCTURED-LOCATION;VALUE=URI;X-ADDRESS=The Lyric 1006 Van Buren  Oxford MS 38655 United States;X-APPLE-RADIUS=500;X-TITLE=1006 Van Buren:geo:-89.5209192,34.3662931
END:VEVENT
BEGIN:VEVENT
DTSTART;TZID=America/Chicago:20241024T180000
DTEND;TZID=America/Chicago:20241024T200000
DTSTAMP:20260425T111713
CREATED:20241007T162602Z
LAST-MODIFIED:20241007T162602Z
UID:10000549-1729792800-1729800000@www.visitoxfordms.com.cft1.a2hosted.com
SUMMARY:Thacker Mountain Radio Hour - Marion Barnwell for All The Things We Didn't Say
DESCRIPTION:Marion Barnwell for All The Things We Didn’t Say\, a poignant dual memoir that offers a unique and moving exploration of growing up in Mississippi across the generations\, and the intersections of family\, motherhood\, and self-discovery.
URL:http://www.visitoxfordms.com.cft1.a2hosted.com/event/thacker-mountain-radio-hour-marion-barnwell-for-all-the-things-we-didnt-say/
LOCATION:The Powerhouse\, Oxford\, MS\, 38655
CATEGORIES:Free,Literature
GEO:34.3664951;-89.5192484
END:VEVENT
BEGIN:VEVENT
DTSTART;TZID=America/Chicago:20241024T180000
DTEND;TZID=America/Chicago:20241024T193000
DTSTAMP:20260425T111713
CREATED:20241008T161325Z
LAST-MODIFIED:20241008T161325Z
UID:10000558-1729792800-1729798200@www.visitoxfordms.com.cft1.a2hosted.com
SUMMARY:Building Brands feat. Pookie & Jett
DESCRIPTION:
URL:http://www.visitoxfordms.com.cft1.a2hosted.com/event/building-brands-feat-pookie-jett/
LOCATION:The Pavilion at Ole Miss\, Ole Miss Campus\, Oxford\, MS\, 38655\, United States
ATTACH;FMTTYPE=image/png:http://visit-oxford.s3.amazonaws.com/wp-content/uploads/2024/10/08111159/Screenshot-2024-10-08-at-11.11.50-AM.png
GEO:34.3668075;-89.5344228
X-APPLE-STRUCTURED-LOCATION;VALUE=URI;X-ADDRESS=The Pavilion at Ole Miss Ole Miss Campus Oxford MS 38655 United States;X-APPLE-RADIUS=500;X-TITLE=Ole Miss Campus:geo:-89.5344228,34.3668075
END:VEVENT
BEGIN:VEVENT
DTSTART;TZID=America/Chicago:20241024T180000
DTEND;TZID=America/Chicago:20241024T193000
DTSTAMP:20260425T111713
CREATED:20241008T143124Z
LAST-MODIFIED:20241008T143124Z
UID:10000557-1729792800-1729798200@www.visitoxfordms.com.cft1.a2hosted.com
SUMMARY:Taylor Sports Club featuring Marcus Dupree
DESCRIPTION:Taylor Sports Club is a semi-regular storytelling event where Chris Cutcliffe and Hunter Taylor interview different SEC legends in front of a live audience on the grounds of Taylor\, Mississippi’s Plein Air neighborhood.
URL:http://www.visitoxfordms.com.cft1.a2hosted.com/event/taylor-sports-club-featuring-marcus-dupree/
LOCATION:Lost Dog Coffee\, Town Square Lane\, Taylor\, Mississippi\, 38673\, United States
ATTACH;FMTTYPE=image/png:http://visit-oxford.s3.amazonaws.com/wp-content/uploads/2024/10/08093055/Screenshot-2024-10-08-at-9.30.08-AM.png
GEO:34.2679856;-89.5880458
X-APPLE-STRUCTURED-LOCATION;VALUE=URI;X-ADDRESS=Lost Dog Coffee Town Square Lane Taylor Mississippi 38673 United States;X-APPLE-RADIUS=500;X-TITLE=Town Square Lane:geo:-89.5880458,34.2679856
END:VEVENT
BEGIN:VEVENT
DTSTART;TZID=America/Chicago:20241023T173000
DTEND;TZID=America/Chicago:20241023T173000
DTSTAMP:20260425T111713
CREATED:20240926T142049Z
LAST-MODIFIED:20240926T142049Z
UID:10000514-1729704600-1729704600@www.visitoxfordms.com.cft1.a2hosted.com
SUMMARY:The Tasting Room: His & Hers\, Whiskey or Wine
DESCRIPTION:
URL:http://www.visitoxfordms.com.cft1.a2hosted.com/event/the-tasting-room-his-hers-whiskey-or-wine/
LOCATION:The Sipp on South Lamar\, Oxford\, MS\, 38655
CATEGORIES:Culinary
ATTACH;FMTTYPE=image/png:http://visit-oxford.s3.amazonaws.com/wp-content/uploads/2024/09/26091954/Screenshot-2024-09-26-at-9.19.41-AM.png
GEO:34.3668299;-89.518635
END:VEVENT
END:VCALENDAR