BEGIN:VCALENDAR
VERSION:2.0
PRODID:-//Visit Oxford MS - ECPv6.7.0//NONSGML v1.0//EN
CALSCALE:GREGORIAN
METHOD:PUBLISH
X-WR-CALNAME:Visit Oxford MS
X-ORIGINAL-URL:http://www.visitoxfordms.com.cft1.a2hosted.com
X-WR-CALDESC:Events for Visit Oxford MS
REFRESH-INTERVAL;VALUE=DURATION:PT1H
X-Robots-Tag:noindex
X-PUBLISHED-TTL:PT1H
BEGIN:VTIMEZONE
TZID:America/Chicago
BEGIN:DAYLIGHT
TZOFFSETFROM:-0600
TZOFFSETTO:-0500
TZNAME:CDT
DTSTART:20250309T080000
END:DAYLIGHT
BEGIN:STANDARD
TZOFFSETFROM:-0500
TZOFFSETTO:-0600
TZNAME:CST
DTSTART:20251102T070000
END:STANDARD
END:VTIMEZONE
BEGIN:VEVENT
DTSTART;TZID=America/Chicago:20250413T193000
DTEND;TZID=America/Chicago:20250413T193000
DTSTAMP:20260420T043113
CREATED:20250107T174019Z
LAST-MODIFIED:20250107T174027Z
UID:10000681-1744572600-1744572600@www.visitoxfordms.com.cft1.a2hosted.com
SUMMARY:Lauralei Palmer Senior Performance Recital
DESCRIPTION:
URL:http://www.visitoxfordms.com.cft1.a2hosted.com/event/lauralei-palmer-senior-performance-recital-2/
LOCATION:David H. Nutt Auditorium\, Oxford\, MS\, 38655
CATEGORIES:Music
GEO:34.3664951;-89.5192484
END:VEVENT
BEGIN:VEVENT
DTSTART;TZID=America/Chicago:20250413T150000
DTEND;TZID=America/Chicago:20250413T170000
DTSTAMP:20260420T043113
CREATED:20250103T221103Z
LAST-MODIFIED:20250324T181326Z
UID:10000651-1744556400-1744563600@www.visitoxfordms.com.cft1.a2hosted.com
SUMMARY:The Beautiful Bridegroom
DESCRIPTION:
URL:http://www.visitoxfordms.com.cft1.a2hosted.com/event/la-canterina-the-beautiful-bridegroom-2/
LOCATION:Gertrude Castellow Ford Center for the Performing Arts\, 351 University Ave.\, Oxford\, MS\, 38655\, United States
CATEGORIES:Music
ATTACH;FMTTYPE=image/png:http://visit-oxford.s3.amazonaws.com/wp-content/uploads/2025/01/24130607/Screenshot-2025-03-24-at-12.32.23%E2%80%AFPM.png
GEO:34.3654343;-89.5288993
X-APPLE-STRUCTURED-LOCATION;VALUE=URI;X-ADDRESS=Gertrude Castellow Ford Center for the Performing Arts 351 University Ave. Oxford MS 38655 United States;X-APPLE-RADIUS=500;X-TITLE=351 University Ave.:geo:-89.5288993,34.3654343
END:VEVENT
BEGIN:VEVENT
DTSTART;TZID=America/Chicago:20250413T140000
DTEND;TZID=America/Chicago:20250413T160000
DTSTAMP:20260420T043113
CREATED:20250326T214840Z
LAST-MODIFIED:20250326T214929Z
UID:10000862-1744552800-1744560000@www.visitoxfordms.com.cft1.a2hosted.com
SUMMARY:The House That Would Not Die!
DESCRIPTION:
URL:http://www.visitoxfordms.com.cft1.a2hosted.com/event/the-house-that-would-not-die/
LOCATION:Cedar Oaks\, 601 Murray Dr.\, Oxford\, MS\, 38655\, United States
CATEGORIES:Historic
ATTACH;FMTTYPE=image/png:http://visit-oxford.s3.amazonaws.com/wp-content/uploads/2025/03/26164548/Screenshot-2025-03-26-at-4.43.01%E2%80%AFPM.png
GEO:34.3777211;-89.5009969
X-APPLE-STRUCTURED-LOCATION;VALUE=URI;X-ADDRESS=Cedar Oaks 601 Murray Dr. Oxford MS 38655 United States;X-APPLE-RADIUS=500;X-TITLE=601 Murray Dr.:geo:-89.5009969,34.3777211
END:VEVENT
BEGIN:VEVENT
DTSTART;TZID=America/Chicago:20250413T070000
DTEND;TZID=America/Chicago:20250413T170000
DTSTAMP:20260420T043113
CREATED:20250402T184510Z
LAST-MODIFIED:20250402T184510Z
UID:10000870-1744527600-1744563600@www.visitoxfordms.com.cft1.a2hosted.com
SUMMARY:Run for the Roses 5K
DESCRIPTION:Run For The Roses 5K is a fundraiser to benefit the arthritis foundation.\n\nSign up link is below!!\n\nhttps://aoii.crowdchange.co/46064
URL:http://www.visitoxfordms.com.cft1.a2hosted.com/event/run-for-the-roses-5k/
LOCATION:MS
CATEGORIES:Fundraiser,Outdoor
ATTACH;FMTTYPE=image/jpeg:http://visit-oxford.s3.amazonaws.com/wp-content/uploads/2025/04/02134427/image.jpeg
END:VEVENT
BEGIN:VEVENT
DTSTART;TZID=America/Chicago:20250412T130000
DTEND;TZID=America/Chicago:20250412T150000
DTSTAMP:20260420T043113
CREATED:20250317T152853Z
LAST-MODIFIED:20250317T153650Z
UID:10000843-1744462800-1744470000@www.visitoxfordms.com.cft1.a2hosted.com
SUMMARY:Meet the Rebels Day
DESCRIPTION:
URL:http://www.visitoxfordms.com.cft1.a2hosted.com/event/meet-the-rebels/
LOCATION:Manning Center\,  1810 Manning Way\, Oxford\, MS\, 38655\, United States
CATEGORIES:Family Friendly,Sports
ATTACH;FMTTYPE=image/png:http://visit-oxford.s3.amazonaws.com/wp-content/uploads/2025/03/17103445/Screenshot-2025-03-17-at-10.34.13%E2%80%AFAM.png
GEO:34.3600375;-89.5345207
X-APPLE-STRUCTURED-LOCATION;VALUE=URI;X-ADDRESS=Manning Center  1810 Manning Way Oxford MS 38655 United States;X-APPLE-RADIUS=500;X-TITLE=1810 Manning Way:geo:-89.5345207,34.3600375
END:VEVENT
BEGIN:VEVENT
DTSTART;TZID=America/Chicago:20250412T120000
DTEND;TZID=America/Chicago:20250412T180000
DTSTAMP:20260420T043113
CREATED:20250402T185338Z
LAST-MODIFIED:20250402T185338Z
UID:10000872-1744459200-1744480800@www.visitoxfordms.com.cft1.a2hosted.com
SUMMARY:Oxford Treehouse Gallery Turns 11!
DESCRIPTION:Susan Patton’s New Oxford Plain Air Series\nCarol Roark on Site Demo\nTrappsmith Jewelry Pop-Up\nMusic on the Porch by The Pinions\nArt Giveaways\nHors d’Oeuvres and Drinks\nMeet and Greet Several OTG Artists\nAnd More!
URL:http://www.visitoxfordms.com.cft1.a2hosted.com/event/oxford-treehouse-gallery-turns-11/
LOCATION:Oxford Treehouse Gallery\,  328 County Road 418 \, Oxford\, MS\, 38655\, United States
GEO:34.2925746;-89.458027
X-APPLE-STRUCTURED-LOCATION;VALUE=URI;X-ADDRESS=Oxford Treehouse Gallery  328 County Road 418  Oxford MS 38655 United States;X-APPLE-RADIUS=500;X-TITLE=328 County Road 418:geo:-89.458027,34.2925746
END:VEVENT
BEGIN:VEVENT
DTSTART;TZID=America/Chicago:20250412T100000
DTEND;TZID=America/Chicago:20250412T140000
DTSTAMP:20260420T043113
CREATED:20250407T145441Z
LAST-MODIFIED:20250407T145458Z
UID:10000880-1744452000-1744466400@www.visitoxfordms.com.cft1.a2hosted.com
SUMMARY:Myers Apothecary 1 Year Birthday Celebration
DESCRIPTION:
URL:http://www.visitoxfordms.com.cft1.a2hosted.com/event/myers-apothecary-1-year-birthday-celebration/
LOCATION:MS
CATEGORIES:Art,Music
ATTACH;FMTTYPE=image/jpeg:http://visit-oxford.s3.amazonaws.com/wp-content/uploads/2025/04/07095424/IMG_5243.jpg
END:VEVENT
BEGIN:VEVENT
DTSTART;TZID=America/Chicago:20250412T100000
DTEND;TZID=America/Chicago:20250412T140000
DTSTAMP:20260420T043113
CREATED:20250109T165217Z
LAST-MODIFIED:20250109T165226Z
UID:10000733-1744452000-1744466400@www.visitoxfordms.com.cft1.a2hosted.com
SUMMARY:Mississippi Day
DESCRIPTION:Mississippi Day is an annual event for all community members to showcase the impact of the University of Mississippi across our region\, state and the world. Join us as we celebrate the state of Mississippi and the university’s contributions to its culture\, education\, health care and economy through hands-on activities\, demonstrations\, food and much more.
URL:http://www.visitoxfordms.com.cft1.a2hosted.com/event/mississippi-day-2/
LOCATION:University of Mississippi\, Oxford\, MS\, 38655\, United States
CATEGORIES:Family Friendly,Free
ATTACH;FMTTYPE=image/png:http://visit-oxford.s3.amazonaws.com/wp-content/uploads/2025/01/09104959/Screenshot-2025-01-09-at-10.49.03%E2%80%AFAM.png
GEO:34.3664951;-89.5192484
END:VEVENT
BEGIN:VEVENT
DTSTART;TZID=America/Chicago:20250412T080000
DTEND;TZID=America/Chicago:20250412T170000
DTSTAMP:20260420T043113
CREATED:20250218T163440Z
LAST-MODIFIED:20250304T213502Z
UID:10000809-1744444800-1744477200@www.visitoxfordms.com.cft1.a2hosted.com
SUMMARY:Evey & Ellie's Annual Easter Eggstravaganza
DESCRIPTION:
URL:http://www.visitoxfordms.com.cft1.a2hosted.com/event/evey-ellies-annual-easter-eggstravaganza/2025-04-12/
LOCATION:MS
CATEGORIES:Family Friendly,Holiday
ATTACH;FMTTYPE=image/png:http://visit-oxford.s3.amazonaws.com/wp-content/uploads/2025/02/18103013/Screenshot-2025-02-18-at-10.27.46%E2%80%AFAM-1.png
END:VEVENT
BEGIN:VEVENT
DTSTART;TZID=America/Chicago:20250411T193000
DTEND;TZID=America/Chicago:20250413T170000
DTSTAMP:20260420T043113
CREATED:20250103T220912Z
LAST-MODIFIED:20250407T151008Z
UID:10000667-1744399800-1744563600@www.visitoxfordms.com.cft1.a2hosted.com
SUMMARY:The Beautiful Bridegroom
DESCRIPTION:
URL:http://www.visitoxfordms.com.cft1.a2hosted.com/event/la-canterina-the-beautiful-bridegroom/
LOCATION:Gertrude Castellow Ford Center for the Performing Arts\, 351 University Ave.\, Oxford\, MS\, 38655\, United States
CATEGORIES:Music
ATTACH;FMTTYPE=image/png:http://visit-oxford.s3.amazonaws.com/wp-content/uploads/2025/01/24132058/Screenshot-2025-03-24-at-12.32.23%E2%80%AFPM-1.png
GEO:34.3654343;-89.5288993
X-APPLE-STRUCTURED-LOCATION;VALUE=URI;X-ADDRESS=Gertrude Castellow Ford Center for the Performing Arts 351 University Ave. Oxford MS 38655 United States;X-APPLE-RADIUS=500;X-TITLE=351 University Ave.:geo:-89.5288993,34.3654343
END:VEVENT
BEGIN:VEVENT
DTSTART;TZID=America/Chicago:20250411T193000
DTEND;TZID=America/Chicago:20250412T213000
DTSTAMP:20260420T043113
CREATED:20250328T151134Z
LAST-MODIFIED:20250407T143347Z
UID:10000866-1744399800-1744493400@www.visitoxfordms.com.cft1.a2hosted.com
SUMMARY:I Love You\, You’re Perfect\, Now Change
DESCRIPTION:Theatre Oxford’s I Love You\, You’re Perfect\, Now Change tells the Eternal Story of Venus and Mars in today’s world. For ticket information visit theatreoxford.org. 
URL:http://www.visitoxfordms.com.cft1.a2hosted.com/event/i-love-you-youre-perfect-now-change/
LOCATION:The Powerhouse\, Oxford\, MS\, 38655
CATEGORIES:Performing Arts
ATTACH;FMTTYPE=image/jpeg:http://visit-oxford.s3.amazonaws.com/wp-content/uploads/2025/03/28100604/Photo-1-I-LOVE-YOU-Briana-Brown-Justin-Wadkins-Susan-Bradley-Bill-Taylor-Jean-Gispen-Kapani-Kirkland-Andrew-Robertson-scaled.jpg
GEO:34.3664951;-89.5192484
END:VEVENT
BEGIN:VEVENT
DTSTART;TZID=America/Chicago:20250411T163000
DTEND;TZID=America/Chicago:20250413T170000
DTSTAMP:20260420T043113
CREATED:20250109T205843Z
LAST-MODIFIED:20250109T211342Z
UID:10000760-1744389000-1744563600@www.visitoxfordms.com.cft1.a2hosted.com
SUMMARY:Ole Miss Softball vs. Florida
DESCRIPTION:
URL:http://www.visitoxfordms.com.cft1.a2hosted.com/event/ole-miss-softball-vs-florida/
LOCATION:Ole Miss Softball Complex\, University\, MS\, 38677\, United States
CATEGORIES:Sports
ATTACH;FMTTYPE=image/jpeg:http://visit-oxford.s3.amazonaws.com/wp-content/uploads/2025/01/09123729/A6506CC4-F7C4-4AF0-98C0-6F07C53C6501_4_5005_c.jpeg
GEO:33.4555279;-88.7903868
END:VEVENT
BEGIN:VEVENT
DTSTART;TZID=America/Chicago:20250411T160000
DTEND;TZID=America/Chicago:20250413T170000
DTSTAMP:20260420T043113
CREATED:20250108T214919Z
LAST-MODIFIED:20250108T214919Z
UID:10000718-1744387200-1744563600@www.visitoxfordms.com.cft1.a2hosted.com
SUMMARY:Ole Miss Baseball vs. Tennessee
DESCRIPTION:
URL:http://www.visitoxfordms.com.cft1.a2hosted.com/event/ole-miss-baseball-vs-tennessee/
LOCATION:Swayze Field\, University\, MS\, 38655\, United States
CATEGORIES:Family Friendly,Sports
ATTACH;FMTTYPE=image/jpeg:http://visit-oxford.s3.amazonaws.com/wp-content/uploads/2025/01/08145638/GLJuDFuaMAAOjPB-scaled.jpeg
GEO:34.3679733;-89.532696
END:VEVENT
BEGIN:VEVENT
DTSTART;TZID=America/Chicago:20250411T113000
DTEND;TZID=America/Chicago:20250411T143000
DTSTAMP:20260420T043113
CREATED:20250225T151241Z
LAST-MODIFIED:20250225T151248Z
UID:10000815-1744371000-1744381800@www.visitoxfordms.com.cft1.a2hosted.com
SUMMARY:Mahj 4 a Cause
DESCRIPTION:
URL:http://www.visitoxfordms.com.cft1.a2hosted.com/event/mahj-4-a-cause/
LOCATION:Graduate Oxford\, 400 Noth Lamar Blvd\, Oxford\, MS\, 38655\, United States
CATEGORIES:Fundraiser
ATTACH;FMTTYPE=image/jpeg:http://visit-oxford.s3.amazonaws.com/wp-content/uploads/2025/02/25091233/IMG_4060.jpeg
GEO:34.3688605;-89.5179838
X-APPLE-STRUCTURED-LOCATION;VALUE=URI;X-ADDRESS=Graduate Oxford 400 Noth Lamar Blvd Oxford MS 38655 United States;X-APPLE-RADIUS=500;X-TITLE=400 Noth Lamar Blvd:geo:-89.5179838,34.3688605
END:VEVENT
BEGIN:VEVENT
DTSTART;TZID=America/Chicago:20250411T090000
DTEND;TZID=America/Chicago:20250411T140000
DTSTAMP:20260420T043113
CREATED:20250204T220928Z
LAST-MODIFIED:20250204T220928Z
UID:10000789-1744362000-1744380000@www.visitoxfordms.com.cft1.a2hosted.com
SUMMARY:Smash Cancer Pickleball Tournament
DESCRIPTION:
URL:http://www.visitoxfordms.com.cft1.a2hosted.com/event/smash-cancer-pickleball-tournament-2/
LOCATION:Oxford Activity Center\, 400 Price Street\, Oxford\, MS\, 38655
CATEGORIES:Fundraiser,Sports
ATTACH;FMTTYPE=image/png:http://visit-oxford.s3.amazonaws.com/wp-content/uploads/2025/02/04160756/Screenshot-2025-02-04-at-4.02.13%E2%80%AFPM.png
GEO:34.3749628;-89.5263919
X-APPLE-STRUCTURED-LOCATION;VALUE=URI;X-ADDRESS=Oxford Activity Center 400 Price Street Oxford MS 38655;X-APPLE-RADIUS=500;X-TITLE=400 Price Street:geo:-89.5263919,34.3749628
END:VEVENT
BEGIN:VEVENT
DTSTART;TZID=America/Chicago:20250410T193000
DTEND;TZID=America/Chicago:20250410T203000
DTSTAMP:20260420T043113
CREATED:20250103T215519Z
LAST-MODIFIED:20250402T221719Z
UID:10000650-1744313400-1744317000@www.visitoxfordms.com.cft1.a2hosted.com
SUMMARY:The Mississippians
DESCRIPTION:The Mississippians Jazz Ensemble is an 18-piece big band under the direction of Dr. Michael Worthy. Members of the band are University of Mississippi undergraduate and graduate students majoring in music and other academic disciplines. Students enroll for academic credit and meet for three fifty-minute rehearsals per week on MWF at 12:00. \nGuest artists and clinicians have included Chad Lefkowitz-Brown\, Cyrus Chestnut\, Tommy Igoe\, Julian Bliss\, Branford Marsalis\, Jeff Coffin & The Mu’tet\, Roy “Futureman” Wooten\, Mark Taylor\, Jim Snidero\, Marcus Printup\, Elliot Mason\, Ali Jackson\, and Kirk Whalum.
URL:http://www.visitoxfordms.com.cft1.a2hosted.com/event/the-mississippians/
LOCATION:Ole Miss Band Hall\, 542 University Avenue\, Oxford\, MS\, 38655
CATEGORIES:Music
ATTACH;FMTTYPE=image/png:http://visit-oxford.s3.amazonaws.com/wp-content/uploads/2025/01/02171712/4-10-25-The-Mississippians.png
END:VEVENT
BEGIN:VEVENT
DTSTART;TZID=America/Chicago:20250410T180000
DTEND;TZID=America/Chicago:20250410T180000
DTSTAMP:20260420T043113
CREATED:20250409T215248Z
LAST-MODIFIED:20250409T215303Z
UID:10000881-1744308000-1744308000@www.visitoxfordms.com.cft1.a2hosted.com
SUMMARY:Callie Collins for Walk Softly on This Heart of Mine
DESCRIPTION:About the book\n“Collins debuts with a finely tuned tale of artistic ambition and cultural shifts in\nthe 1970s Texas music scene…Brilliantly conveys the nitty-gritty details of a\nworking musician’s day-to-day. Music lovers will especially dig this.”\n–Kirkus Reviews \nAgainst the vibrant\, bluesy backdrop of 1970s Austin\, Texas\, this shimmering\ndebut follows the collision between hicks and hipsters that ultimately results in\ntragedy. \nAustin\, Texas is a town in the throes of social upheaval and the Rush Creek\nSaloon\, five miles on its outskirts\, is a bar without a crowd. Until a strange new\nhouse band transforms it from moribund honky-tonk to thriving blues bar. But are the throngs of people and the rowdy music worth the chaos that comes with them?\nWalk Softly on This Heart of Mine is told through three perspectives\, each of whom is in some ways responsible for the rebirth of Rush Creek and for the violence that follows in the afterbirth. Doug Moser\, a country-and-blues guitarist from San Antonio\, is seizing his long-awaited chance at fame but cannot turn away from the easy booze and drugs that come with the life. Deanna Teague owns Rush Creek. Her marriage is rocky and so is her sense of herself\, but she sees a crack of light if she can just hold it all together. And Steven Francis is a boy who loves too fiercely. He grapples with his sexuality\, his God\, and his place in a town where he badly wants to belong. In her heartfelt\, electrifying rockabilly ode to a place in a permanent state of becoming\, Collins has\ncaptured the roughhousing mood and paradoxical longings of the American psyche. The embrace of both inertia and danger\, the longing for freedom and anarchy even as we crave a place to belong. Walk Softly on This Heart of Mine is a time capsule stuffed with heat and booze\, electric guitar riffs and big\, empty spaces. It’s about the cost of fame—the real price of attention—and what it can do to a person\, to a community\, to a whole damn town. \nAbout the author\nCallie Collins is a queer writer and editor from Texas. She has an MFA from the University of Michigan\, where she was also a 2018-2019 Zell Postgraduate Fellow. She held a Fiction Fellowship at the Fine Arts Work Center in Provincetown\, Massachusetts from 2019-2020. She lives in Austin.
URL:http://www.visitoxfordms.com.cft1.a2hosted.com/event/callie-collins-for-walk-softly-on-this-heart-of-mine/
LOCATION:Off Square Books\, 129 Courthouse Square\, Oxford\, MS\, 38655\, United States
CATEGORIES:Literature
ATTACH;FMTTYPE=image/png:http://visit-oxford.s3.amazonaws.com/wp-content/uploads/2025/04/09132112/image.png
GEO:34.3656558;-89.5183482
X-APPLE-STRUCTURED-LOCATION;VALUE=URI;X-ADDRESS=Off Square Books 129 Courthouse Square Oxford MS 38655 United States;X-APPLE-RADIUS=500;X-TITLE=129 Courthouse Square:geo:-89.5183482,34.3656558
END:VEVENT
BEGIN:VEVENT
DTSTART;TZID=America/Chicago:20250410T180000
DTEND;TZID=America/Chicago:20250410T180000
DTSTAMP:20260420T043113
CREATED:20250314T153857Z
LAST-MODIFIED:20250314T153905Z
UID:10000835-1744308000-1744308000@www.visitoxfordms.com.cft1.a2hosted.com
SUMMARY:THACKER MOUNTAIN RADIO HOUR Callie Collins for Walk Softly on This Heart of Mine
DESCRIPTION:About the book \n“Collins debuts with a finely tuned tale of artistic ambition and cultural shifts in the 1970s Texas music scene…Brilliantly conveys the nitty-gritty details of a working musician’s day-to-day. Music lovers will especially dig this.”\n–Kirkus Reviews \nAgainst the vibrant\, bluesy backdrop of 1970s Austin\, Texas\, this shimmering debut follows the collision between hicks and hipsters that ultimately results in tragedy. \nAustin\, Texas is a town in the throes of social upheaval and the Rush Creek Saloon\, five miles on its outskirts\, is a bar without a crowd. Until a strange new house band transforms it from moribund honky-tonk to thriving blues bar. But \nare the throngs of people and the rowdy music worth the chaos that comes with them? \nWalk Softly on This Heart of Mine is told through three perspectives\, each of whom is in some ways responsible for the rebirth of Rush Creek and for the violence that follows in the afterbirth. Doug Moser\, a country-and-blues guitarist from San Antonio\, is seizing his long-awaited chance at fame but cannot turn away from the easy booze and drugs that come with the life. Deanna Teague owns Rush Creek. Her marriage is rocky and so is her sense of herself\, but she sees a crack of light if she can just hold it all together. And Steven Francis is a boy who loves too fiercely. He grapples with his sexuality\, his God\, and his place in a town where he badly wants to belong. \nIn her heartfelt\, electrifying rockabilly ode to a place in a permanent state of becoming\, Collins has captured the roughhousing mood and paradoxical longings of the American psyche. The embrace of both inertia and danger\, the longing for freedom and anarchy even as we crave a place to belong. Walk Softly on This Heart of Mine is a time capsule stuffed with heat and booze\, electric guitar riffs and big\, empty spaces. It’s about the cost of fame—the real price of attention—and what it can do to a person\, to a community\, to a whole damn town. \nAbout the author \nCallie Collins is a queer writer and editor from Texas. She has an MFA from the University of Michigan\, where she was also a 2018-2019 Zell Postgraduate Fellow. She held a Fiction Fellowship at the Fine Arts Work Center in Provincetown\, Massachusetts from 2019-2020. She lives in Austin
URL:http://www.visitoxfordms.com.cft1.a2hosted.com/event/thacker-mountain-radio-hour-callie-collins-for-walk-softly-on-this-heart-of-mine/
LOCATION:The Powerhouse\, Oxford\, MS\, 38655
CATEGORIES:Literature
ATTACH;FMTTYPE=image/png:http://visit-oxford.s3.amazonaws.com/wp-content/uploads/2025/03/14103540/831A2E2A-66E7-4FDF-B721-E02C31FF56CA.png
GEO:34.3664951;-89.5192484
END:VEVENT
BEGIN:VEVENT
DTSTART;TZID=America/Chicago:20250410T170000
DTEND;TZID=America/Chicago:20250410T200000
DTSTAMP:20260420T043113
CREATED:20250403T162711Z
LAST-MODIFIED:20250403T162711Z
UID:10000876-1744304400-1744315200@www.visitoxfordms.com.cft1.a2hosted.com
SUMMARY:Big Bad Business Workshop
DESCRIPTION:
URL:http://www.visitoxfordms.com.cft1.a2hosted.com/event/big-bad-business-workshop/
LOCATION:Oxford-Lafayette County Chamber of Commerce & Economic Development Foundation\, 299 W Jackson Avenue\, Oxford\, MS\, 38655\, United States
ATTACH;FMTTYPE=image/png:http://visit-oxford.s3.amazonaws.com/wp-content/uploads/2025/04/03112450/April-BBB-Poster.png
GEO:34.3708664;-89.5316327
X-APPLE-STRUCTURED-LOCATION;VALUE=URI;X-ADDRESS=Oxford-Lafayette County Chamber of Commerce & Economic Development Foundation 299 W Jackson Avenue Oxford MS 38655 United States;X-APPLE-RADIUS=500;X-TITLE=299 W Jackson Avenue:geo:-89.5316327,34.3708664
END:VEVENT
BEGIN:VEVENT
DTSTART;TZID=America/Chicago:20250409T190000
DTEND;TZID=America/Chicago:20250409T210000
DTSTAMP:20260420T043113
CREATED:20250328T150249Z
LAST-MODIFIED:20250328T150249Z
UID:10000865-1744225200-1744232400@www.visitoxfordms.com.cft1.a2hosted.com
SUMMARY:MFA Thesis Exhibition
DESCRIPTION:
URL:http://www.visitoxfordms.com.cft1.a2hosted.com/event/mfa-thesis-exhibition/
LOCATION:Malco Oxford Commons\, 206 Commonwealth Blvd.\, Oxford\, MS\, 38655
CATEGORIES:Free,Southern Studies
ATTACH;FMTTYPE=image/png:http://visit-oxford.s3.amazonaws.com/wp-content/uploads/2025/03/28100038/2025-MFA-Thesis-Exhibition.png
ORGANIZER;CN="Center for the Study of Southern Culture ":MAILTO:cssc@olemiss.edu
GEO:34.3732138;-89.4957299
X-APPLE-STRUCTURED-LOCATION;VALUE=URI;X-ADDRESS=Malco Oxford Commons 206 Commonwealth Blvd. Oxford MS 38655;X-APPLE-RADIUS=500;X-TITLE=206 Commonwealth Blvd.:geo:-89.4957299,34.3732138
END:VEVENT
BEGIN:VEVENT
DTSTART;TZID=America/Chicago:20250409T183000
DTEND;TZID=America/Chicago:20250409T183000
DTSTAMP:20260420T043114
CREATED:20241108T135128Z
LAST-MODIFIED:20241108T190320Z
UID:10000599-1744223400-1744223400@www.visitoxfordms.com.cft1.a2hosted.com
SUMMARY:Theo Von Return of the Rat
DESCRIPTION:THEO VON: RETURN OF THE RAT \nPresented by Concerts West \nWednesday\, April 9\, 2025 at 7:30 PM \nThe SJB Pavilion at Ole Miss \nDoors Open – 6:30 PM \nPresales for Ole Miss season ticket holders and students will begin tomorrow.  General Public tickets go on sale November 11 at 10 AM. \nTickets will be delivered 2 weeks prior to the show and may not be resold for any reason.  All tickets are mobile. Buy Tickets \n 
URL:http://www.visitoxfordms.com.cft1.a2hosted.com/event/theo-von-return-of-the-rat/
LOCATION:The Pavilion at Ole Miss\, Ole Miss Campus\, Oxford\, MS\, 38655\, United States
CATEGORIES:Music
ATTACH;FMTTYPE=image/png:http://visit-oxford.s3.amazonaws.com/wp-content/uploads/2024/11/08074636/Screenshot-2024-11-08-at-7.46.02%E2%80%AFAM.png
GEO:34.3668075;-89.5344228
X-APPLE-STRUCTURED-LOCATION;VALUE=URI;X-ADDRESS=The Pavilion at Ole Miss Ole Miss Campus Oxford MS 38655 United States;X-APPLE-RADIUS=500;X-TITLE=Ole Miss Campus:geo:-89.5344228,34.3668075
END:VEVENT
BEGIN:VEVENT
DTSTART;TZID=America/Chicago:20250409T160000
DTEND;TZID=America/Chicago:20250409T170000
DTSTAMP:20260420T043114
CREATED:20250108T214815Z
LAST-MODIFIED:20250108T220655Z
UID:10000717-1744214400-1744218000@www.visitoxfordms.com.cft1.a2hosted.com
SUMMARY:Ole Miss Baseball vs. Alcorn State
DESCRIPTION:
URL:http://www.visitoxfordms.com.cft1.a2hosted.com/event/ole-miss-baseball-vs-alcorn-state/
LOCATION:Swayze Field\, University\, MS\, 38655\, United States
CATEGORIES:Family Friendly,Sports
ATTACH;FMTTYPE=image/webp:http://visit-oxford.s3.amazonaws.com/wp-content/uploads/2025/01/08144405/fieild-.webp
GEO:34.3679733;-89.532696
END:VEVENT
BEGIN:VEVENT
DTSTART;TZID=America/Chicago:20250408T193000
DTEND;TZID=America/Chicago:20250408T193000
DTSTAMP:20260420T043114
CREATED:20250103T214748Z
LAST-MODIFIED:20250107T163945Z
UID:10000666-1744140600-1744140600@www.visitoxfordms.com.cft1.a2hosted.com
SUMMARY:Keyu Zheng MM Recital
DESCRIPTION:
URL:http://www.visitoxfordms.com.cft1.a2hosted.com/event/keyu-zheng-mm-recital/
LOCATION:David H. Nutt Auditorium\, Oxford\, MS\, 38655
CATEGORIES:Music
GEO:34.3664951;-89.5192484
END:VEVENT
BEGIN:VEVENT
DTSTART;TZID=America/Chicago:20250408T173000
DTEND;TZID=America/Chicago:20250408T193000
DTSTAMP:20260420T043114
CREATED:20250221T180915Z
LAST-MODIFIED:20250221T180937Z
UID:10000812-1744133400-1744140600@www.visitoxfordms.com.cft1.a2hosted.com
SUMMARY:Easter Eggstravaganza
DESCRIPTION:
URL:http://www.visitoxfordms.com.cft1.a2hosted.com/event/easter-eggstravaganza/
LOCATION:mTrade Park\, Oxford\, MS\, 38655
CATEGORIES:Family Friendly,Free,Holiday
ATTACH;FMTTYPE=image/png:http://visit-oxford.s3.amazonaws.com/wp-content/uploads/2025/02/21120609/original-DCC71306-DDAB-4C58-9090-DA4A8814071C.png
GEO:34.3668299;-89.518635
END:VEVENT
BEGIN:VEVENT
DTSTART;TZID=America/Chicago:20250408T170000
DTEND;TZID=America/Chicago:20250408T170000
DTSTAMP:20260420T043114
CREATED:20250109T185907Z
LAST-MODIFIED:20250109T205740Z
UID:10000759-1744131600-1744131600@www.visitoxfordms.com.cft1.a2hosted.com
SUMMARY:Ole Miss Softball vs. UT Martin
DESCRIPTION:
URL:http://www.visitoxfordms.com.cft1.a2hosted.com/event/ole-miss-softball-vs-ut-martin/
LOCATION:Ole Miss Softball Complex\, University\, MS\, 38677\, United States
CATEGORIES:Sports
ATTACH;FMTTYPE=image/jpeg:http://visit-oxford.s3.amazonaws.com/wp-content/uploads/2025/01/09124709/IMG_5725.jpg
GEO:33.4555279;-88.7903868
END:VEVENT
BEGIN:VEVENT
DTSTART;TZID=America/Chicago:20250407T193000
DTEND;TZID=America/Chicago:20250407T203000
DTSTAMP:20260420T043114
CREATED:20250331T183452Z
LAST-MODIFIED:20250331T183457Z
UID:10000869-1744054200-1744057800@www.visitoxfordms.com.cft1.a2hosted.com
SUMMARY:Sophie Wang Trio
DESCRIPTION:UM Music presents a Guest Artist Recital in Nutt Auditorium on Monday\, April 7th at 7:30pm featuring the Sophie Wang Trio. The trio will perform Piano Trio Op. 50 by Pyotr Ilyich Tchaikovsky. This event is free and open to the public.
URL:http://www.visitoxfordms.com.cft1.a2hosted.com/event/sophie-wang-trio/
LOCATION:David H. Nutt Auditorium\, Oxford\, MS\, 38655
ATTACH;FMTTYPE=image/png:http://visit-oxford.s3.amazonaws.com/wp-content/uploads/2025/03/31133307/4-7-25-Sophie-Wang-Trio.png
GEO:34.3664951;-89.5192484
END:VEVENT
BEGIN:VEVENT
DTSTART;TZID=America/Chicago:20250405T170000
DTEND;TZID=America/Chicago:20250405T190000
DTSTAMP:20260420T043114
CREATED:20250327T163118Z
LAST-MODIFIED:20250327T163118Z
UID:10000863-1743872400-1743879600@www.visitoxfordms.com.cft1.a2hosted.com
SUMMARY:The Banana Bar Crawl
DESCRIPTION:Banana suit provided 🍌
URL:http://www.visitoxfordms.com.cft1.a2hosted.com/event/the-banana-bar-crawl/
LOCATION:The Square\, MS
ATTACH;FMTTYPE=image/png:http://visit-oxford.s3.amazonaws.com/wp-content/uploads/2025/03/27112845/Screenshot-2025-03-27-at-11.18.36%E2%80%AFAM.png
GEO:32.3546679;-89.3985283
END:VEVENT
BEGIN:VEVENT
DTSTART;TZID=America/Chicago:20250405T160000
DTEND;TZID=America/Chicago:20250405T170000
DTSTAMP:20260420T043114
CREATED:20250402T205004Z
LAST-MODIFIED:20250402T205004Z
UID:10000874-1743868800-1743872400@www.visitoxfordms.com.cft1.a2hosted.com
SUMMARY:Laila Dinisco- Live at the Coop!
DESCRIPTION:
URL:http://www.visitoxfordms.com.cft1.a2hosted.com/event/laila-dinisco-live-at-the-coop/
LOCATION:The Coop @ The Graduate Hotel\, North Lamar Boulevard\, Oxford\, Mississippi\, 38655\, United States
CATEGORIES:Music
GEO:34.368733;-89.5178968
X-APPLE-STRUCTURED-LOCATION;VALUE=URI;X-ADDRESS=The Coop @ The Graduate Hotel North Lamar Boulevard Oxford Mississippi 38655 United States;X-APPLE-RADIUS=500;X-TITLE=North Lamar Boulevard:geo:-89.5178968,34.368733
END:VEVENT
BEGIN:VEVENT
DTSTART;TZID=America/Chicago:20250405T150000
DTEND;TZID=America/Chicago:20250405T180000
DTSTAMP:20260420T043114
CREATED:20250325T170733Z
LAST-MODIFIED:20250325T170733Z
UID:10000858-1743865200-1743876000@www.visitoxfordms.com.cft1.a2hosted.com
SUMMARY:Junior Auxiliary of Oxford Spring Fling
DESCRIPTION:
URL:http://www.visitoxfordms.com.cft1.a2hosted.com/event/junior-auxiliary-of-oxford-spring-fling-2/
LOCATION:The Powerhouse\, Oxford\, MS\, 38655
CATEGORIES:Fundraiser
ATTACH;FMTTYPE=image/png:http://visit-oxford.s3.amazonaws.com/wp-content/uploads/2025/03/25115514/Screenshot-2025-03-25-at-11.48.54%E2%80%AFAM.png
GEO:34.3664951;-89.5192484
END:VEVENT
BEGIN:VEVENT
DTSTART;TZID=America/Chicago:20250405T080000
DTEND;TZID=America/Chicago:20250405T170000
DTSTAMP:20260420T043114
CREATED:20250304T211846Z
LAST-MODIFIED:20250304T211847Z
UID:10000808-1743840000-1743872400@www.visitoxfordms.com.cft1.a2hosted.com
SUMMARY:Evey & Ellie's Annual Easter Eggstravaganza
DESCRIPTION:
URL:http://www.visitoxfordms.com.cft1.a2hosted.com/event/evey-ellies-annual-easter-eggstravaganza-2/
LOCATION:MS
CATEGORIES:Family Friendly,Holiday
ATTACH;FMTTYPE=image/png:http://visit-oxford.s3.amazonaws.com/wp-content/uploads/2025/02/18103013/Screenshot-2025-02-18-at-10.27.46%E2%80%AFAM-1.png
END:VEVENT
END:VCALENDAR