BEGIN:VCALENDAR
VERSION:2.0
PRODID:-//Visit Oxford MS - ECPv6.7.0//NONSGML v1.0//EN
CALSCALE:GREGORIAN
METHOD:PUBLISH
X-ORIGINAL-URL:http://www.visitoxfordms.com.cft1.a2hosted.com
X-WR-CALDESC:Events for Visit Oxford MS
REFRESH-INTERVAL;VALUE=DURATION:PT1H
X-Robots-Tag:noindex
X-PUBLISHED-TTL:PT1H
BEGIN:VTIMEZONE
TZID:America/Chicago
BEGIN:DAYLIGHT
TZOFFSETFROM:-0600
TZOFFSETTO:-0500
TZNAME:CDT
DTSTART:20240310T080000
END:DAYLIGHT
BEGIN:STANDARD
TZOFFSETFROM:-0500
TZOFFSETTO:-0600
TZNAME:CST
DTSTART:20241103T070000
END:STANDARD
END:VTIMEZONE
BEGIN:VEVENT
DTSTART;TZID=America/Chicago:20240126T100000
DTEND;TZID=America/Chicago:20240127T170000
DTSTAMP:20260419T201919
CREATED:20231222T155715Z
LAST-MODIFIED:20231222T155715Z
UID:10000315-1706263200-1706374800@www.visitoxfordms.com.cft1.a2hosted.com
SUMMARY:Bagwell Antique Show
DESCRIPTION:
URL:http://www.visitoxfordms.com.cft1.a2hosted.com/event/bagwell-antique-show/
LOCATION:Oxford Conference Center\, 102 Ed Perry Blvd\, Oxford\, MS\, 38655\, United States
CATEGORIES:Shopping
GEO:34.3715376;-89.499527
X-APPLE-STRUCTURED-LOCATION;VALUE=URI;X-ADDRESS=Oxford Conference Center 102 Ed Perry Blvd Oxford MS 38655 United States;X-APPLE-RADIUS=500;X-TITLE=102 Ed Perry Blvd:geo:-89.499527,34.3715376
END:VEVENT
END:VCALENDAR