BEGIN:VCALENDAR
VERSION:2.0
PRODID:-//Visit Oxford MS - ECPv6.7.0//NONSGML v1.0//EN
CALSCALE:GREGORIAN
METHOD:PUBLISH
X-ORIGINAL-URL:http://www.visitoxfordms.com.cft1.a2hosted.com
X-WR-CALDESC:Events for Visit Oxford MS
REFRESH-INTERVAL;VALUE=DURATION:PT1H
X-Robots-Tag:noindex
X-PUBLISHED-TTL:PT1H
BEGIN:VTIMEZONE
TZID:America/Chicago
BEGIN:DAYLIGHT
TZOFFSETFROM:-0600
TZOFFSETTO:-0500
TZNAME:CDT
DTSTART:20240310T080000
END:DAYLIGHT
BEGIN:STANDARD
TZOFFSETFROM:-0500
TZOFFSETTO:-0600
TZNAME:CST
DTSTART:20241103T070000
END:STANDARD
END:VTIMEZONE
BEGIN:VEVENT
DTSTART;TZID=America/Chicago:20240119T080000
DTEND;TZID=America/Chicago:20240120T170000
DTSTAMP:20260419T201829
CREATED:20231213T154419Z
LAST-MODIFIED:20231213T154445Z
UID:10000308-1705651200-1705770000@www.visitoxfordms.com.cft1.a2hosted.com
SUMMARY:Oxford Fiber Festival
DESCRIPTION:Hosted by All Y’all Fiber.\nOur Mission: To inspire\, preserve\, and develop the fiber arts in Mississippi and the South.
URL:http://www.visitoxfordms.com.cft1.a2hosted.com/event/oxford-fiber-festival/
LOCATION:The Powerhouse\, Oxford\, MS\, 38655
CATEGORIES:Art,Family Friendly,Shopping
ATTACH;FMTTYPE=image/png:http://visit-oxford.s3.amazonaws.com/wp-content/uploads/2023/12/13094337/Screenshot-2023-12-13-at-9.43.23-AM.png
GEO:34.3664951;-89.5192484
END:VEVENT
BEGIN:VEVENT
DTSTART;TZID=America/Chicago:20240120T090000
DTEND;TZID=America/Chicago:20240120T130000
DTSTAMP:20260419T201829
CREATED:20231222T155440Z
LAST-MODIFIED:20231222T155440Z
UID:10000314-1705741200-1705755600@www.visitoxfordms.com.cft1.a2hosted.com
SUMMARY:Indoor Yard Sale
DESCRIPTION:
URL:http://www.visitoxfordms.com.cft1.a2hosted.com/event/indoor-yard-sale/
LOCATION:Oxford Conference Center\, 102 Ed Perry Blvd\, Oxford\, MS\, 38655\, United States
CATEGORIES:Shopping
GEO:34.3715376;-89.499527
X-APPLE-STRUCTURED-LOCATION;VALUE=URI;X-ADDRESS=Oxford Conference Center 102 Ed Perry Blvd Oxford MS 38655 United States;X-APPLE-RADIUS=500;X-TITLE=102 Ed Perry Blvd:geo:-89.499527,34.3715376
END:VEVENT
END:VCALENDAR