BEGIN:VCALENDAR
VERSION:2.0
PRODID:-//Visit Oxford MS - ECPv6.7.0//NONSGML v1.0//EN
CALSCALE:GREGORIAN
METHOD:PUBLISH
X-ORIGINAL-URL:http://www.visitoxfordms.com.cft1.a2hosted.com
X-WR-CALDESC:Events for Visit Oxford MS
REFRESH-INTERVAL;VALUE=DURATION:PT1H
X-Robots-Tag:noindex
X-PUBLISHED-TTL:PT1H
BEGIN:VTIMEZONE
TZID:America/Chicago
BEGIN:DAYLIGHT
TZOFFSETFROM:-0600
TZOFFSETTO:-0500
TZNAME:CDT
DTSTART:20230312T080000
END:DAYLIGHT
BEGIN:STANDARD
TZOFFSETFROM:-0500
TZOFFSETTO:-0600
TZNAME:CST
DTSTART:20231105T070000
END:STANDARD
END:VTIMEZONE
BEGIN:VEVENT
DTSTART;TZID=America/Chicago:20231216T080000
DTEND;TZID=America/Chicago:20231216T170000
DTSTAMP:20260419T220048
CREATED:20231205T161709Z
LAST-MODIFIED:20231205T170950Z
UID:10000307-1702713600-1702746000@www.visitoxfordms.com.cft1.a2hosted.com
SUMMARY:A Stax Museum of American Soul Music Pop Up Experience: Soul for the Holidays
DESCRIPTION:
URL:http://www.visitoxfordms.com.cft1.a2hosted.com/event/a-stax-museum-of-american-soul-music-pop-up-experience-soul-for-the-holidays-2/
LOCATION:End of All Music\, 1423 N. Lamar Blvd\, Oxford\, MS\, 38655\, United States
CATEGORIES:Family Friendly,Free,Music,Outdoor,Shopping
GEO:34.384553;-89.5078067
X-APPLE-STRUCTURED-LOCATION;VALUE=URI;X-ADDRESS=End of All Music 1423 N. Lamar Blvd Oxford MS 38655 United States;X-APPLE-RADIUS=500;X-TITLE=1423 N. Lamar Blvd:geo:-89.5078067,34.384553
END:VEVENT
END:VCALENDAR