BEGIN:VCALENDAR
VERSION:2.0
PRODID:-//Visit Oxford MS - ECPv6.7.0//NONSGML v1.0//EN
CALSCALE:GREGORIAN
METHOD:PUBLISH
X-WR-CALNAME:Visit Oxford MS
X-ORIGINAL-URL:http://www.visitoxfordms.com.cft1.a2hosted.com
X-WR-CALDESC:Events for Visit Oxford MS
REFRESH-INTERVAL;VALUE=DURATION:PT1H
X-Robots-Tag:noindex
X-PUBLISHED-TTL:PT1H
BEGIN:VTIMEZONE
TZID:America/Chicago
BEGIN:DAYLIGHT
TZOFFSETFROM:-0600
TZOFFSETTO:-0500
TZNAME:CDT
DTSTART:20230312T080000
END:DAYLIGHT
BEGIN:STANDARD
TZOFFSETFROM:-0500
TZOFFSETTO:-0600
TZNAME:CST
DTSTART:20231105T070000
END:STANDARD
END:VTIMEZONE
BEGIN:VEVENT
DTSTART;VALUE=DATE:20231118
DTEND;VALUE=DATE:20231120
DTSTAMP:20260419T234559
CREATED:20231002T165213Z
LAST-MODIFIED:20231002T165634Z
UID:10000282-1700308800-1700395199@www.visitoxfordms.com.cft1.a2hosted.com
SUMMARY:Oxford Peppermint Trail Begins
DESCRIPTION:New this year with Holly Jolly Holidays! \n 
URL:http://www.visitoxfordms.com.cft1.a2hosted.com/event/oxford-peppermint-trail-begins/
LOCATION:MS
CATEGORIES:Culinary,Family Friendly,Shopping
ATTACH;FMTTYPE=image/png:http://visit-oxford.s3.amazonaws.com/wp-content/uploads/2023/09/19134028/unnamed-1-1-e1695742072725.png
END:VEVENT
END:VCALENDAR