BEGIN:VCALENDAR
VERSION:2.0
PRODID:-//Visit Oxford MS - ECPv6.7.0//NONSGML v1.0//EN
CALSCALE:GREGORIAN
METHOD:PUBLISH
X-ORIGINAL-URL:http://www.visitoxfordms.com.cft1.a2hosted.com
X-WR-CALDESC:Events for Visit Oxford MS
REFRESH-INTERVAL;VALUE=DURATION:PT1H
X-Robots-Tag:noindex
X-PUBLISHED-TTL:PT1H
BEGIN:VTIMEZONE
TZID:America/Chicago
BEGIN:DAYLIGHT
TZOFFSETFROM:-0600
TZOFFSETTO:-0500
TZNAME:CDT
DTSTART:20230312T080000
END:DAYLIGHT
BEGIN:STANDARD
TZOFFSETFROM:-0500
TZOFFSETTO:-0600
TZNAME:CST
DTSTART:20231105T070000
END:STANDARD
END:VTIMEZONE
BEGIN:VEVENT
DTSTART;TZID=America/Chicago:20231018T200000
DTEND;TZID=America/Chicago:20231018T220000
DTSTAMP:20260420T011658
CREATED:20230530T170932Z
LAST-MODIFIED:20230530T170932Z
UID:10000039-1697659200-1697666400@www.visitoxfordms.com.cft1.a2hosted.com
SUMMARY:Drew Holcomb & The Neighbors @ Lyric Oxford
DESCRIPTION:feat. Josiah and the Bonnevilles
URL:http://www.visitoxfordms.com.cft1.a2hosted.com/event/drew-holcomb-the-neighbors-lyric-oxford/
LOCATION:The Lyric\, 1006 Van Buren \, Oxford\, MS\, 38655\, United States
CATEGORIES:Music,Shopping
ATTACH;FMTTYPE=image/png:http://visit-oxford.s3.amazonaws.com/wp-content/uploads/2023/05/30120925/Screenshot-2023-05-30-at-12.09.18-PM.png
GEO:34.3662931;-89.5209192
X-APPLE-STRUCTURED-LOCATION;VALUE=URI;X-ADDRESS=The Lyric 1006 Van Buren  Oxford MS 38655 United States;X-APPLE-RADIUS=500;X-TITLE=1006 Van Buren:geo:-89.5209192,34.3662931
END:VEVENT
END:VCALENDAR