BEGIN:VCALENDAR
VERSION:2.0
PRODID:-//Visit Oxford MS - ECPv6.7.0//NONSGML v1.0//EN
CALSCALE:GREGORIAN
METHOD:PUBLISH
X-ORIGINAL-URL:http://www.visitoxfordms.com.cft1.a2hosted.com
X-WR-CALDESC:Events for Visit Oxford MS
REFRESH-INTERVAL;VALUE=DURATION:PT1H
X-Robots-Tag:noindex
X-PUBLISHED-TTL:PT1H
BEGIN:VTIMEZONE
TZID:America/Chicago
BEGIN:DAYLIGHT
TZOFFSETFROM:-0600
TZOFFSETTO:-0500
TZNAME:CDT
DTSTART:20240310T080000
END:DAYLIGHT
BEGIN:STANDARD
TZOFFSETFROM:-0500
TZOFFSETTO:-0600
TZNAME:CST
DTSTART:20241103T070000
END:STANDARD
END:VTIMEZONE
BEGIN:VEVENT
DTSTART;TZID=America/Chicago:20240211T140000
DTEND;TZID=America/Chicago:20240211T140000
DTSTAMP:20260424T175148
CREATED:20240201T173031Z
LAST-MODIFIED:20240201T173031Z
UID:10000330-1707660000-1707660000@www.visitoxfordms.com.cft1.a2hosted.com
SUMMARY:The Big Event Cupid Run 5K
DESCRIPTION:All profits benefit the largest student led volunteer day in the state of Mississippi
URL:http://www.visitoxfordms.com.cft1.a2hosted.com/event/the-big-event-cupid-run-5k/
CATEGORIES:Family Friendly,Fundraiser,Outdoor,Recreation
END:VEVENT
END:VCALENDAR