BEGIN:VCALENDAR
VERSION:2.0
PRODID:-//Visit Oxford MS - ECPv6.7.0//NONSGML v1.0//EN
CALSCALE:GREGORIAN
METHOD:PUBLISH
X-WR-CALNAME:Visit Oxford MS
X-ORIGINAL-URL:http://www.visitoxfordms.com.cft1.a2hosted.com
X-WR-CALDESC:Events for Visit Oxford MS
REFRESH-INTERVAL;VALUE=DURATION:PT1H
X-Robots-Tag:noindex
X-PUBLISHED-TTL:PT1H
BEGIN:VTIMEZONE
TZID:America/Chicago
BEGIN:DAYLIGHT
TZOFFSETFROM:-0600
TZOFFSETTO:-0500
TZNAME:CDT
DTSTART:20240310T080000
END:DAYLIGHT
BEGIN:STANDARD
TZOFFSETFROM:-0500
TZOFFSETTO:-0600
TZNAME:CST
DTSTART:20241103T070000
END:STANDARD
END:VTIMEZONE
BEGIN:VEVENT
DTSTART;TZID=America/Chicago:20241017T170000
DTEND;TZID=America/Chicago:20241017T190000
DTSTAMP:20260419T160110
CREATED:20240917T171959Z
LAST-MODIFIED:20240917T171959Z
UID:10000260-1729184400-1729191600@www.visitoxfordms.com.cft1.a2hosted.com
SUMMARY:Third Thursday Music in the Park
DESCRIPTION:
URL:http://www.visitoxfordms.com.cft1.a2hosted.com/event/third-thursday-music-in-the-park-5/
LOCATION:City Hall Pocket Park
CATEGORIES:Family Friendly,Free,Music,Outdoor
ATTACH;FMTTYPE=image/png:http://visit-oxford.s3.amazonaws.com/wp-content/uploads/2024/09/17121851/Screenshot-2024-09-17-at-9.59.41%E2%80%AFAM2.png
END:VEVENT
BEGIN:VEVENT
DTSTART;TZID=America/Chicago:20241017T170000
DTEND;TZID=America/Chicago:20241017T190000
DTSTAMP:20260419T160110
CREATED:20240826T172657Z
LAST-MODIFIED:20240826T172657Z
UID:10000450-1729184400-1729191600@www.visitoxfordms.com.cft1.a2hosted.com
SUMMARY:City of Oxford Trunk or Treat
DESCRIPTION:
URL:http://www.visitoxfordms.com.cft1.a2hosted.com/event/city-of-oxford-trunk-or-treat/
LOCATION:Oxford Conference Center\, 102 Ed Perry Blvd\, Oxford\, MS\, 38655\, United States
CATEGORIES:Family Friendly,Holiday,Outdoor
ATTACH;FMTTYPE=image/png:http://visit-oxford.s3.amazonaws.com/wp-content/uploads/2024/08/26122509/Trunk-or-Treat-2024.png
GEO:34.3715376;-89.499527
X-APPLE-STRUCTURED-LOCATION;VALUE=URI;X-ADDRESS=Oxford Conference Center 102 Ed Perry Blvd Oxford MS 38655 United States;X-APPLE-RADIUS=500;X-TITLE=102 Ed Perry Blvd:geo:-89.499527,34.3715376
END:VEVENT
BEGIN:VEVENT
DTSTART;TZID=America/Chicago:20241014T090000
DTEND;TZID=America/Chicago:20241014T090000
DTSTAMP:20260419T160110
CREATED:20240820T164430Z
LAST-MODIFIED:20240820T164430Z
UID:10000216-1728896400-1728896400@www.visitoxfordms.com.cft1.a2hosted.com
SUMMARY:Chamber of Commerce Golf Classic
DESCRIPTION:
URL:http://www.visitoxfordms.com.cft1.a2hosted.com/event/chamber-of-commerce-golf-classic/
LOCATION:Country Club of Oxford\, 300 Pinehurst Cove\, Oxford\, MS\, 38655\, United States
CATEGORIES:Outdoor,Sports
ATTACH;FMTTYPE=image/png:http://visit-oxford.s3.amazonaws.com/wp-content/uploads/2024/08/20114158/eec25826-c9c2-4a22-98f1-3aa1e49a343d.png
GEO:34.3345477;-89.502874
X-APPLE-STRUCTURED-LOCATION;VALUE=URI;X-ADDRESS=Country Club of Oxford 300 Pinehurst Cove Oxford MS 38655 United States;X-APPLE-RADIUS=500;X-TITLE=300 Pinehurst Cove:geo:-89.502874,34.3345477
END:VEVENT
BEGIN:VEVENT
DTSTART;TZID=America/Chicago:20241013T153000
DTEND;TZID=America/Chicago:20241013T170000
DTSTAMP:20260419T160110
CREATED:20240820T163501Z
LAST-MODIFIED:20240820T163501Z
UID:10000192-1728833400-1728838800@www.visitoxfordms.com.cft1.a2hosted.com
SUMMARY:Oxford on Skates
DESCRIPTION:
URL:http://www.visitoxfordms.com.cft1.a2hosted.com/event/oxford-on-skates-9/
LOCATION:Old Armory Pavilion\, 1801 University Avenue\, Oxford\, MS\, 38655\, United States
CATEGORIES:Family Friendly,Free,Outdoor
ATTACH;FMTTYPE=image/png:http://visit-oxford.s3.amazonaws.com/wp-content/uploads/2024/08/20113454/fb324ade7dd0ea98bb71bc695f4db1c4-1.png
GEO:34.3628616;-89.5108765
X-APPLE-STRUCTURED-LOCATION;VALUE=URI;X-ADDRESS=Old Armory Pavilion 1801 University Avenue Oxford MS 38655 United States;X-APPLE-RADIUS=500;X-TITLE=1801 University Avenue:geo:-89.5108765,34.3628616
END:VEVENT
BEGIN:VEVENT
DTSTART;TZID=America/Chicago:20240927T171500
DTEND;TZID=America/Chicago:20240927T190000
DTSTAMP:20260419T160110
CREATED:20240826T201607Z
LAST-MODIFIED:20240926T150534Z
UID:10000453-1727457300-1727463600@www.visitoxfordms.com.cft1.a2hosted.com
SUMMARY:Ole Miss Homecoming Parade
DESCRIPTION:
URL:http://www.visitoxfordms.com.cft1.a2hosted.com/event/ole-miss-homecoming-parade/
LOCATION:The Square\, MS
CATEGORIES:Family Friendly,Free,Outdoor
ATTACH;FMTTYPE=image/jpeg:http://visit-oxford.s3.amazonaws.com/wp-content/uploads/2024/08/26100359/HomecomingParade.jpg
GEO:32.3546679;-89.3985283
END:VEVENT
BEGIN:VEVENT
DTSTART;TZID=America/Chicago:20240919T170000
DTEND;TZID=America/Chicago:20240919T190000
DTSTAMP:20260419T160110
CREATED:20240917T160254Z
LAST-MODIFIED:20240917T171625Z
UID:10000257-1726765200-1726772400@www.visitoxfordms.com.cft1.a2hosted.com
SUMMARY:Third Thursday Music in the Park
DESCRIPTION:
URL:http://www.visitoxfordms.com.cft1.a2hosted.com/event/third-thursday-music-in-the-park-2/
LOCATION:City Hall Pocket Park
CATEGORIES:Family Friendly,Free,Music,Outdoor
ATTACH;FMTTYPE=image/png:http://visit-oxford.s3.amazonaws.com/wp-content/uploads/2024/09/17110130/Screenshot-2024-09-17-at-9.57.15%E2%80%AFAM1.png
END:VEVENT
BEGIN:VEVENT
DTSTART;TZID=America/Chicago:20240914T110000
DTEND;TZID=America/Chicago:20240914T140000
DTSTAMP:20260419T160110
CREATED:20240910T214947Z
LAST-MODIFIED:20240910T220300Z
UID:10000495-1726311600-1726322400@www.visitoxfordms.com.cft1.a2hosted.com
SUMMARY:9/11 Day of Service & Remembrance - Community Day with First Responders
DESCRIPTION:Join us for an afternoon with local first responders \nfollowing the 9/11 Memorial Stair Climb! \nMeet and interact with our dedicated first \nresponders\, who will be showcasing their \nemergency vehicles. Community Day is an \nopportunity for the whole family to explore and \nlearn. \nEnjoy a range of activities\, including emergency \nvehicles\, wings\, crafts\, a waterslide\, and age- \nappropriate information about 9/11.
URL:http://www.visitoxfordms.com.cft1.a2hosted.com/event/9-11-day-of-service-remembrance-community-day-with-first-responders/
LOCATION:Vaught-Hemmingway Stadium\, University of Mississippi\, MS\, 38677\, United States
CATEGORIES:Family Friendly,Free,Outdoor
ATTACH;FMTTYPE=image/jpeg:http://visit-oxford.s3.amazonaws.com/wp-content/uploads/2024/09/10170249/911-DOS-2023-312.jpg
GEO:34.3681689;-89.5370043
END:VEVENT
BEGIN:VEVENT
DTSTART;TZID=America/Chicago:20240914T070000
DTEND;TZID=America/Chicago:20240914T100000
DTSTAMP:20260419T160110
CREATED:20240910T214453Z
LAST-MODIFIED:20240910T220012Z
UID:10000494-1726297200-1726308000@www.visitoxfordms.com.cft1.a2hosted.com
SUMMARY:9/11 Day of Service and Remembrance - Memorial Stair Climb
DESCRIPTION:Each 9/11 Memorial Stair Climb participant pays tribute \nto a FDNY firefighter by climbing the equivalent of the \n110 stories of the World Trade Center. \nThis climbing tribute not only remembers the sacrifice of \nan FDNY firefighter\, but symbolically completes their \nheroic journey to save others. \nThrough community participation we ensure that each of \nthe 343 firefighters are honored and that the world \nknows that we will never forget.
URL:http://www.visitoxfordms.com.cft1.a2hosted.com/event/9-11-day-of-service-and-remembrance/
LOCATION:Vaught-Hemmingway Stadium\, University of Mississippi\, MS\, 38677\, United States
CATEGORIES:Free,Outdoor,Recreation
ATTACH;FMTTYPE=image/png:http://visit-oxford.s3.amazonaws.com/wp-content/uploads/2024/09/10165955/Screenshot-2024-09-10-at-4.59.28%E2%80%AFPM.png
GEO:34.3681689;-89.5370043
END:VEVENT
BEGIN:VEVENT
DTSTART;TZID=America/Chicago:20240818T153000
DTEND;TZID=America/Chicago:20240818T170000
DTSTAMP:20260419T160110
CREATED:20240625T150118Z
LAST-MODIFIED:20240625T150118Z
UID:10000411-1723995000-1724000400@www.visitoxfordms.com.cft1.a2hosted.com
SUMMARY:Oxford on Skates
DESCRIPTION:
URL:http://www.visitoxfordms.com.cft1.a2hosted.com/event/oxford-on-skates-7/
LOCATION:Old Armory Pavilion\, 1801 University Avenue\, Oxford\, MS\, 38655\, United States
CATEGORIES:Family Friendly,Free,Outdoor
ATTACH;FMTTYPE=image/jpeg:http://visit-oxford.s3.amazonaws.com/wp-content/uploads/2024/06/25095112/6bb3f5a7-5191-4f19-8301-6c9f0e03217f.jpg
GEO:34.3628616;-89.5108765
X-APPLE-STRUCTURED-LOCATION;VALUE=URI;X-ADDRESS=Old Armory Pavilion 1801 University Avenue Oxford MS 38655 United States;X-APPLE-RADIUS=500;X-TITLE=1801 University Avenue:geo:-89.5108765,34.3628616
END:VEVENT
BEGIN:VEVENT
DTSTART;TZID=America/Chicago:20240807T153000
DTEND;TZID=America/Chicago:20240807T170000
DTSTAMP:20260419T160110
CREATED:20240625T145958Z
LAST-MODIFIED:20240625T145958Z
UID:10000410-1723044600-1723050000@www.visitoxfordms.com.cft1.a2hosted.com
SUMMARY:Oxford on Skates
DESCRIPTION:
URL:http://www.visitoxfordms.com.cft1.a2hosted.com/event/oxford-on-skates-6/
LOCATION:Old Armory Pavilion\, 1801 University Avenue\, Oxford\, MS\, 38655\, United States
CATEGORIES:Family Friendly,Free,Outdoor
ATTACH;FMTTYPE=image/jpeg:http://visit-oxford.s3.amazonaws.com/wp-content/uploads/2024/06/25095112/6bb3f5a7-5191-4f19-8301-6c9f0e03217f.jpg
GEO:34.3628616;-89.5108765
X-APPLE-STRUCTURED-LOCATION;VALUE=URI;X-ADDRESS=Old Armory Pavilion 1801 University Avenue Oxford MS 38655 United States;X-APPLE-RADIUS=500;X-TITLE=1801 University Avenue:geo:-89.5108765,34.3628616
END:VEVENT
BEGIN:VEVENT
DTSTART;TZID=America/Chicago:20240728T153000
DTEND;TZID=America/Chicago:20240728T170000
DTSTAMP:20260419T160110
CREATED:20240625T145445Z
LAST-MODIFIED:20240625T145508Z
UID:10000408-1722180600-1722186000@www.visitoxfordms.com.cft1.a2hosted.com
SUMMARY:Oxford on Skates
DESCRIPTION:
URL:http://www.visitoxfordms.com.cft1.a2hosted.com/event/oxford-on-skates-4/
LOCATION:Old Armory Pavilion\, 1801 University Avenue\, Oxford\, MS\, 38655\, United States
CATEGORIES:Family Friendly,Free,Outdoor,Recreation
ATTACH;FMTTYPE=image/jpeg:http://visit-oxford.s3.amazonaws.com/wp-content/uploads/2024/06/25095112/6bb3f5a7-5191-4f19-8301-6c9f0e03217f.jpg
GEO:34.3628616;-89.5108765
X-APPLE-STRUCTURED-LOCATION;VALUE=URI;X-ADDRESS=Old Armory Pavilion 1801 University Avenue Oxford MS 38655 United States;X-APPLE-RADIUS=500;X-TITLE=1801 University Avenue:geo:-89.5108765,34.3628616
END:VEVENT
BEGIN:VEVENT
DTSTART;TZID=America/Chicago:20240717T153000
DTEND;TZID=America/Chicago:20240717T170000
DTSTAMP:20260419T160110
CREATED:20240625T145804Z
LAST-MODIFIED:20240625T145804Z
UID:10000409-1721230200-1721235600@www.visitoxfordms.com.cft1.a2hosted.com
SUMMARY:Oxford on Skates
DESCRIPTION:
URL:http://www.visitoxfordms.com.cft1.a2hosted.com/event/oxford-on-skates-5/
LOCATION:Old Armory Pavilion\, 1801 University Avenue\, Oxford\, MS\, 38655\, United States
CATEGORIES:Family Friendly,Free,Outdoor
ATTACH;FMTTYPE=image/jpeg:http://visit-oxford.s3.amazonaws.com/wp-content/uploads/2024/06/25095112/6bb3f5a7-5191-4f19-8301-6c9f0e03217f.jpg
GEO:34.3628616;-89.5108765
X-APPLE-STRUCTURED-LOCATION;VALUE=URI;X-ADDRESS=Old Armory Pavilion 1801 University Avenue Oxford MS 38655 United States;X-APPLE-RADIUS=500;X-TITLE=1801 University Avenue:geo:-89.5108765,34.3628616
END:VEVENT
BEGIN:VEVENT
DTSTART;TZID=America/Chicago:20240716T173000
DTEND;TZID=America/Chicago:20240716T193000
DTSTAMP:20260419T160110
CREATED:20240625T145236Z
LAST-MODIFIED:20240625T145236Z
UID:10000407-1721151000-1721158200@www.visitoxfordms.com.cft1.a2hosted.com
SUMMARY:Pirate for a Day
DESCRIPTION:
URL:http://www.visitoxfordms.com.cft1.a2hosted.com/event/pirate-for-a-day/
LOCATION:Avent Park\, Oxford\, MS\, 38655\, United States
CATEGORIES:Family Friendly,Outdoor
ATTACH;FMTTYPE=image/jpeg:http://visit-oxford.s3.amazonaws.com/wp-content/uploads/2024/06/25095057/43fc62ee-7c78-4bd3-8b0d-6855e6f34cd5.jpg
GEO:34.3664951;-89.5192484
END:VEVENT
BEGIN:VEVENT
DTSTART;TZID=America/Chicago:20240704T210000
DTEND;TZID=America/Chicago:20240704T210000
DTSTAMP:20260419T160110
CREATED:20240625T142809Z
LAST-MODIFIED:20240625T143152Z
UID:10000405-1720126800-1720126800@www.visitoxfordms.com.cft1.a2hosted.com
SUMMARY:4th of July Fireworks
DESCRIPTION:
URL:http://www.visitoxfordms.com.cft1.a2hosted.com/event/4th-of-july-fireworks/
LOCATION:Oxford High School\, 101 Charger Loop\, Oxford\, Mississippi\, 38655
CATEGORIES:Family Friendly,Free,Holiday,Outdoor
ATTACH;FMTTYPE=image/jpeg:http://visit-oxford.s3.amazonaws.com/wp-content/uploads/2024/06/25093141/449154216_855607899934347_9029686183155727831_n-2.jpg
GEO:34.3736741;-89.4876471
X-APPLE-STRUCTURED-LOCATION;VALUE=URI;X-ADDRESS=Oxford High School 101 Charger Loop Oxford Mississippi 38655;X-APPLE-RADIUS=500;X-TITLE=101 Charger Loop:geo:-89.4876471,34.3736741
END:VEVENT
BEGIN:VEVENT
DTSTART;TZID=America/Chicago:20240629T120000
DTEND;TZID=America/Chicago:20240629T140000
DTSTAMP:20260419T160110
CREATED:20240515T162635Z
LAST-MODIFIED:20240515T162635Z
UID:10000164-1719662400-1719669600@www.visitoxfordms.com.cft1.a2hosted.com
SUMMARY:Family Fun Fair
DESCRIPTION:
URL:http://www.visitoxfordms.com.cft1.a2hosted.com/event/family-fun-fair/
LOCATION:Old Armory Pavilion\, 1801 University Avenue\, Oxford\, MS\, 38655\, United States
CATEGORIES:Family Friendly,Outdoor
ATTACH;FMTTYPE=image/jpeg:http://visit-oxford.s3.amazonaws.com/wp-content/uploads/2024/05/15112249/e5c56dfb-8c6f-43d9-8be9-39f3dc3b6544.jpg
GEO:34.3628616;-89.5108765
X-APPLE-STRUCTURED-LOCATION;VALUE=URI;X-ADDRESS=Old Armory Pavilion 1801 University Avenue Oxford MS 38655 United States;X-APPLE-RADIUS=500;X-TITLE=1801 University Avenue:geo:-89.5108765,34.3628616
END:VEVENT
BEGIN:VEVENT
DTSTART;VALUE=DATE:20240615
DTEND;VALUE=DATE:20240617
DTSTAMP:20260419T160110
CREATED:20240506T155018Z
LAST-MODIFIED:20240506T155018Z
UID:10000387-1718452800-1718539199@www.visitoxfordms.com.cft1.a2hosted.com
SUMMARY:Oxford Juneteenth Festival
DESCRIPTION:
URL:http://www.visitoxfordms.com.cft1.a2hosted.com/event/oxford-juneteenth-festival/
LOCATION:MS
CATEGORIES:Family Friendly,Outdoor
ATTACH;FMTTYPE=image/jpeg:http://visit-oxford.s3.amazonaws.com/wp-content/uploads/2024/05/06104838/602ab540-1467-490d-b0c1-b29872621bc4.jpg
END:VEVENT
BEGIN:VEVENT
DTSTART;TZID=America/Chicago:20240608T180000
DTEND;TZID=America/Chicago:20240608T210000
DTSTAMP:20260419T160110
CREATED:20240506T154720Z
LAST-MODIFIED:20240506T154720Z
UID:10000386-1717869600-1717880400@www.visitoxfordms.com.cft1.a2hosted.com
SUMMARY:Linen on the Lawn
DESCRIPTION:
URL:http://www.visitoxfordms.com.cft1.a2hosted.com/event/linen-on-the-lawn/
LOCATION:Old Armory Pavilion\, 1801 University Avenue\, Oxford\, MS\, 38655\, United States
CATEGORIES:Outdoor,Recreation
GEO:34.3628616;-89.5108765
X-APPLE-STRUCTURED-LOCATION;VALUE=URI;X-ADDRESS=Old Armory Pavilion 1801 University Avenue Oxford MS 38655 United States;X-APPLE-RADIUS=500;X-TITLE=1801 University Avenue:geo:-89.5108765,34.3628616
END:VEVENT
BEGIN:VEVENT
DTSTART;TZID=America/Chicago:20240527T110000
DTEND;TZID=America/Chicago:20240527T140000
DTSTAMP:20260419T160110
CREATED:20240515T161957Z
LAST-MODIFIED:20240515T161957Z
UID:10000158-1716807600-1716818400@www.visitoxfordms.com.cft1.a2hosted.com
SUMMARY:Memorial Day Celebration
DESCRIPTION:
URL:http://www.visitoxfordms.com.cft1.a2hosted.com/event/memorial-day-celebration/
LOCATION:Veterans Park\, 125 Veterans Drive\, Oxford\, MS\, 38655
CATEGORIES:Holiday,Outdoor
GEO:34.3294759;-89.5203796
X-APPLE-STRUCTURED-LOCATION;VALUE=URI;X-ADDRESS=Veterans Park 125 Veterans Drive Oxford MS 38655;X-APPLE-RADIUS=500;X-TITLE=125 Veterans Drive:geo:-89.5203796,34.3294759
END:VEVENT
BEGIN:VEVENT
DTSTART;VALUE=DATE:20240518
DTEND;VALUE=DATE:20240520
DTSTAMP:20260419T160110
CREATED:20240416T142624Z
LAST-MODIFIED:20240416T142624Z
UID:10000179-1716033600-1716119999@www.visitoxfordms.com.cft1.a2hosted.com
SUMMARY:10th Annual Destination Oxford Car Show
DESCRIPTION:
URL:http://www.visitoxfordms.com.cft1.a2hosted.com/event/10th-annual-destination-oxford-car-show/
LOCATION:Downtown Square\, Courthouse Square\, Oxford\, MS\, 38655\, United States
CATEGORIES:Family Friendly,Free,Outdoor
GEO:34.3660762;-89.5192036
X-APPLE-STRUCTURED-LOCATION;VALUE=URI;X-ADDRESS=Downtown Square Courthouse Square Oxford MS 38655 United States;X-APPLE-RADIUS=500;X-TITLE=Courthouse Square:geo:-89.5192036,34.3660762
END:VEVENT
BEGIN:VEVENT
DTSTART;TZID=America/Chicago:20240505T153000
DTEND;TZID=America/Chicago:20240505T170000
DTSTAMP:20260419T160110
CREATED:20240403T150715Z
LAST-MODIFIED:20240403T150715Z
UID:10000376-1714923000-1714928400@www.visitoxfordms.com.cft1.a2hosted.com
SUMMARY:Oxford on Skates
DESCRIPTION:
URL:http://www.visitoxfordms.com.cft1.a2hosted.com/event/oxford-on-skates-3/
LOCATION:Old Armory Pavilion\, 1801 University Avenue\, Oxford\, MS\, 38655\, United States
CATEGORIES:Family Friendly,Free,Outdoor,Recreation
GEO:34.3628616;-89.5108765
X-APPLE-STRUCTURED-LOCATION;VALUE=URI;X-ADDRESS=Old Armory Pavilion 1801 University Avenue Oxford MS 38655 United States;X-APPLE-RADIUS=500;X-TITLE=1801 University Avenue:geo:-89.5108765,34.3628616
END:VEVENT
BEGIN:VEVENT
DTSTART;TZID=America/Chicago:20240505T140000
DTEND;TZID=America/Chicago:20240505T160000
DTSTAMP:20260419T160110
CREATED:20240501T161531Z
LAST-MODIFIED:20240501T161531Z
UID:10000380-1714917600-1714924800@www.visitoxfordms.com.cft1.a2hosted.com
SUMMARY:Cedar Oaks Free May Fest
DESCRIPTION:
URL:http://www.visitoxfordms.com.cft1.a2hosted.com/event/cedar-oaks-free-may-fest/
LOCATION:Cedar Oaks\, 601 Murray Dr.\, Oxford\, MS\, 38655\, United States
CATEGORIES:Family Friendly,Free,Outdoor
GEO:34.3777211;-89.5009969
X-APPLE-STRUCTURED-LOCATION;VALUE=URI;X-ADDRESS=Cedar Oaks 601 Murray Dr. Oxford MS 38655 United States;X-APPLE-RADIUS=500;X-TITLE=601 Murray Dr.:geo:-89.5009969,34.3777211
END:VEVENT
BEGIN:VEVENT
DTSTART;TZID=America/Chicago:20240427T073000
DTEND;TZID=America/Chicago:20240427T093000
DTSTAMP:20260419T160110
CREATED:20240411T170140Z
LAST-MODIFIED:20240411T170308Z
UID:10000161-1714203000-1714210200@www.visitoxfordms.com.cft1.a2hosted.com
SUMMARY:Double Decker Spring Run
DESCRIPTION:
URL:http://www.visitoxfordms.com.cft1.a2hosted.com/event/double-decker-spring-run/
LOCATION:MS
CATEGORIES:Family Friendly,Outdoor
END:VEVENT
BEGIN:VEVENT
DTSTART;VALUE=DATE:20240426
DTEND;VALUE=DATE:20240429
DTSTAMP:20260419T160110
CREATED:20230912T185243Z
LAST-MODIFIED:20230926T153240Z
UID:10000121-1714132800-1714305599@www.visitoxfordms.com.cft1.a2hosted.com
SUMMARY:Double Decker Arts Festival
DESCRIPTION:We are currently seeking sponsorships for the 2024 Double Decker Arts Festival. If you are interested in becoming a sponsor\, view our sponsorship levels below or view our sponsorship brochure. Please email Lee Ann\, Double Decker Coordinator at leeann@visitoxfordms.com for more information.\n  \nDOUBLE DECKER IS A JURIED ART SHOW\, ALL ITEMS MUST BE HAND MADE.  ART VENDORS MAY APPLY THROUGH ZAPPLICATION. THE LINK CAN BE ACCESSED HERE AND IS USUALLY AVAILABLE IN MID-NOVEMBER. \nTHE SPRING 2024 DOUBLE DECKER ARTS FESTIVAL WILL SEE THE OXFORD COURTHOUSE SQUARE FILLED WITH OVER 100 BOOTHS REPRESENTING ART FROM A RANGE OF DISCIPLINES. ARTISTS WILL BE PRESENT SATURDAY\, APRIL 27 10 A.M. – 5:30 P.M. \n  \nFOOD VENDORS FOR THE 2024 DOUBLE DECKER ARTS FESTIVAL WILL BE LOCATED AROUND THE COURTHOUSE SQUARE FROM 10 AM – 5:30 PM ON SATURDAY\, APRIL 27TH. \n  \nTHE MUSIC LINEUP WILL BE RELEASED IN FEBRUARY 2024. \n  \nDouble Decker Volunteer hours Friday April 26-Saturday April 27\, 2024: \nCheck back for sign-up links! \nThere will be a short\, mandatory meeting the week of the festival at Visit Oxford\, 1013 Jackson Avenue East (across from Funky’s Bar) to learn where to check-in\, understand where to park\, ask questions and know what is expected of you. \nIf you have any question call Visit Oxford @ 662.232.2477 \n 
URL:http://www.visitoxfordms.com.cft1.a2hosted.com/event/double-decker-arts-festival-4/
LOCATION:The Square\, MS
CATEGORIES:Art,Family Friendly,Free,Music,Outdoor
ATTACH;FMTTYPE=image/jpeg:http://visit-oxford.s3.amazonaws.com/wp-content/uploads/2022/09/16115434/8Q4A1675-scaled.jpeg
GEO:32.3546679;-89.3985283
END:VEVENT
BEGIN:VEVENT
DTSTART;TZID=America/Chicago:20240414T153000
DTEND;TZID=America/Chicago:20240414T170000
DTSTAMP:20260419T160110
CREATED:20240403T150614Z
LAST-MODIFIED:20240403T150900Z
UID:10000184-1713108600-1713114000@www.visitoxfordms.com.cft1.a2hosted.com
SUMMARY:Oxford on Skates
DESCRIPTION:
URL:http://www.visitoxfordms.com.cft1.a2hosted.com/event/oxford-on-skates-2/
LOCATION:Old Armory Pavilion\, 1801 University Avenue\, Oxford\, MS\, 38655\, United States
CATEGORIES:Family Friendly,Free,Outdoor,Recreation
GEO:34.3628616;-89.5108765
X-APPLE-STRUCTURED-LOCATION;VALUE=URI;X-ADDRESS=Old Armory Pavilion 1801 University Avenue Oxford MS 38655 United States;X-APPLE-RADIUS=500;X-TITLE=1801 University Avenue:geo:-89.5108765,34.3628616
END:VEVENT
BEGIN:VEVENT
DTSTART;TZID=America/Chicago:20240413T150000
DTEND;TZID=America/Chicago:20240413T170000
DTSTAMP:20260419T160110
CREATED:20240401T162701Z
LAST-MODIFIED:20240401T162701Z
UID:10000163-1713020400-1713027600@www.visitoxfordms.com.cft1.a2hosted.com
SUMMARY:Grove Bowl
DESCRIPTION:
URL:http://www.visitoxfordms.com.cft1.a2hosted.com/event/grove-bowl/
LOCATION:Vaught-Hemmingway Stadium\, University of Mississippi\, MS\, 38677\, United States
CATEGORIES:Family Friendly,Outdoor,Sports
GEO:34.3681689;-89.5370043
END:VEVENT
BEGIN:VEVENT
DTSTART;TZID=America/Chicago:20240413T080000
DTEND;TZID=America/Chicago:20240413T190000
DTSTAMP:20260419T160110
CREATED:20240401T162217Z
LAST-MODIFIED:20240401T162217Z
UID:10000159-1712995200-1713034800@www.visitoxfordms.com.cft1.a2hosted.com
SUMMARY:Mississippi Day
DESCRIPTION:Mississippi Day will return to our beautiful campus this spring\, and we cannot wait to see you there! Join us as we celebrate the state of Mississippi and the university’s contributions to its culture\, education\, health care and economy through hands-on activities\, demonstrations\, food and much more.
URL:http://www.visitoxfordms.com.cft1.a2hosted.com/event/mississippi-day/
LOCATION:University of Mississippi\, Oxford\, MS\, 38655\, United States
CATEGORIES:Art,Dance,Family Friendly,Free,Music,Outdoor,Recreation,Sports
GEO:34.3664951;-89.5192484
END:VEVENT
BEGIN:VEVENT
DTSTART;TZID=America/Chicago:20240330T080000
DTEND;TZID=America/Chicago:20240330T080000
DTSTAMP:20260419T160110
CREATED:20240318T144417Z
LAST-MODIFIED:20240318T144417Z
UID:10000135-1711785600-1711785600@www.visitoxfordms.com.cft1.a2hosted.com
SUMMARY:CASA Superhero 5K Run/Walk & Community Egg Hunt
DESCRIPTION:
URL:http://www.visitoxfordms.com.cft1.a2hosted.com/event/casa-superhero-5k-run-walk-community-egg-hunt/
LOCATION:Avent Park\, Oxford\, MS\, 38655\, United States
CATEGORIES:Family Friendly,Fundraiser,Outdoor
GEO:34.3664951;-89.5192484
END:VEVENT
BEGIN:VEVENT
DTSTART;TZID=America/Chicago:20240321T170000
DTEND;TZID=America/Chicago:20240321T190000
DTSTAMP:20260419T160110
CREATED:20240318T141307Z
LAST-MODIFIED:20240318T141338Z
UID:10000126-1711040400-1711047600@www.visitoxfordms.com.cft1.a2hosted.com
SUMMARY:Third Thursday with Alphonso Sanders
DESCRIPTION:
URL:http://www.visitoxfordms.com.cft1.a2hosted.com/event/third-thursday-with-alphonso-sanders/
LOCATION:MS
CATEGORIES:Free,Music,Outdoor
END:VEVENT
BEGIN:VEVENT
DTSTART;TZID=America/Chicago:20240302T120000
DTEND;TZID=America/Chicago:20240302T160000
DTSTAMP:20260419T160110
CREATED:20240222T170001Z
LAST-MODIFIED:20240222T170001Z
UID:10000110-1709380800-1709395200@www.visitoxfordms.com.cft1.a2hosted.com
SUMMARY:The Game of S.K.A.T.E. Tournament
DESCRIPTION:
URL:http://www.visitoxfordms.com.cft1.a2hosted.com/event/the-game-of-s-k-a-t-e-tournament/
LOCATION:Old Armory Pavilion\, 1801 University Avenue\, Oxford\, MS\, 38655\, United States
CATEGORIES:Family Friendly,Free,Outdoor,Recreation,Sports
GEO:34.3628616;-89.5108765
X-APPLE-STRUCTURED-LOCATION;VALUE=URI;X-ADDRESS=Old Armory Pavilion 1801 University Avenue Oxford MS 38655 United States;X-APPLE-RADIUS=500;X-TITLE=1801 University Avenue:geo:-89.5108765,34.3628616
END:VEVENT
BEGIN:VEVENT
DTSTART;TZID=America/Chicago:20240211T140000
DTEND;TZID=America/Chicago:20240211T140000
DTSTAMP:20260419T160110
CREATED:20240201T173031Z
LAST-MODIFIED:20240201T173031Z
UID:10000330-1707660000-1707660000@www.visitoxfordms.com.cft1.a2hosted.com
SUMMARY:The Big Event Cupid Run 5K
DESCRIPTION:All profits benefit the largest student led volunteer day in the state of Mississippi
URL:http://www.visitoxfordms.com.cft1.a2hosted.com/event/the-big-event-cupid-run-5k/
LOCATION:MS
CATEGORIES:Family Friendly,Fundraiser,Outdoor,Recreation
END:VEVENT
END:VCALENDAR