BEGIN:VCALENDAR
VERSION:2.0
PRODID:-//Visit Oxford MS - ECPv6.7.0//NONSGML v1.0//EN
CALSCALE:GREGORIAN
METHOD:PUBLISH
X-WR-CALNAME:Visit Oxford MS
X-ORIGINAL-URL:http://www.visitoxfordms.com.cft1.a2hosted.com
X-WR-CALDESC:Events for Visit Oxford MS
REFRESH-INTERVAL;VALUE=DURATION:PT1H
X-Robots-Tag:noindex
X-PUBLISHED-TTL:PT1H
BEGIN:VTIMEZONE
TZID:America/Chicago
BEGIN:DAYLIGHT
TZOFFSETFROM:-0600
TZOFFSETTO:-0500
TZNAME:CDT
DTSTART:20240310T080000
END:DAYLIGHT
BEGIN:STANDARD
TZOFFSETFROM:-0500
TZOFFSETTO:-0600
TZNAME:CST
DTSTART:20241103T070000
END:STANDARD
END:VTIMEZONE
BEGIN:VEVENT
DTSTART;TZID=America/Chicago:20240501T170000
DTEND;TZID=America/Chicago:20240504T210000
DTSTAMP:20260422T113057
CREATED:20240501T161935Z
LAST-MODIFIED:20240501T162120Z
UID:10000381-1714582800-1714856400@www.visitoxfordms.com.cft1.a2hosted.com
SUMMARY:Shriners Springfest
DESCRIPTION:
URL:http://www.visitoxfordms.com.cft1.a2hosted.com/event/shriners-springfest/
LOCATION:Lafayette County Multipurpose Arena\, 70 F.D. Buddy East Pkwy\, Oxford\, MS\, 38655
CATEGORIES:Family Friendly,Fundraiser
GEO:34.3678857;-89.5223249
X-APPLE-STRUCTURED-LOCATION;VALUE=URI;X-ADDRESS=Lafayette County Multipurpose Arena 70 F.D. Buddy East Pkwy Oxford MS 38655;X-APPLE-RADIUS=500;X-TITLE=70 F.D. Buddy East Pkwy:geo:-89.5223249,34.3678857
END:VEVENT
BEGIN:VEVENT
DTSTART;TZID=America/Chicago:20240504T150000
DTEND;TZID=America/Chicago:20240504T180000
DTSTAMP:20260422T113057
CREATED:20240409T185116Z
LAST-MODIFIED:20240409T185116Z
UID:10000378-1714834800-1714845600@www.visitoxfordms.com.cft1.a2hosted.com
SUMMARY:Junior Auxiliary of Oxford Spring Fling
DESCRIPTION:
URL:http://www.visitoxfordms.com.cft1.a2hosted.com/event/junior-auxiliary-of-oxford-spring-fling/
LOCATION:The Powerhouse\, Oxford\, MS\, 38655
CATEGORIES:Fundraiser
GEO:34.3664951;-89.5192484
END:VEVENT
BEGIN:VEVENT
DTSTART;TZID=America/Chicago:20240504T183000
DTEND;TZID=America/Chicago:20240504T183000
DTSTAMP:20260422T113057
CREATED:20240327T173716Z
LAST-MODIFIED:20240327T173716Z
UID:10000147-1714847400-1714847400@www.visitoxfordms.com.cft1.a2hosted.com
SUMMARY:Oxford Pride Drag Show Fundraiser
DESCRIPTION:
URL:http://www.visitoxfordms.com.cft1.a2hosted.com/event/oxford-pride-drag-show-fundraiser/
LOCATION:The Lyric\, 1006 Van Buren \, Oxford\, MS\, 38655\, United States
CATEGORIES:Fundraiser
GEO:34.3662931;-89.5209192
X-APPLE-STRUCTURED-LOCATION;VALUE=URI;X-ADDRESS=The Lyric 1006 Van Buren  Oxford MS 38655 United States;X-APPLE-RADIUS=500;X-TITLE=1006 Van Buren:geo:-89.5209192,34.3662931
END:VEVENT
END:VCALENDAR