BEGIN:VCALENDAR
VERSION:2.0
PRODID:-//Visit Oxford MS - ECPv6.7.0//NONSGML v1.0//EN
CALSCALE:GREGORIAN
METHOD:PUBLISH
X-WR-CALNAME:Visit Oxford MS
X-ORIGINAL-URL:http://www.visitoxfordms.com.cft1.a2hosted.com
X-WR-CALDESC:Events for Visit Oxford MS
REFRESH-INTERVAL;VALUE=DURATION:PT1H
X-Robots-Tag:noindex
X-PUBLISHED-TTL:PT1H
BEGIN:VTIMEZONE
TZID:America/Chicago
BEGIN:DAYLIGHT
TZOFFSETFROM:-0600
TZOFFSETTO:-0500
TZNAME:CDT
DTSTART:20250309T080000
END:DAYLIGHT
BEGIN:STANDARD
TZOFFSETFROM:-0500
TZOFFSETTO:-0600
TZNAME:CST
DTSTART:20251102T070000
END:STANDARD
END:VTIMEZONE
BEGIN:VEVENT
DTSTART;TZID=America/Chicago:20250109T180000
DTEND;TZID=America/Chicago:20250109T180000
DTSTAMP:20260419T190527
CREATED:20240926T143433Z
LAST-MODIFIED:20240926T143507Z
UID:10000518-1736445600-1736445600@www.visitoxfordms.com.cft1.a2hosted.com
SUMMARY:Sipp for a Cause: Benefiting Le Bonheur Children's Hospital
DESCRIPTION:
URL:http://www.visitoxfordms.com.cft1.a2hosted.com/event/sipp-for-a-cause-benefiting-le-bonheur-childrens-hospital/
LOCATION:The Sipp on South Lamar\, Oxford\, MS\, 38655
CATEGORIES:Culinary,Fundraiser
ATTACH;FMTTYPE=image/png:http://visit-oxford.s3.amazonaws.com/wp-content/uploads/2024/09/26093455/Screenshot-2024-09-26-at-9.34.45-AM.png
GEO:34.3668299;-89.518635
END:VEVENT
BEGIN:VEVENT
DTSTART;TZID=America/Chicago:20250121T000000
DTEND;TZID=America/Chicago:20250221T000000
DTSTAMP:20260419T190527
CREATED:20250211T175145Z
LAST-MODIFIED:20250211T175221Z
UID:10000797-1737417600-1740096000@www.visitoxfordms.com.cft1.a2hosted.com
SUMMARY:March of the Mayors
DESCRIPTION:
URL:http://www.visitoxfordms.com.cft1.a2hosted.com/event/march-of-the-mayors/
LOCATION:Old OPD Training Buliding\, Molly Barr Road\, Oxford\, MS\, 38655\, United States
CATEGORIES:Fundraiser
ATTACH;FMTTYPE=image/png:http://visit-oxford.s3.amazonaws.com/wp-content/uploads/2025/02/11115210/Screenshot-2025-02-11-at-11.48.35%E2%80%AFAM.png
GEO:34.3760773;-89.5271614
X-APPLE-STRUCTURED-LOCATION;VALUE=URI;X-ADDRESS=Old OPD Training Buliding Molly Barr Road Oxford MS 38655 United States;X-APPLE-RADIUS=500;X-TITLE=Molly Barr Road:geo:-89.5271614,34.3760773
END:VEVENT
BEGIN:VEVENT
DTSTART;TZID=America/Chicago:20250126T000000
DTEND;TZID=America/Chicago:20250126T000000
DTSTAMP:20260419T190527
CREATED:20250115T185107Z
LAST-MODIFIED:20250115T185113Z
UID:10000770-1737849600-1737849600@www.visitoxfordms.com.cft1.a2hosted.com
SUMMARY:Sunday Supper Fundraiser for Oxford Skateboarding Association
DESCRIPTION:
URL:http://www.visitoxfordms.com.cft1.a2hosted.com/event/sunday-supper-fundraiser-for-oxford-skateboarding-association/
LOCATION:SoLa\, 401 S. Lamar\, Oxford\, MS\, 38655\, United States
CATEGORIES:Culinary,Fundraiser
ATTACH;FMTTYPE=image/png:http://visit-oxford.s3.amazonaws.com/wp-content/uploads/2025/01/15124916/Screenshot-2025-01-15-at-12.48.45%E2%80%AFPM.png
GEO:34.3649397;-89.5187398
X-APPLE-STRUCTURED-LOCATION;VALUE=URI;X-ADDRESS=SoLa 401 S. Lamar Oxford MS 38655 United States;X-APPLE-RADIUS=500;X-TITLE=401 S. Lamar:geo:-89.5187398,34.3649397
END:VEVENT
END:VCALENDAR