BEGIN:VCALENDAR
VERSION:2.0
PRODID:-//Visit Oxford MS - ECPv6.7.0//NONSGML v1.0//EN
CALSCALE:GREGORIAN
METHOD:PUBLISH
X-WR-CALNAME:Visit Oxford MS
X-ORIGINAL-URL:http://www.visitoxfordms.com.cft1.a2hosted.com
X-WR-CALDESC:Events for Visit Oxford MS
REFRESH-INTERVAL;VALUE=DURATION:PT1H
X-Robots-Tag:noindex
X-PUBLISHED-TTL:PT1H
BEGIN:VTIMEZONE
TZID:America/Chicago
BEGIN:DAYLIGHT
TZOFFSETFROM:-0600
TZOFFSETTO:-0500
TZNAME:CDT
DTSTART:20240310T080000
END:DAYLIGHT
BEGIN:STANDARD
TZOFFSETFROM:-0500
TZOFFSETTO:-0600
TZNAME:CST
DTSTART:20241103T070000
END:STANDARD
END:VTIMEZONE
BEGIN:VEVENT
DTSTART;TZID=America/Chicago:20241206T180000
DTEND;TZID=America/Chicago:20241206T180000
DTSTAMP:20260419T205206
CREATED:20241031T185114Z
LAST-MODIFIED:20241126T153010Z
UID:10000584-1733508000-1733508000@www.visitoxfordms.com.cft1.a2hosted.com
SUMMARY:A Tackie Townie Christmas at Proud Larry's
DESCRIPTION:
URL:http://www.visitoxfordms.com.cft1.a2hosted.com/event/a-tackie-townie-christmas-at-proud-larrys/
LOCATION:Proud Larry’s\, Oxford\, MS\, MS\, United States
CATEGORIES:Fundraiser,Holiday
ATTACH;FMTTYPE=image/png:http://visit-oxford.s3.amazonaws.com/wp-content/uploads/2024/10/26092815/Screenshot-2024-11-26-at-9.24.24%E2%80%AFAM.png
GEO:34.3664951;-89.5192484
END:VEVENT
BEGIN:VEVENT
DTSTART;TZID=America/Chicago:20241207T100000
DTEND;TZID=America/Chicago:20241207T150000
DTSTAMP:20260419T205206
CREATED:20240918T201522Z
LAST-MODIFIED:20240918T201636Z
UID:10000263-1733565600-1733583600@www.visitoxfordms.com.cft1.a2hosted.com
SUMMARY:Doors of Hope Holiday House Tour
DESCRIPTION:
URL:http://www.visitoxfordms.com.cft1.a2hosted.com/event/door-of-hope-holiday-house-tour/
LOCATION:MS
CATEGORIES:Fundraiser,Holiday
ATTACH;FMTTYPE=image/png:http://visit-oxford.s3.amazonaws.com/wp-content/uploads/2024/09/18151424/C276AC49-3DA2-43D0-80C8-53F84F577424DOORS-OF-HOPEsavethedate-4-2.png
END:VEVENT
BEGIN:VEVENT
DTSTART;TZID=America/Chicago:20241213T190000
DTEND;TZID=America/Chicago:20241213T190000
DTSTAMP:20260419T205206
CREATED:20241018T192503Z
LAST-MODIFIED:20241018T193044Z
UID:10000566-1734116400-1734116400@www.visitoxfordms.com.cft1.a2hosted.com
SUMMARY:A Night with No Ceilings Sneaker Gala
DESCRIPTION:Join us as we celebrate the successes of 2024 and get ready for an impactful 2025. #NoCeilings.
URL:http://www.visitoxfordms.com.cft1.a2hosted.com/event/a-night-with-no-ceilings-sneaker-gala/
LOCATION:Inn at Ole Miss\, 120 Alumni Dr.\, Oxford\, MS\, 38655\, United States
CATEGORIES:Fundraiser
ATTACH;FMTTYPE=image/png:http://visit-oxford.s3.amazonaws.com/wp-content/uploads/2024/10/18140803/ANWNC1.png
END:VEVENT
END:VCALENDAR