BEGIN:VCALENDAR
VERSION:2.0
PRODID:-//Visit Oxford MS - ECPv6.7.0//NONSGML v1.0//EN
CALSCALE:GREGORIAN
METHOD:PUBLISH
X-ORIGINAL-URL:http://www.visitoxfordms.com.cft1.a2hosted.com
X-WR-CALDESC:Events for Visit Oxford MS
REFRESH-INTERVAL;VALUE=DURATION:PT1H
X-Robots-Tag:noindex
X-PUBLISHED-TTL:PT1H
BEGIN:VTIMEZONE
TZID:America/Chicago
BEGIN:DAYLIGHT
TZOFFSETFROM:-0600
TZOFFSETTO:-0500
TZNAME:CDT
DTSTART:20240310T080000
END:DAYLIGHT
BEGIN:STANDARD
TZOFFSETFROM:-0500
TZOFFSETTO:-0600
TZNAME:CST
DTSTART:20241103T070000
END:STANDARD
END:VTIMEZONE
BEGIN:VEVENT
DTSTART;VALUE=DATE:20241116
DTEND;VALUE=DATE:20241118
DTSTAMP:20260419T224410
CREATED:20241023T153743Z
LAST-MODIFIED:20241023T153743Z
UID:10000572-1731758400-1731844799@www.visitoxfordms.com.cft1.a2hosted.com
SUMMARY:Pregnancy Center of Oxford Steps 4 Life 5k
DESCRIPTION:
URL:http://www.visitoxfordms.com.cft1.a2hosted.com/event/pregnancy-center-of-oxford-steps-4-life-5k/
LOCATION:1943 North Lamar Blvd.\, North Lamar Boulevard\, Oxford\, MS\, 38655\, United States
CATEGORIES:Fundraiser,Outdoor
ATTACH;FMTTYPE=image/png:http://visit-oxford.s3.amazonaws.com/wp-content/uploads/2024/10/23103359/Screenshot-2024-10-23-at-10.32.28%E2%80%AFAM.png
GEO:34.3925392;-89.5094631
X-APPLE-STRUCTURED-LOCATION;VALUE=URI;X-ADDRESS=1943 North Lamar Blvd. North Lamar Boulevard Oxford MS 38655 United States;X-APPLE-RADIUS=500;X-TITLE=North Lamar Boulevard:geo:-89.5094631,34.3925392
END:VEVENT
END:VCALENDAR