BEGIN:VCALENDAR
VERSION:2.0
PRODID:-//Visit Oxford MS - ECPv6.7.0//NONSGML v1.0//EN
CALSCALE:GREGORIAN
METHOD:PUBLISH
X-ORIGINAL-URL:http://www.visitoxfordms.com.cft1.a2hosted.com
X-WR-CALDESC:Events for Visit Oxford MS
REFRESH-INTERVAL;VALUE=DURATION:PT1H
X-Robots-Tag:noindex
X-PUBLISHED-TTL:PT1H
BEGIN:VTIMEZONE
TZID:America/Chicago
BEGIN:DAYLIGHT
TZOFFSETFROM:-0600
TZOFFSETTO:-0500
TZNAME:CDT
DTSTART:20230312T080000
END:DAYLIGHT
BEGIN:STANDARD
TZOFFSETFROM:-0500
TZOFFSETTO:-0600
TZNAME:CST
DTSTART:20231105T070000
END:STANDARD
END:VTIMEZONE
BEGIN:VEVENT
DTSTART;TZID=America/Chicago:20231209T150000
DTEND;TZID=America/Chicago:20231209T170000
DTSTAMP:20260419T084254
CREATED:20231103T202320Z
LAST-MODIFIED:20231103T202320Z
UID:10000049-1702134000-1702141200@www.visitoxfordms.com.cft1.a2hosted.com
SUMMARY:Oxford Civic Chorus 25th Anniversary Winter Concert
DESCRIPTION:“Featuring John Rutter’s “Magnificat” and other familiar seasonal works such as “Sleigh Ride” and “12 Days of Christmas”\, Oxford Civic Chorus’ annual winter concert is sure to transport listeners straight into the heart of the holiday season! \nFree admission.\nDonations accepted in support of the 25th anniversary season.”
URL:http://www.visitoxfordms.com.cft1.a2hosted.com/event/oxford-civic-chorus-25th-anniversary-winter-concert/
LOCATION:David H. Nutt Auditorium\, Oxford\, MS\, 38655
CATEGORIES:Art,Family Friendly,Free,Holiday,Music,Performing Arts
GEO:34.3664951;-89.5192484
END:VEVENT
BEGIN:VEVENT
DTSTART;TZID=America/Chicago:20231207T163000
DTEND;TZID=America/Chicago:20231207T173000
DTSTAMP:20260419T084254
CREATED:20230824T194712Z
LAST-MODIFIED:20230824T194712Z
UID:10000069-1701966600-1701970200@www.visitoxfordms.com.cft1.a2hosted.com
SUMMARY:Museum Milkshake Mash-ups!
DESCRIPTION:Museum Milkshake Mash-up! \nFor Middle Schoolers & Teens\nGRADES 6-9 \nThe University of Mississippi Museum \nFALL 2023\n\n\nThursday\, Sept. 7th from 4:30pm-5:30pm\nThursday\, Oct. 12th from 4:30pm-5:30pm\nThursday\, Nov. 9th from 4:30pm-5:30pm\nThursday\, Dec. 7th from 4:30pm-5:30pm\n\nCOST: FREE (Donations accepted) \nunlimited milkshakes and toppings \nWe’ll mix 2 artists or themes into 1 fun art project. All art materials will be provided. \nSpace is limited. Pre-registration is required.\nEmail Curator of Education\, Rosa Salas\, at rvsalasg@olemiss.edu to reserve your spot by the Monday before each mash-up.
URL:http://www.visitoxfordms.com.cft1.a2hosted.com/event/museum-milkshake-mash-ups-2/2023-12-07/
LOCATION:University Museum\, Intersection of South 5th and University Ave. \, Oxford \, MS\, 38655\, United States
CATEGORIES:Family Friendly,Free
GEO:34.3647913;-89.5257906
X-APPLE-STRUCTURED-LOCATION;VALUE=URI;X-ADDRESS=University Museum Intersection of South 5th and University Ave.  Oxford  MS 38655 United States;X-APPLE-RADIUS=500;X-TITLE=Intersection of South 5th and University Ave.:geo:-89.5257906,34.3647913
END:VEVENT
BEGIN:VEVENT
DTSTART;TZID=America/Chicago:20231204T183000
DTEND;TZID=America/Chicago:20231204T183000
DTSTAMP:20260419T084254
CREATED:20230906T211601Z
LAST-MODIFIED:20231128T221645Z
UID:10000097-1701714600-1701714600@www.visitoxfordms.com.cft1.a2hosted.com
SUMMARY:Oxford Christmas Parade
DESCRIPTION:Join the Whoville fun in Oxford’s annual Christmas Parade Monday\, December 4 at 6:30 p.m.!
URL:http://www.visitoxfordms.com.cft1.a2hosted.com/event/oxford-christmas-parade-6/
LOCATION:Downtown Square\, Courthouse Square\, Oxford\, MS\, 38655\, United States
CATEGORIES:Family Friendly,Free,Holiday
GEO:34.3660762;-89.5192036
X-APPLE-STRUCTURED-LOCATION;VALUE=URI;X-ADDRESS=Downtown Square Courthouse Square Oxford MS 38655 United States;X-APPLE-RADIUS=500;X-TITLE=Courthouse Square:geo:-89.5192036,34.3660762
END:VEVENT
BEGIN:VEVENT
DTSTART;TZID=America/Chicago:20231204T140000
DTEND;TZID=America/Chicago:20231204T163000
DTSTAMP:20260419T084254
CREATED:20231121T165522Z
LAST-MODIFIED:20231121T190005Z
UID:10000052-1701698400-1701707400@www.visitoxfordms.com.cft1.a2hosted.com
SUMMARY:Santa is coming to Isom Place
DESCRIPTION:Santa Claus is coming to Isom Place! There will be a surprise visit from Ms. Claus and Santa’s elves\, hot chocolate\, cookies\, and photos! All entry is free.
URL:http://www.visitoxfordms.com.cft1.a2hosted.com/event/santa-is-coming-to-isom-place/
LOCATION:Isom Place\, 1003 Jefferson Ave\, Oxford\, MS\, 38655
CATEGORIES:Family Friendly,Free,Holiday
GEO:34.3691711;-89.5197909
X-APPLE-STRUCTURED-LOCATION;VALUE=URI;X-ADDRESS=Isom Place 1003 Jefferson Ave Oxford MS 38655;X-APPLE-RADIUS=500;X-TITLE=1003 Jefferson Ave:geo:-89.5197909,34.3691711
END:VEVENT
BEGIN:VEVENT
DTSTART;TZID=America/Chicago:20231201T180000
DTEND;TZID=America/Chicago:20231201T203000
DTSTAMP:20260419T084254
CREATED:20231128T212232Z
LAST-MODIFIED:20231128T220941Z
UID:10000305-1701453600-1701462600@www.visitoxfordms.com.cft1.a2hosted.com
SUMMARY:Thacker Mountain Radio Hour Holiday Membership Celebration
DESCRIPTION:
URL:http://www.visitoxfordms.com.cft1.a2hosted.com/event/thacker-mountain-radio-hour-holiday-membership-celebration/
LOCATION:Southside Gallery\, 150 Courthouse Square\, Oxford\, MS\, 38655\, United States
CATEGORIES:Art,Free,Holiday,Music
GEO:34.3664649;-89.5192246
X-APPLE-STRUCTURED-LOCATION;VALUE=URI;X-ADDRESS=Southside Gallery 150 Courthouse Square Oxford MS 38655 United States;X-APPLE-RADIUS=500;X-TITLE=150 Courthouse Square:geo:-89.5192246,34.3664649
END:VEVENT
BEGIN:VEVENT
DTSTART;TZID=America/Chicago:20231201T150000
DTEND;TZID=America/Chicago:20231201T180000
DTSTAMP:20260419T084254
CREATED:20231102T141448Z
LAST-MODIFIED:20231102T141806Z
UID:10000048-1701442800-1701453600@www.visitoxfordms.com.cft1.a2hosted.com
SUMMARY:Plein Air Christmas Market
DESCRIPTION:Greenery – Gifts – Food \nFREE ENTRY\, ALL WELCOME!
URL:http://www.visitoxfordms.com.cft1.a2hosted.com/event/plein-air-christmas-market/2023-12-01/
LOCATION:The Mill at Plein Air\, Taylor\, MS\, United States
CATEGORIES:Art,Culinary,Family Friendly,Free,Outdoor,Shopping
GEO:34.2723303;-89.5886948
END:VEVENT
BEGIN:VEVENT
DTSTART;VALUE=DATE:20231201
DTEND;VALUE=DATE:20231203
DTSTAMP:20260419T084254
CREATED:20230824T195046Z
LAST-MODIFIED:20230824T195046Z
UID:10000073-1701432000-1701518399@www.visitoxfordms.com.cft1.a2hosted.com
SUMMARY:First Friday Free Sketch
DESCRIPTION:First Friday Free Sketch FALL 2023 Dates! \nFriday\, AUGUST 4\, 2023\nFriday\, SEPTEMBER 1\, 2023\nFriday\, OCTOBER 6\, 2023\nFriday\, NOVEMBER 3\, 2023\nFriday\, DECEMBER 1\, 2023 \n10:00 a.m. – 5:00 p.m. (drop-in) \nThe University of Mississippi Museum\nCOST: FREE! \nThe University of Mississippi Museum opens its galleries for a free sketch session on the First Friday of each month. Drop in anytime from 10am-5pm! \nFREE sketch materials will be provided (first-come) or you are welcome to bring a sketchbook. \nLook for the Museum’s gallery sketching stools generously provided by a grant from the Lafayette Oxford Foundation for Tomorrow (LOFT) and explore the galleries in this self-guided free sketch session for all skill levels and ages. All children must be accompanied by an adult.
URL:http://www.visitoxfordms.com.cft1.a2hosted.com/event/first-friday-free-sketch-2/2023-12-01/
LOCATION:University Museum\, University Avenue & 5th St.\, Oxford\, MS\, 38655\, United States
CATEGORIES:Art,Family Friendly,Free
GEO:34.3647544;-89.5258114
X-APPLE-STRUCTURED-LOCATION;VALUE=URI;X-ADDRESS=University Museum University Avenue & 5th St. Oxford MS 38655 United States;X-APPLE-RADIUS=500;X-TITLE=University Avenue & 5th St.:geo:-89.5258114,34.3647544
END:VEVENT
BEGIN:VEVENT
DTSTART;TZID=America/Chicago:20231130T150000
DTEND;TZID=America/Chicago:20231130T180000
DTSTAMP:20260419T084254
CREATED:20231102T141448Z
LAST-MODIFIED:20231102T141806Z
UID:10000047-1701356400-1701367200@www.visitoxfordms.com.cft1.a2hosted.com
SUMMARY:Plein Air Christmas Market
DESCRIPTION:Greenery – Gifts – Food \nFREE ENTRY\, ALL WELCOME!
URL:http://www.visitoxfordms.com.cft1.a2hosted.com/event/plein-air-christmas-market/2023-11-30/
LOCATION:The Mill at Plein Air\, Taylor\, MS\, United States
CATEGORIES:Art,Culinary,Family Friendly,Free,Outdoor,Shopping
GEO:34.2723303;-89.5886948
END:VEVENT
BEGIN:VEVENT
DTSTART;TZID=America/Chicago:20231119T180000
DTEND;TZID=America/Chicago:20231119T183000
DTSTAMP:20260419T084254
CREATED:20231002T180234Z
LAST-MODIFIED:20231002T180234Z
UID:10000286-1700416800-1700418600@www.visitoxfordms.com.cft1.a2hosted.com
SUMMARY:Lighting of the Square for the holiday season!
DESCRIPTION:The Square’s holiday lights will be lit at 6pm!
URL:http://www.visitoxfordms.com.cft1.a2hosted.com/event/lighting-of-the-square-for-the-holiday-season/
LOCATION:The Square\, MS
CATEGORIES:Family Friendly,Free,Holiday,Outdoor
ATTACH;FMTTYPE=image/png:http://visit-oxford.s3.amazonaws.com/wp-content/uploads/2023/10/02121457/Screenshot-2023-10-02-at-12.00.59-PM.png
GEO:32.3546679;-89.3985283
END:VEVENT
BEGIN:VEVENT
DTSTART;TZID=America/Chicago:20231114T180000
DTEND;TZID=America/Chicago:20231114T193000
DTSTAMP:20260419T084254
CREATED:20231031T020455Z
LAST-MODIFIED:20231031T020517Z
UID:10000046-1699984800-1699990200@www.visitoxfordms.com.cft1.a2hosted.com
SUMMARY:Biggest\, Baddest Art Show by Oxford Artists' Guild
DESCRIPTION:Oxford Artists’ Guild\nBiggest\, Baddest Art Show\nDates:  November 3 – January 8\nLocation:  The Powerhouse\nMeet the artist Reception:  November 14 from 6 PM – 7:30 PM\n  \nMembers of Oxford Artists’ Guild are having their annual exclusive art show from November 3rd through January 8.  Works may be viewed during regular hours or after hours during special events.  All original works of various media will be on display and for sale on the walls of the historic Powerhouse.  Viewers will have the opportunity to vote for their favorite work.  A reception will be held on Tuesday\, November 14th from 6 – 7:30 PM.  Awards will be announced at 7:00.  The public is invited to attend.  For more information\, email oxfordartistsguild@gmail.com
URL:http://www.visitoxfordms.com.cft1.a2hosted.com/event/biggest-baddest-art-show-by-oxford-artists-guild/
LOCATION:MS
CATEGORIES:Art,Free
END:VEVENT
BEGIN:VEVENT
DTSTART;TZID=America/Chicago:20231109T163000
DTEND;TZID=America/Chicago:20231109T173000
DTSTAMP:20260419T084254
CREATED:20230824T194712Z
LAST-MODIFIED:20230824T194712Z
UID:10000068-1699547400-1699551000@www.visitoxfordms.com.cft1.a2hosted.com
SUMMARY:Museum Milkshake Mash-ups!
DESCRIPTION:Museum Milkshake Mash-up! \nFor Middle Schoolers & Teens\nGRADES 6-9 \nThe University of Mississippi Museum \nFALL 2023\n\n\nThursday\, Sept. 7th from 4:30pm-5:30pm\nThursday\, Oct. 12th from 4:30pm-5:30pm\nThursday\, Nov. 9th from 4:30pm-5:30pm\nThursday\, Dec. 7th from 4:30pm-5:30pm\n\nCOST: FREE (Donations accepted) \nunlimited milkshakes and toppings \nWe’ll mix 2 artists or themes into 1 fun art project. All art materials will be provided. \nSpace is limited. Pre-registration is required.\nEmail Curator of Education\, Rosa Salas\, at rvsalasg@olemiss.edu to reserve your spot by the Monday before each mash-up.
URL:http://www.visitoxfordms.com.cft1.a2hosted.com/event/museum-milkshake-mash-ups-2/2023-11-09/
LOCATION:University Museum\, Intersection of South 5th and University Ave. \, Oxford \, MS\, 38655\, United States
CATEGORIES:Family Friendly,Free
GEO:34.3647913;-89.5257906
X-APPLE-STRUCTURED-LOCATION;VALUE=URI;X-ADDRESS=University Museum Intersection of South 5th and University Ave.  Oxford  MS 38655 United States;X-APPLE-RADIUS=500;X-TITLE=Intersection of South 5th and University Ave.:geo:-89.5257906,34.3647913
END:VEVENT
BEGIN:VEVENT
DTSTART;TZID=America/Chicago:20231105T110000
DTEND;TZID=America/Chicago:20231105T140000
DTSTAMP:20260419T084254
CREATED:20230906T201752Z
LAST-MODIFIED:20231013T144143Z
UID:10000095-1699182000-1699192800@www.visitoxfordms.com.cft1.a2hosted.com
SUMMARY:Shop Oxford Holiday Open House
DESCRIPTION:Join the Oxford-Lafayette Chamber of Commerce as they celebrate Christmas Open House on the Square!
URL:http://www.visitoxfordms.com.cft1.a2hosted.com/event/shop-oxford-holiday-open-house/
LOCATION:MS
CATEGORIES:Family Friendly,Free,Holiday,Shopping
END:VEVENT
BEGIN:VEVENT
DTSTART;VALUE=DATE:20231103
DTEND;VALUE=DATE:20231105
DTSTAMP:20260419T084254
CREATED:20230824T195046Z
LAST-MODIFIED:20230824T195046Z
UID:10000072-1699012800-1699099199@www.visitoxfordms.com.cft1.a2hosted.com
SUMMARY:First Friday Free Sketch
DESCRIPTION:First Friday Free Sketch FALL 2023 Dates! \nFriday\, AUGUST 4\, 2023\nFriday\, SEPTEMBER 1\, 2023\nFriday\, OCTOBER 6\, 2023\nFriday\, NOVEMBER 3\, 2023\nFriday\, DECEMBER 1\, 2023 \n10:00 a.m. – 5:00 p.m. (drop-in) \nThe University of Mississippi Museum\nCOST: FREE! \nThe University of Mississippi Museum opens its galleries for a free sketch session on the First Friday of each month. Drop in anytime from 10am-5pm! \nFREE sketch materials will be provided (first-come) or you are welcome to bring a sketchbook. \nLook for the Museum’s gallery sketching stools generously provided by a grant from the Lafayette Oxford Foundation for Tomorrow (LOFT) and explore the galleries in this self-guided free sketch session for all skill levels and ages. All children must be accompanied by an adult.
URL:http://www.visitoxfordms.com.cft1.a2hosted.com/event/first-friday-free-sketch-2/2023-11-03/
LOCATION:University Museum\, University Avenue & 5th St.\, Oxford\, MS\, 38655\, United States
CATEGORIES:Art,Family Friendly,Free
GEO:34.3647544;-89.5258114
X-APPLE-STRUCTURED-LOCATION;VALUE=URI;X-ADDRESS=University Museum University Avenue & 5th St. Oxford MS 38655 United States;X-APPLE-RADIUS=500;X-TITLE=University Avenue & 5th St.:geo:-89.5258114,34.3647544
END:VEVENT
BEGIN:VEVENT
DTSTART;TZID=America/Chicago:20231102T180000
DTEND;TZID=America/Chicago:20231102T190000
DTSTAMP:20260419T084254
CREATED:20230906T194507Z
LAST-MODIFIED:20231027T181738Z
UID:10000093-1698948000-1698951600@www.visitoxfordms.com.cft1.a2hosted.com
SUMMARY:Thacker Mountain Radio Hour: Celebrating American Landscapes
DESCRIPTION:Thursday\, Nov. 2 at 6 pm – The Thacker Mountain Radio Hour returns to the The Lyric Oxford for a very special show celebrating Southern art\, literrature\, landscapes and culture. \nFREE Admission! \nDoors: 5:30 pm – Bar service available \nShow: 6 pm – The Lyric Oxford is located at 1006 Van Buren Ave. Oxford\, MS \nAuthor: William Dunlap\, Ke Francis and J. Richard Gruber –  American Landscapes: Meditations on Art and Literature in a Changing World – “A big\, elegant fish-fry of a book…” – Roy Blount\, Jr. \nAuthor: Luke Russert – Look for Me There: Grieving My Father\, Finding Myself  \nMusic: Rising Stars Fife and Drum Band – The Evolution of Fife and Drum Music \nMusic: Andrew Bryant – Prodigal Son \nHosts: Jim Dees with Paul Tate and the Yalobushwhackers \n 
URL:http://www.visitoxfordms.com.cft1.a2hosted.com/event/thacker-mountain-radio-hour-32/
LOCATION:The Lyric\, 1006 Van Buren \, Oxford\, MS\, 38655\, United States
CATEGORIES:Family Friendly,Free,Literature,Music
GEO:34.3662931;-89.5209192
X-APPLE-STRUCTURED-LOCATION;VALUE=URI;X-ADDRESS=The Lyric 1006 Van Buren  Oxford MS 38655 United States;X-APPLE-RADIUS=500;X-TITLE=1006 Van Buren:geo:-89.5209192,34.3662931
END:VEVENT
BEGIN:VEVENT
DTSTART;TZID=America/Chicago:20231030T163000
DTEND;TZID=America/Chicago:20231030T190000
DTSTAMP:20260419T084254
CREATED:20231020T161727Z
LAST-MODIFIED:20231020T161937Z
UID:10000042-1698683400-1698692400@www.visitoxfordms.com.cft1.a2hosted.com
SUMMARY:Trunk or Treat
DESCRIPTION:We can’t wait for you to join us for a fun\, family-friendly Halloween celebration! We are hosting our sixth annual Trunk or Treat event at Coleman Funeral Home starting at 4:30pm on Monday\, October 30th.\nWe are located at 601 Commerce Pkwy on Highway 7 South\, down past the Dollar General. Come have a night full of fun!
URL:http://www.visitoxfordms.com.cft1.a2hosted.com/event/trunk-or-treat/
LOCATION:Coleman Funeral Home\, 601 Commerce Parkway\, Oxford\, MS\, 38655
CATEGORIES:Family Friendly,Free
GEO:34.2987054;-89.5176288
X-APPLE-STRUCTURED-LOCATION;VALUE=URI;X-ADDRESS=Coleman Funeral Home 601 Commerce Parkway Oxford MS 38655;X-APPLE-RADIUS=500;X-TITLE=601 Commerce Parkway:geo:-89.5176288,34.2987054
END:VEVENT
BEGIN:VEVENT
DTSTART;TZID=America/Chicago:20231029T133000
DTEND;TZID=America/Chicago:20231029T153000
DTSTAMP:20260419T084254
CREATED:20231013T143628Z
LAST-MODIFIED:20231013T143628Z
UID:10000292-1698586200-1698593400@www.visitoxfordms.com.cft1.a2hosted.com
SUMMARY:Trick or Treat on the Cedar Oaks Trail
DESCRIPTION:
URL:http://www.visitoxfordms.com.cft1.a2hosted.com/event/trick-or-treat-on-the-cedar-oaks-trail/
LOCATION:Cedar Oaks\, 601 Murray Dr.\, Oxford\, MS\, 38655\, United States
CATEGORIES:Family Friendly,Free,Holiday
GEO:34.3777211;-89.5009969
X-APPLE-STRUCTURED-LOCATION;VALUE=URI;X-ADDRESS=Cedar Oaks 601 Murray Dr. Oxford MS 38655 United States;X-APPLE-RADIUS=500;X-TITLE=601 Murray Dr.:geo:-89.5009969,34.3777211
END:VEVENT
BEGIN:VEVENT
DTSTART;VALUE=DATE:20231029
DTEND;VALUE=DATE:20231031
DTSTAMP:20260419T084254
CREATED:20231026T170152Z
LAST-MODIFIED:20231026T170152Z
UID:10000044-1698580800-1698667199@www.visitoxfordms.com.cft1.a2hosted.com
SUMMARY:Yowl's On The Prowl
DESCRIPTION:Submit a picture of your cat in their favorite Halloween frills at t.ly/xObni by 11:59 PM on October 29\, 2023. Winners will be chosen on the 30th by our panel & announced on Halloween. The form can also be found here https://linktr.ee/9lcroxms\n*** If you are a business & would like to donate an item to go in the gift baskets for our winners\, please reach out. We always can provide a tax receipt & for this event also have the option to be mentioned or featured on our page.
URL:http://www.visitoxfordms.com.cft1.a2hosted.com/event/yowls-on-the-prowl/
LOCATION:MS
CATEGORIES:Family Friendly,Free,Fundraiser
END:VEVENT
BEGIN:VEVENT
DTSTART;TZID=America/Chicago:20231025T160000
DTEND;TZID=America/Chicago:20231025T193000
DTSTAMP:20260419T084254
CREATED:20231020T160034Z
LAST-MODIFIED:20231020T160034Z
UID:10000301-1698249600-1698262200@www.visitoxfordms.com.cft1.a2hosted.com
SUMMARY:Fall Youth Carnival
DESCRIPTION:We will be hosting a FREE fall youth carnival at the Oxford Activity Center from 4 to 7:30 p.m. on Wednesday\, October 25. \nWe will have a number of activities for children to take part in. This is open to all ages and members of the community to take part in.
URL:http://www.visitoxfordms.com.cft1.a2hosted.com/event/fall-youth-carnival/
LOCATION:Oxford Activity Center\, 400 Price Street\, Oxford\, MS\, 38655
CATEGORIES:Family Friendly,Free
GEO:34.3749628;-89.5263919
X-APPLE-STRUCTURED-LOCATION;VALUE=URI;X-ADDRESS=Oxford Activity Center 400 Price Street Oxford MS 38655;X-APPLE-RADIUS=500;X-TITLE=400 Price Street:geo:-89.5263919,34.3749628
END:VEVENT
BEGIN:VEVENT
DTSTART;TZID=America/Chicago:20231012T163000
DTEND;TZID=America/Chicago:20231012T173000
DTSTAMP:20260419T084254
CREATED:20230824T194712Z
LAST-MODIFIED:20230824T194712Z
UID:10000067-1697128200-1697131800@www.visitoxfordms.com.cft1.a2hosted.com
SUMMARY:Museum Milkshake Mash-ups!
DESCRIPTION:Museum Milkshake Mash-up! \nFor Middle Schoolers & Teens\nGRADES 6-9 \nThe University of Mississippi Museum \nFALL 2023\n\n\nThursday\, Sept. 7th from 4:30pm-5:30pm\nThursday\, Oct. 12th from 4:30pm-5:30pm\nThursday\, Nov. 9th from 4:30pm-5:30pm\nThursday\, Dec. 7th from 4:30pm-5:30pm\n\nCOST: FREE (Donations accepted) \nunlimited milkshakes and toppings \nWe’ll mix 2 artists or themes into 1 fun art project. All art materials will be provided. \nSpace is limited. Pre-registration is required.\nEmail Curator of Education\, Rosa Salas\, at rvsalasg@olemiss.edu to reserve your spot by the Monday before each mash-up.
URL:http://www.visitoxfordms.com.cft1.a2hosted.com/event/museum-milkshake-mash-ups-2/2023-10-12/
LOCATION:University Museum\, Intersection of South 5th and University Ave. \, Oxford \, MS\, 38655\, United States
CATEGORIES:Family Friendly,Free
GEO:34.3647913;-89.5257906
X-APPLE-STRUCTURED-LOCATION;VALUE=URI;X-ADDRESS=University Museum Intersection of South 5th and University Ave.  Oxford  MS 38655 United States;X-APPLE-RADIUS=500;X-TITLE=Intersection of South 5th and University Ave.:geo:-89.5257906,34.3647913
END:VEVENT
BEGIN:VEVENT
DTSTART;TZID=America/Chicago:20231006T180000
DTEND;TZID=America/Chicago:20231006T193000
DTSTAMP:20260419T084254
CREATED:20230926T155327Z
LAST-MODIFIED:20231002T193316Z
UID:10000124-1696615200-1696620600@www.visitoxfordms.com.cft1.a2hosted.com
SUMMARY:Square Jam
DESCRIPTION:Ole Miss Men’s and Women’s Basketball teams will participate in various competitions including a three-point contest\, dunk contest and more all in the historic downtown Square in front of City Hall!
URL:http://www.visitoxfordms.com.cft1.a2hosted.com/event/square-jam/
LOCATION:The Square\, MS
CATEGORIES:Family Friendly,Free,Outdoor,Sports
ATTACH;FMTTYPE=image/png:http://visit-oxford.s3.amazonaws.com/wp-content/uploads/2023/09/05110734/Screenshot-2023-09-05-at-11.07.01-AM.png
GEO:32.3546679;-89.3985283
END:VEVENT
BEGIN:VEVENT
DTSTART;VALUE=DATE:20231006
DTEND;VALUE=DATE:20231008
DTSTAMP:20260419T084254
CREATED:20230824T195046Z
LAST-MODIFIED:20230824T195046Z
UID:10000071-1696593600-1696679999@www.visitoxfordms.com.cft1.a2hosted.com
SUMMARY:First Friday Free Sketch
DESCRIPTION:First Friday Free Sketch FALL 2023 Dates! \nFriday\, AUGUST 4\, 2023\nFriday\, SEPTEMBER 1\, 2023\nFriday\, OCTOBER 6\, 2023\nFriday\, NOVEMBER 3\, 2023\nFriday\, DECEMBER 1\, 2023 \n10:00 a.m. – 5:00 p.m. (drop-in) \nThe University of Mississippi Museum\nCOST: FREE! \nThe University of Mississippi Museum opens its galleries for a free sketch session on the First Friday of each month. Drop in anytime from 10am-5pm! \nFREE sketch materials will be provided (first-come) or you are welcome to bring a sketchbook. \nLook for the Museum’s gallery sketching stools generously provided by a grant from the Lafayette Oxford Foundation for Tomorrow (LOFT) and explore the galleries in this self-guided free sketch session for all skill levels and ages. All children must be accompanied by an adult.
URL:http://www.visitoxfordms.com.cft1.a2hosted.com/event/first-friday-free-sketch-2/2023-10-06/
LOCATION:University Museum\, University Avenue & 5th St.\, Oxford\, MS\, 38655\, United States
CATEGORIES:Art,Family Friendly,Free
GEO:34.3647544;-89.5258114
X-APPLE-STRUCTURED-LOCATION;VALUE=URI;X-ADDRESS=University Museum University Avenue & 5th St. Oxford MS 38655 United States;X-APPLE-RADIUS=500;X-TITLE=University Avenue & 5th St.:geo:-89.5258114,34.3647544
END:VEVENT
BEGIN:VEVENT
DTSTART;TZID=America/Chicago:20230928T190000
DTEND;TZID=America/Chicago:20230928T210000
DTSTAMP:20260419T084254
CREATED:20230925T181543Z
LAST-MODIFIED:20230926T183739Z
UID:10000014-1695927600-1695934800@www.visitoxfordms.com.cft1.a2hosted.com
SUMMARY:Campus Clash
DESCRIPTION:GAMES-PRIZES-SPECIAL GUESTS! \n-Community gaming \n-Wildrose Kennel Dogs \n-Library Card Raffle \n-Ole Miss Legend Patrick Willis
URL:http://www.visitoxfordms.com.cft1.a2hosted.com/event/campus-clash/
LOCATION:E.F. Yerby Conference Center\, Grove Loop\, University\, 38677\, United States
CATEGORIES:Family Friendly,Free,Outdoor,Recreation,Sports
GEO:34.3661968;-89.5315467
X-APPLE-STRUCTURED-LOCATION;VALUE=URI;X-ADDRESS=E.F. Yerby Conference Center Grove Loop University 38677 United States;X-APPLE-RADIUS=500;X-TITLE=Grove Loop:geo:-89.5315467,34.3661968
END:VEVENT
BEGIN:VEVENT
DTSTART;TZID=America/Chicago:20230924T150000
DTEND;TZID=America/Chicago:20230924T170000
DTSTAMP:20260419T084254
CREATED:20220927T200308Z
LAST-MODIFIED:20230908T212856Z
UID:10000023-1695567600-1695574800@www.visitoxfordms.com.cft1.a2hosted.com
SUMMARY:Oxford on Skates
DESCRIPTION:FREE \nBring your own skates!
URL:http://www.visitoxfordms.com.cft1.a2hosted.com/event/oxford-on-skates/
LOCATION:Old Armory Pavilion\, 1801 University Avenue\, Oxford\, MS\, 38655\, United States
CATEGORIES:Family Friendly,Free,Outdoor
GEO:34.3628616;-89.5108765
X-APPLE-STRUCTURED-LOCATION;VALUE=URI;X-ADDRESS=Old Armory Pavilion 1801 University Avenue Oxford MS 38655 United States;X-APPLE-RADIUS=500;X-TITLE=1801 University Avenue:geo:-89.5108765,34.3628616
END:VEVENT
BEGIN:VEVENT
DTSTART;TZID=America/Chicago:20230923T100000
DTEND;TZID=America/Chicago:20230923T120000
DTSTAMP:20260419T084254
CREATED:20230824T192129Z
LAST-MODIFIED:20230824T192129Z
UID:10000065-1695463200-1695470400@www.visitoxfordms.com.cft1.a2hosted.com
SUMMARY:Buie Babies: Little Dressed Fleas
DESCRIPTION:The University of Mississippi Museum \nCOST: FREE!\nAges: 0–2\nBabies and toddlers must be accompanied by an adult at all times. \nFamilies with babies and toddlers\, join the University Museum and Kindermusik with Jeanne & Friends for our Museum Stroller Tour and Music Session! We begin our day with story time and have on display a special book selection for babies and toddlers. We will have a baby/toddler play-and-snack time using books and toys from The Lafayette County & Oxford Public Library and the North MS Child Care Resource and Referral Center. \nCoffee and refreshments will be provided.
URL:http://www.visitoxfordms.com.cft1.a2hosted.com/event/buie-babies-little-dressed-fleas/
LOCATION:University Museum\, Intersection of South 5th and University Ave. \, Oxford \, MS\, 38655\, United States
CATEGORIES:Free
GEO:34.3647913;-89.5257906
X-APPLE-STRUCTURED-LOCATION;VALUE=URI;X-ADDRESS=University Museum Intersection of South 5th and University Ave.  Oxford  MS 38655 United States;X-APPLE-RADIUS=500;X-TITLE=Intersection of South 5th and University Ave.:geo:-89.5257906,34.3647913
END:VEVENT
BEGIN:VEVENT
DTSTART;TZID=America/Chicago:20230921T170000
DTEND;TZID=America/Chicago:20230921T190000
DTSTAMP:20260419T084254
CREATED:20230825T193346Z
LAST-MODIFIED:20230831T200900Z
UID:10000077-1695315600-1695322800@www.visitoxfordms.com.cft1.a2hosted.com
SUMMARY:Third Thursday Music in the Park
DESCRIPTION:Join us for music 5-7 pm at the Pocket Park next to City Hall on the third Thursday of each month!
URL:http://www.visitoxfordms.com.cft1.a2hosted.com/event/third-thursday-music-in-the-park/
LOCATION:City Hall\, MS
CATEGORIES:Family Friendly,Free,Music,Outdoor
GEO:32.3546679;-89.3985283
END:VEVENT
BEGIN:VEVENT
DTSTART;TZID=America/Chicago:20230907T163000
DTEND;TZID=America/Chicago:20230907T173000
DTSTAMP:20260419T084254
CREATED:20230824T194712Z
LAST-MODIFIED:20230824T194712Z
UID:10000066-1694104200-1694107800@www.visitoxfordms.com.cft1.a2hosted.com
SUMMARY:Museum Milkshake Mash-ups!
DESCRIPTION:Museum Milkshake Mash-up! \nFor Middle Schoolers & Teens\nGRADES 6-9 \nThe University of Mississippi Museum \nFALL 2023\n\n\nThursday\, Sept. 7th from 4:30pm-5:30pm\nThursday\, Oct. 12th from 4:30pm-5:30pm\nThursday\, Nov. 9th from 4:30pm-5:30pm\nThursday\, Dec. 7th from 4:30pm-5:30pm\n\nCOST: FREE (Donations accepted) \nunlimited milkshakes and toppings \nWe’ll mix 2 artists or themes into 1 fun art project. All art materials will be provided. \nSpace is limited. Pre-registration is required.\nEmail Curator of Education\, Rosa Salas\, at rvsalasg@olemiss.edu to reserve your spot by the Monday before each mash-up.
URL:http://www.visitoxfordms.com.cft1.a2hosted.com/event/museum-milkshake-mash-ups-2/2023-09-07/
LOCATION:University Museum\, Intersection of South 5th and University Ave. \, Oxford \, MS\, 38655\, United States
CATEGORIES:Family Friendly,Free
GEO:34.3647913;-89.5257906
X-APPLE-STRUCTURED-LOCATION;VALUE=URI;X-ADDRESS=University Museum Intersection of South 5th and University Ave.  Oxford  MS 38655 United States;X-APPLE-RADIUS=500;X-TITLE=Intersection of South 5th and University Ave.:geo:-89.5257906,34.3647913
END:VEVENT
BEGIN:VEVENT
DTSTART;VALUE=DATE:20230901
DTEND;VALUE=DATE:20230903
DTSTAMP:20260419T084254
CREATED:20230824T195046Z
LAST-MODIFIED:20230824T195046Z
UID:10000070-1693569600-1693655999@www.visitoxfordms.com.cft1.a2hosted.com
SUMMARY:First Friday Free Sketch
DESCRIPTION:First Friday Free Sketch FALL 2023 Dates! \nFriday\, AUGUST 4\, 2023\nFriday\, SEPTEMBER 1\, 2023\nFriday\, OCTOBER 6\, 2023\nFriday\, NOVEMBER 3\, 2023\nFriday\, DECEMBER 1\, 2023 \n10:00 a.m. – 5:00 p.m. (drop-in) \nThe University of Mississippi Museum\nCOST: FREE! \nThe University of Mississippi Museum opens its galleries for a free sketch session on the First Friday of each month. Drop in anytime from 10am-5pm! \nFREE sketch materials will be provided (first-come) or you are welcome to bring a sketchbook. \nLook for the Museum’s gallery sketching stools generously provided by a grant from the Lafayette Oxford Foundation for Tomorrow (LOFT) and explore the galleries in this self-guided free sketch session for all skill levels and ages. All children must be accompanied by an adult.
URL:http://www.visitoxfordms.com.cft1.a2hosted.com/event/first-friday-free-sketch-2/2023-09-01/
LOCATION:University Museum\, University Avenue & 5th St.\, Oxford\, MS\, 38655\, United States
CATEGORIES:Art,Family Friendly,Free
GEO:34.3647544;-89.5258114
X-APPLE-STRUCTURED-LOCATION;VALUE=URI;X-ADDRESS=University Museum University Avenue & 5th St. Oxford MS 38655 United States;X-APPLE-RADIUS=500;X-TITLE=University Avenue & 5th St.:geo:-89.5258114,34.3647544
END:VEVENT
END:VCALENDAR