BEGIN:VCALENDAR
VERSION:2.0
PRODID:-//Visit Oxford MS - ECPv6.7.0//NONSGML v1.0//EN
CALSCALE:GREGORIAN
METHOD:PUBLISH
X-ORIGINAL-URL:http://www.visitoxfordms.com.cft1.a2hosted.com
X-WR-CALDESC:Events for Visit Oxford MS
REFRESH-INTERVAL;VALUE=DURATION:PT1H
X-Robots-Tag:noindex
X-PUBLISHED-TTL:PT1H
BEGIN:VTIMEZONE
TZID:America/Chicago
BEGIN:DAYLIGHT
TZOFFSETFROM:-0600
TZOFFSETTO:-0500
TZNAME:CDT
DTSTART:20250309T080000
END:DAYLIGHT
BEGIN:STANDARD
TZOFFSETFROM:-0500
TZOFFSETTO:-0600
TZNAME:CST
DTSTART:20251102T070000
END:STANDARD
END:VTIMEZONE
BEGIN:VEVENT
DTSTART;TZID=America/Chicago:20250611T173000
DTEND;TZID=America/Chicago:20250611T193000
DTSTAMP:20260419T102357
CREATED:20250604T192626Z
LAST-MODIFIED:20250604T192626Z
UID:10000982-1749663000-1749670200@www.visitoxfordms.com.cft1.a2hosted.com
SUMMARY:Summer Spritz: French Champagne Cocktail Tasting
DESCRIPTION:
URL:http://www.visitoxfordms.com.cft1.a2hosted.com/event/summer-spritz-french-champagne-cocktail-tasting/
LOCATION:The Sipp on South Lamar\, Oxford\, MS\, 38655
CATEGORIES:Culinary
ATTACH;FMTTYPE=image/png:http://visit-oxford.s3.amazonaws.com/wp-content/uploads/2025/06/04141921/the-sipp-bar-oxford-ms.png
GEO:34.3668299;-89.518635
END:VEVENT
END:VCALENDAR