BEGIN:VCALENDAR
VERSION:2.0
PRODID:-//Visit Oxford MS - ECPv6.7.0//NONSGML v1.0//EN
CALSCALE:GREGORIAN
METHOD:PUBLISH
X-WR-CALNAME:Visit Oxford MS
X-ORIGINAL-URL:http://www.visitoxfordms.com.cft1.a2hosted.com
X-WR-CALDESC:Events for Visit Oxford MS
REFRESH-INTERVAL;VALUE=DURATION:PT1H
X-Robots-Tag:noindex
X-PUBLISHED-TTL:PT1H
BEGIN:VTIMEZONE
TZID:America/Chicago
BEGIN:DAYLIGHT
TZOFFSETFROM:-0600
TZOFFSETTO:-0500
TZNAME:CDT
DTSTART:20240310T080000
END:DAYLIGHT
BEGIN:STANDARD
TZOFFSETFROM:-0500
TZOFFSETTO:-0600
TZNAME:CST
DTSTART:20241103T070000
END:STANDARD
END:VTIMEZONE
BEGIN:VEVENT
DTSTART;TZID=America/Chicago:20241030T173000
DTEND;TZID=America/Chicago:20241030T173000
DTSTAMP:20260419T224303
CREATED:20240926T142408Z
LAST-MODIFIED:20240926T142408Z
UID:10000515-1730309400-1730309400@www.visitoxfordms.com.cft1.a2hosted.com
SUMMARY:The Tasting Room: Spooky Sipps
DESCRIPTION:
URL:http://www.visitoxfordms.com.cft1.a2hosted.com/event/the-tasting-room-spooky-sipps/
LOCATION:The Sipp on South Lamar\, Oxford\, MS\, 38655
CATEGORIES:Culinary
ATTACH;FMTTYPE=image/png:http://visit-oxford.s3.amazonaws.com/wp-content/uploads/2024/09/26092318/Screenshot-2024-09-26-at-9.23.11-AM.png
GEO:34.3668299;-89.518635
END:VEVENT
END:VCALENDAR