BEGIN:VCALENDAR
VERSION:2.0
PRODID:-//Visit Oxford MS - ECPv6.7.0//NONSGML v1.0//EN
CALSCALE:GREGORIAN
METHOD:PUBLISH
X-ORIGINAL-URL:http://www.visitoxfordms.com.cft1.a2hosted.com
X-WR-CALDESC:Events for Visit Oxford MS
REFRESH-INTERVAL;VALUE=DURATION:PT1H
X-Robots-Tag:noindex
X-PUBLISHED-TTL:PT1H
BEGIN:VTIMEZONE
TZID:America/Chicago
BEGIN:DAYLIGHT
TZOFFSETFROM:-0600
TZOFFSETTO:-0500
TZNAME:CDT
DTSTART:20240310T080000
END:DAYLIGHT
BEGIN:STANDARD
TZOFFSETFROM:-0500
TZOFFSETTO:-0600
TZNAME:CST
DTSTART:20241103T070000
END:STANDARD
END:VTIMEZONE
BEGIN:VEVENT
DTSTART;TZID=America/Chicago:20241009T160000
DTEND;TZID=America/Chicago:20241009T173000
DTSTAMP:20260420T000726
CREATED:20240926T152035Z
LAST-MODIFIED:20240926T152035Z
UID:10000520-1728489600-1728495000@www.visitoxfordms.com.cft1.a2hosted.com
SUMMARY:Tasting Club: Potato Chips!
DESCRIPTION:Taste test several varieties of a Chicory product\, this month being potato chip flavors. Customers will be able to write product reviews which will be hung in store.
URL:http://www.visitoxfordms.com.cft1.a2hosted.com/event/tasting-club-potato-chips/
LOCATION:Chicory Market\, 707 North Lamar\, Oxford\, MS\, 38655
CATEGORIES:Culinary
ATTACH;FMTTYPE=image/png:http://visit-oxford.s3.amazonaws.com/wp-content/uploads/2024/09/26102022/Screenshot-2024-09-26-at-10.20.15-AM.png
GEO:34.3900055;-89.5076192
X-APPLE-STRUCTURED-LOCATION;VALUE=URI;X-ADDRESS=Chicory Market 707 North Lamar Oxford MS 38655;X-APPLE-RADIUS=500;X-TITLE=707 North Lamar:geo:-89.5076192,34.3900055
END:VEVENT
END:VCALENDAR