BEGIN:VCALENDAR
VERSION:2.0
PRODID:-//Visit Oxford MS - ECPv6.7.0//NONSGML v1.0//EN
CALSCALE:GREGORIAN
METHOD:PUBLISH
X-WR-CALNAME:Visit Oxford MS
X-ORIGINAL-URL:http://www.visitoxfordms.com.cft1.a2hosted.com
X-WR-CALDESC:Events for Visit Oxford MS
REFRESH-INTERVAL;VALUE=DURATION:PT1H
X-Robots-Tag:noindex
X-PUBLISHED-TTL:PT1H
BEGIN:VTIMEZONE
TZID:America/Chicago
BEGIN:DAYLIGHT
TZOFFSETFROM:-0600
TZOFFSETTO:-0500
TZNAME:CDT
DTSTART:20240310T080000
END:DAYLIGHT
BEGIN:STANDARD
TZOFFSETFROM:-0500
TZOFFSETTO:-0600
TZNAME:CST
DTSTART:20241103T070000
END:STANDARD
END:VTIMEZONE
BEGIN:VEVENT
DTSTART;VALUE=DATE:20240809
DTEND;VALUE=DATE:20240813
DTSTAMP:20260420T031954
CREATED:20240625T162330Z
LAST-MODIFIED:20240805T182301Z
UID:10000415-1723204800-1723463999@www.visitoxfordms.com.cft1.a2hosted.com
SUMMARY:Bit of the Sip
DESCRIPTION:
URL:http://www.visitoxfordms.com.cft1.a2hosted.com/event/bit-of-the-sip/
LOCATION:The Powerhouse\, Oxford\, MS\, 38655
CATEGORIES:Culinary
ATTACH;FMTTYPE=image/png:http://visit-oxford.s3.amazonaws.com/wp-content/uploads/2024/06/10125203/Screenshot-2024-07-10-at-12.50.37%E2%80%AFPM.png
GEO:34.3664951;-89.5192484
END:VEVENT
BEGIN:VEVENT
DTSTART;TZID=America/Chicago:20240811T140000
DTEND;TZID=America/Chicago:20240811T150000
DTSTAMP:20260420T031954
CREATED:20240626T160327Z
LAST-MODIFIED:20240626T160327Z
UID:10000418-1723384800-1723388400@www.visitoxfordms.com.cft1.a2hosted.com
SUMMARY:Bit of the Sip:  Wildfire in Wonderland Hot Sauce Class
DESCRIPTION:
URL:http://www.visitoxfordms.com.cft1.a2hosted.com/event/bit-of-the-sip-wildfire-in-wonderland-hot-sauce-class/
CATEGORIES:Culinary
ATTACH;FMTTYPE=image/png:http://visit-oxford.s3.amazonaws.com/wp-content/uploads/2024/06/26110053/logo_2.png
END:VEVENT
END:VCALENDAR