BEGIN:VCALENDAR
VERSION:2.0
PRODID:-//Visit Oxford MS - ECPv6.7.0//NONSGML v1.0//EN
CALSCALE:GREGORIAN
METHOD:PUBLISH
X-ORIGINAL-URL:http://www.visitoxfordms.com.cft1.a2hosted.com
X-WR-CALDESC:Events for Visit Oxford MS
REFRESH-INTERVAL;VALUE=DURATION:PT1H
X-Robots-Tag:noindex
X-PUBLISHED-TTL:PT1H
BEGIN:VTIMEZONE
TZID:America/Chicago
BEGIN:DAYLIGHT
TZOFFSETFROM:-0600
TZOFFSETTO:-0500
TZNAME:CDT
DTSTART:20250309T080000
END:DAYLIGHT
BEGIN:STANDARD
TZOFFSETFROM:-0500
TZOFFSETTO:-0600
TZNAME:CST
DTSTART:20251102T070000
END:STANDARD
END:VTIMEZONE
BEGIN:VEVENT
DTSTART;TZID=America/Chicago:20250220T110000
DTEND;TZID=America/Chicago:20250220T130000
DTSTAMP:20260419T154343
CREATED:20231204T161621Z
LAST-MODIFIED:20241231T160147Z
UID:10000306-1740049200-1740056400@www.visitoxfordms.com.cft1.a2hosted.com
SUMMARY:Empty Bowls Fundraiser Luncheon
DESCRIPTION:Save the Date for the Oxford Pantry’s upcoming Empty Bowls Fundraiser luncheon.  Approximately two-dozen restaurants will be providing their specialty soups and over twenty potters will be donating beautiful hand-crafted bowls for guests to choose their favorite to take home.
URL:http://www.visitoxfordms.com.cft1.a2hosted.com/event/empty-bowls-fundraiser-luncheon/
LOCATION:Oxford Conference Center\, 102 Ed Perry Blvd\, Oxford\, MS\, 38655\, United States
CATEGORIES:Culinary,Fundraiser
ATTACH;FMTTYPE=image/png:http://visit-oxford.s3.amazonaws.com/wp-content/uploads/2024/12/30164308/Screenshot-2024-12-30-at-4.39.39%E2%80%AFPM.png
GEO:34.3715376;-89.499527
X-APPLE-STRUCTURED-LOCATION;VALUE=URI;X-ADDRESS=Oxford Conference Center 102 Ed Perry Blvd Oxford MS 38655 United States;X-APPLE-RADIUS=500;X-TITLE=102 Ed Perry Blvd:geo:-89.499527,34.3715376
END:VEVENT
END:VCALENDAR